Workbook

Sheet Rekapitulácia
A2: Rekapitulácia rozpočtu | F2: Sadzby DPH
F3: A | G3: B
A4: Stavba Rímskokatolícky kostol Najsvätejšieho Kristovho Tela a Krvi v Stropkove - Obnova veže | F4: 0.2 | G4: 0
A6: Názov objektu | B6: ZRN | C6: VRN | D6: HZS | E6: Kompl.čin. | F6: Ost. náklady | G6: Cena
A7: SO 01 Obnova veže - ASR - architektonicko-stavebné riešenie | B7: ='SO 14616'!I166-Rekapitulácia!D7 -> 0 | C7: ='Kryci_list 14616'!J26 -> 0 | D7: 0 | E7: ='Kryci_list 14616'!J17 -> 0 | F7: 0 | G7: =B7+C7+D7+E7+F7 -> 0 | K7: ='SO 14616'!K166 -> 0 | Q7: 30.126
A8: SO 01 Obnova veže - USR - umelé osvetlenie a rozvody | B8: ='SO 14617'!I75-Rekapitulácia!D8 -> 0 | C8: ='Kryci_list 14617'!J26 -> 0 | D8: 0 | E8: ='Kryci_list 14617'!J17 -> 0 | F8: 0 | G8: =B8+C8+D8+E8+F8 -> 0 | K8: ='SO 14617'!K75 -> 0 | Q8: 30.126
A9: SO 01 Obnova veže - Reštaurátorské práce | B9: ='SO 14622'!I40-Rekapitulácia!D9 -> 0 | C9: ='Kryci_list 14622'!J26 -> 0 | D9: 0 | E9: ='Kryci_list 14622'!J17 -> 0 | F9: 0 | G9: =B9+C9+D9+E9+F9 -> 0 | K9: ='SO 14622'!K40 -> 0 | Q9: 30.126
A10: Celkom bez DPH | B10: =SUM(B7:B9) -> 0 | C10: =SUM(C7:C9) -> 0 | D10: =SUM(D7:D9) -> 0 | E10: =SUM(E7:E9) -> 0 | F10: =SUM(F7:F9) -> 0 | G10: =SUM(G7:G9)-SUM(Z7:Z9) -> 0
A11: DPH 20% z | B11: =G10-SUM(Rekapitulácia!K7:'Rekapitulácia'!K9)*1 -> 0 | G11: =ROUND(((ROUND(B11,2)*20)/100),2)*1 -> 0
A12: DPH 0% z | B12: =(G10-B11) -> 0 | G12: =ROUND(((ROUND(B12,2)*0)/100),2) -> 0
A13: Celkom v EUR | G13: =SUM(G10:G12) -> 0

Sheet Krycí list stavby
F1: Krycí list stavby | W1: 30.126
B2: Stavba Rímskokatolícky kostol Najsvätejšieho Kristovho Tela a Krvi v Stropkove - Obnova veže
I3: Miesto:
I4: Ks:
B5: Zákazka: | F5: Spracoval: Ing. Ján Halgaš | I5: Dňa | J5: 24.02.2020
B6: Odberateľ: Rímskokatolícka farnosť Najsvätejšieho Tela Pána Stropkov
B7: IČO: | G7: DIČ:
B8: Projektant:
B9: IČO: | G9: DIČ:
B10: Dodávateľ:
B11: IČO: | G11: DIČ:
B15: A | C15: ZRN | D15: Montáž | E15: Materiál | F15: ZRN spolu | G15: B | H15: Ďalšie náklady
B16: 1 | C16: HSV | D16: ='Kryci_list 14616'!D16+'Kryci_list 14617'!D16+'Kryci_list 14622'!D16 -> 0 | E16: ='Kryci_list 14616'!E16+'Kryci_list 14617'!E16+'Kryci_list 14622'!E16 -> 0 | F16: ='Kryci_list 14616'!F16+'Kryci_list 14617'!F16+'Kryci_list 14622'!F16 -> 0 | G16: 6 | H16: Ostatné náklady | J16: =Rekapitulácia!F10 -> 0
B17: 2 | C17: PSV | D17: ='Kryci_list 14616'!D17+'Kryci_list 14617'!D17+'Kryci_list 14622'!D17 -> 0 | E17: ='Kryci_list 14616'!E17+'Kryci_list 14617'!E17+'Kryci_list 14622'!E17 -> 0 | F17: ='Kryci_list 14616'!F17+'Kryci_list 14617'!F17+'Kryci_list 14622'!F17 -> 0 | G17: 7 | H17: Kompletačná činnosť | J17: =Rekapitulácia!E10 -> 0
B18: 3 | C18: MONT | D18: ='Kryci_list 14616'!D18+'Kryci_list 14617'!D18+'Kryci_list 14622'!D18 -> 0 | E18: ='Kryci_list 14616'!E18+'Kryci_list 14617'!E18+'Kryci_list 14622'!E18 -> 0 | F18: ='Kryci_list 14616'!F18+'Kryci_list 14617'!F18+'Kryci_list 14622'!F18 -> 0 | G18: 8 | H18: HZS | J18: =Rekapitulácia!D10 -> 0
B19: 4 | G19: 9
B20: 5 | C20: Spolu | F20: =SUM(F16:F19) -> 0 | G20: 10 | H20: Spolu | J20: =SUM(J16:J19) -> 0
B21: C | C21: VRN | G21: D | H21: VRN
B22: 11 | C22: Zariadenie staveniska | F22: ='Kryci_list 14616'!F22+'Kryci_list 14617'!F22+'Kryci_list 14622'!F22 -> 0 | G22: 16 | H22: Sťažené podmienky dopravy | J22: ='Kryci_list 14616'!J22+'Kryci_list 14617'!J22+'Kryci_list 14622'!J22 -> 0
B23: 12 | C23: Sťažené výrobné podmienky | F23: ='Kryci_list 14616'!F23+'Kryci_list 14617'!F23+'Kryci_list 14622'!F23 -> 0 | G23: 17 | H23: Horské oblasti | J23: ='Kryci_list 14616'!J23+'Kryci_list 14617'!J23+'Kryci_list 14622'!J23 -> 0
B24: 13 | C24: Prevádzkové vplyvy | F24: ='Kryci_list 14616'!F24+'Kryci_list 14617'!F24+'Kryci_list 14622'!F24 -> 0 | G24: 18 | H24: Mimostavenisková doprava | J24: ='Kryci_list 14616'!J24+'Kryci_list 14617'!J24+'Kryci_list 14622'!J24 -> 0
B25: 14 | G25: 19
B26: 15 | G26: 20 | H26: Spolu | J26: =SUM(J22:J25)+SUM(F22:F25) -> 0
C27: Projektant,rozpočtár | G27: E | H27: Celkové náklady
G28: 21 | H28: Súčet riadkov 5,10,15,20 | J28: =F20+J20+F26+J26 -> 0
G29: 22 | H29: DPH 20% z | I29: =Rekapitulácia!B11 -> 0 | J29: =ROUND(((ROUND(I29,2)*20)/100),2)*1 -> 0
G30: 23 | H30: DPH 0% z | I30: =Rekapitulácia!B12 -> 0 | J30: =ROUND(((ROUND(I30,2)*0)/100),2) -> 0
G31: 24 | H31: Spolu v EUR | J31: =SUM(J28:J30) -> 0
G32: F
D33: Odberateľ | H33: Dodávateľ

Sheet Kryci_list 14616
F1: Krycí list rozpočtu | W1: 30.126
B2: Stavba Rímskokatolícky kostol Najsvätejšieho Kristovho Tela a Krvi v Stropkove - Obnova veže
B3: Objekt SO 01 Obnova veže - ASR - architektonicko-stavebné riešenie | I3: Miesto:
I4: Ks:
B5: Zákazka: | F5: Spracoval: Ing. Ján Halgaš | I5: Dňa | J5: 24.02.2020
B6: Odberateľ: Rímskokatolícka farnosť Najsvätejšieho Tela Pána Stropkov
B7: IČO: | G7: DIČ:
B8: Projektant:
B9: IČO: | G9: DIČ:
B10: Dodávateľ:
B11: IČO: | G11: DIČ:
B15: A | C15: ZRN | D15: Montáž | E15: Materiál | F15: ZRN spolu | G15: B | H15: Ďalšie náklady
B16: 1 | C16: HSV | D16: ='Rekap 14616'!B18 -> 0 | E16: ='Rekap 14616'!C18 -> 0 | F16: ='Rekap 14616'!D18 -> 0 | G16: 6 | H16: Ostatné náklady | J16: 0
B17: 2 | C17: PSV | D17: ='Rekap 14616'!B27 -> 0 | E17: ='Rekap 14616'!C27 -> 0 | F17: ='Rekap 14616'!D27 -> 0 | G17: 7 | H17: Kompletačná činnosť | J17: ='SO 14616'!Z166 -> 0
B18: 3 | C18: MONT | G18: 8 | H18: HZS | J18: 0
B19: 4 | G19: 9
B20: 5 | C20: Spolu | F20: =SUM(F16:F19) -> 0 | G20: 10 | H20: Spolu | J20: =SUM(J16:J19) -> 0
B21: C | C21: VRN | G21: D | H21: VRN
B22: 11 | C22: Zariadenie staveniska | E22: 0% z [H+P+M] | F22: =((F16*U22*0)+(F17*V22*0)+(F18*W22*0))/100 -> 0 | G22: 16 | H22: Sťažené podmienky dopravy | I22: 0% z [H+P+M] | J22: =((F16*X22*0)+(F17*Y22*0)+(F18*Z22*0))/100 -> 0 | U22: 1 | V22: 1 | W22: 1 | X22: 1 | Y22: 1 | Z22: 1
B23: 12 | C23: Sťažené výrobné podmienky | E23: 0% z [H+P] | F23: =((F16*U23*0)+(F17*V23*0)+(F18*W23*0))/100 -> 0 | G23: 17 | H23: Horské oblasti | I23: 0% z [H+P+M] | J23: =((F16*X23*0)+(F17*Y23*0)+(F18*Z23*0))/100 -> 0 | U23: 1 | V23: 1 | W23: 0 | X23: 1 | Y23: 1 | Z23: 1
B24: 13 | C24: Prevádzkové vplyvy | E24: 0% z [H+P+M] | F24: =((F16*U24*0)+(F17*V24*0)+(F18*W24*0))/100 -> 0 | G24: 18 | H24: Mimostavenisková doprava | I24: 0% z [H+P] | J24: =((F16*X24*0)+(F17*Y24*0)+(F18*Z24*0))/100 -> 0 | U24: 1 | V24: 1 | W24: 1 | X24: 1 | Y24: 1 | Z24: 0
B25: 14 | G25: 19
B26: 15 | G26: 20 | H26: Spolu | J26: =SUM(J22:J25)+SUM(F22:F25) -> 0
C27: Projektant,rozpočtár | G27: E | H27: Celkové náklady
G28: 21 | H28: Súčet riadkov 5,10,15,20 | J28: =F20+J20+F26+J26 -> 0
G29: 22 | H29: DPH 20% z | I29: =J28-SUM('SO 14616'!K9:'SO 14616'!K165) -> 0 | J29: =ROUND(((ROUND(I29,2)*20)*1/100),2) -> 0
G30: 23 | H30: DPH 0% z | I30: =SUM('SO 14616'!K9:'SO 14616'!K165) -> 0 | J30: =ROUND(((ROUND(I30,2)*0)/100),2) -> 0
G31: 24 | H31: Spolu v EUR | J31: =SUM(J28:J30) -> 0
G32: F
D33: Odberateľ | G33: 26 | H33: Dodávateľ

Sheet Rekap 14616
A1: Odberateľ: Rímskokatolícka farnosť Najsvätejšieho Tela Pána Stropkov | E1: Spracoval: Ing. Ján Halgaš | W1: 30.126
A2: Projektant: | E2: Ks:
A3: Dodávateľ: | E3: Dátum: 24.02.2020
A4: Stavba Rímskokatolícky kostol Najsvätejšieho Kristovho Tela a Krvi v Stropkove - Obnova veže
A5: Objekt SO 01 Obnova veže - ASR - architektonicko-stavebné riešenie
A8: Prehľad rozpočtových nákladov
A9: Oddiel | B9: Montáž | C9: Materiál | D9: Spolu | E9: Hmotnosť (T) | F9: Suť (T)
A10: Práce HSV
A11: ZEMNÉ PRÁCE | B11: ='SO 14616'!L14 -> 0 | C11: ='SO 14616'!M14 -> 0 | D11: ='SO 14616'!I14 -> 0 | E11: ='SO 14616'!P14 -> 0 | F11: ='SO 14616'!S14 -> 0
A12: ZÁKLADY | B12: ='SO 14616'!L20 -> 0 | C12: ='SO 14616'!M20 -> 0 | D12: ='SO 14616'!I20 -> 0 | E12: ='SO 14616'!P20 -> 0.04 | F12: ='SO 14616'!S20 -> 1.9
A13: ZVISLÉ KONŠTRUKCIE | B13: ='SO 14616'!L24 -> 0 | C13: ='SO 14616'!M24 -> 0 | D13: ='SO 14616'!I24 -> 0 | E13: ='SO 14616'!P24 -> 0.05 | F13: ='SO 14616'!S24 -> 0.13
A14: VODOROVNÉ KONŠTRUKCIE | B14: ='SO 14616'!L33 -> 0 | C14: ='SO 14616'!M33 -> 0 | D14: ='SO 14616'!I33 -> 0 | E14: ='SO 14616'!P33 -> 2.13 | F14: ='SO 14616'!S33 -> 0.53
A15: POVRCHOVÉ ÚPRAVY | B15: ='SO 14616'!L46 -> 0 | C15: ='SO 14616'!M46 -> 0 | D15: ='SO 14616'!I46 -> 0 | E15: ='SO 14616'!P46 -> 0.12 | F15: ='SO 14616'!S46 -> 6.27
A16: OSTATNÉ PRÁCE | B16: ='SO 14616'!L91 -> 0 | C16: ='SO 14616'!M91 -> 0 | D16: ='SO 14616'!I91 -> 0 | E16: ='SO 14616'!P91 -> 0.05 | F16: ='SO 14616'!S91 -> 1.34
A17: PRESUNY HMÔT | B17: ='SO 14616'!L95 -> 0 | C17: ='SO 14616'!M95 -> 0 | D17: ='SO 14616'!I95 -> 0 | E17: ='SO 14616'!P95 -> 0 | F17: ='SO 14616'!S95 -> 0
A18: Práce HSV | B18: ='SO 14616'!L97 -> 0 | C18: ='SO 14616'!M97 -> 0 | D18: ='SO 14616'!I97 -> 0 | E18: ='SO 14616'!P97 -> 2.39 | F18: ='SO 14616'!S97 -> 10.17
A20: Práce PSV
A21: KONŠTRUKCIE TESÁRSKE | B21: ='SO 14616'!L116 -> 0 | C21: ='SO 14616'!M116 -> 0 | D21: ='SO 14616'!I116 -> 0 | E21: ='SO 14616'!P116 -> 0 | F21: ='SO 14616'!S116 -> 0.02
A22: KONŠTRUKCIE STOLÁRSKE | B22: ='SO 14616'!L134 -> 0 | C22: ='SO 14616'!M134 -> 0 | D22: ='SO 14616'!I134 -> 0 | E22: ='SO 14616'!P134 -> 0 | F22: ='SO 14616'!S134 -> 0
A23: KOVOVÉ DOPLNKOVÉ KONŠTRUKCIE | B23: ='SO 14616'!L142 -> 0 | C23: ='SO 14616'!M142 -> 0 | D23: ='SO 14616'!I142 -> 0 | E23: ='SO 14616'!P142 -> 0 | F23: ='SO 14616'!S142 -> 0
A24: KONŠTRUKCIE Z PRÍRODNÉHO KAMEŇA-DLAŽBY | B24: ='SO 14616'!L152 -> 0 | C24: ='SO 14616'!M152 -> 0 | D24: ='SO 14616'!I152 -> 0 | E24: ='SO 14616'!P152 -> 0.23 | F24: ='SO 14616'!S152 -> 0.8
A25: NÁTERY | B25: ='SO 14616'!L159 -> 0 | C25: ='SO 14616'!M159 -> 0 | D25: ='SO 14616'!I159 -> 0 | E25: ='SO 14616'!P159 -> 0 | F25: ='SO 14616'!S159 -> 0.01
A26: MAĽBY | B26: ='SO 14616'!L163 -> 0 | C26: ='SO 14616'!M163 -> 0 | D26: ='SO 14616'!I163 -> 0 | E26: ='SO 14616'!P163 -> 0 | F26: ='SO 14616'!S163 -> 0.27
A27: Práce PSV | B27: ='SO 14616'!L165 -> 0 | C27: ='SO 14616'!M165 -> 0 | D27: ='SO 14616'!I165 -> 0 | E27: ='SO 14616'!S165 -> 1.1 | F27: ='SO 14616'!V165 -> 0
A29: Celkom v EUR | B29: ='SO 14616'!L166 -> 0 | C29: ='SO 14616'!M166 -> 0 | D29: ='SO 14616'!I166 -> 0 | E29: ='SO 14616'!S166 -> 11.27 | F29: ='SO 14616'!V166 -> 0

Sheet SO 14616
B1: Odberateľ: Rímskokatolícka farnosť Najsvätejšieho Tela Pána Stropkov | I1: Spracoval: Ing. Ján Halgaš | W1: 30.126
B2: Projektant: | I2: Ks:
B3: Dodávateľ: | I3: Dátum: 24.02.2020
B4: Zákazka Rímskokatolícky kostol Najsvätejšieho Kristovho Tela a Krvi v Stropkove - Obnova veže
B5: Objekt SO 01 Obnova veže - ASR - architektonicko-stavebné riešenie
B7: Prehľad rozpočtových nákladov
A8: Por.č. | B8: Cenník | C8: Kód položky | D8: Názov | E8: Mj | F8: Množstvo | G8: Cena/Mj | H8: Materiál | I8: Cena celkom | P8: Hmotnosť/Mj | S8: Hmotnosť | V8: Suť
D9: Práce HSV
D10: ZEMNÉ PRÁCE
B11: 1/A 1 | C11: 132211101 | D11: Hĺbenie rýh šírky do 600 mm v hornine tr.3 súdržných - ručným náradím | E11: m3 | F11: 0.204 | I11: =ROUND(F11*(G11+H11),2) -> 0 | J11: =ROUND(F11*(N11),2) -> 11.35 | K11: =ROUND(F11*(O11),2) -> 0 | L11: =ROUND(F11*(G11),2) -> 0 | N11: 55.66 | Z11: 0
B12: 1/A 1 | C12: 132211119 | D12: Príplatok za lepivosť pri hĺbení rýh š do 600 mm ručným náradím v hornine tr. 3 | E12: m3 | F12: 0.204 | I12: =ROUND(F12*(G12+H12),2) -> 0 | J12: =ROUND(F12*(N12),2) -> 2.27 | K12: =ROUND(F12*(O12),2) -> 0 | L12: =ROUND(F12*(G12),2) -> 0 | N12: 11.13 | Z12: 0
B13: 1/A 1 | C13: 162301101 | D13: Vodorovné premiestnenie výkopku tr.1-4 do 500 m | E13: m3 | F13: 0.204 | I13: =ROUND(F13*(G13+H13),2) -> 0 | J13: =ROUND(F13*(N13),2) -> 0.4 | K13: =ROUND(F13*(O13),2) -> 0 | L13: =ROUND(F13*(G13),2) -> 0 | N13: 1.94 | Z13: 0
D14: ZEMNÉ PRÁCE | H14: =ROUND((SUM(M10:M13))/1,2) -> 0 | I14: =ROUND((SUM(I10:I13))/1,2) -> 0 | L14: =ROUND((SUM(L10:L13))/1,2) -> 0 | M14: =ROUND((SUM(M10:M13))/1,2) -> 0 | P14: =ROUND((SUM(P10:P13))/1,2) -> 0 | S14: =ROUND((SUM(S10:S13))/1,2) -> 0
D16: ZÁKLADY
B17: 2/A 2 | C17: 285377111 | D17: Stužujúce tiahla z ocele priemeru od 0 do 16 mm ozn.Z/4-St-01 | E17: m | F17: 32 | I17: =ROUND(F17*(G17+H17),2) -> 0 | J17: =ROUND(F17*(N17),2) -> 1635.52 | K17: =ROUND(F17*(O17),2) -> 0 | L17: =ROUND(F17*(G17),2) -> 0 | N17: 51.11 | P17: 0.0212 | R17: 0.0212 | S17: =ROUND(F17*(R17),3) -> 0.678 | Z17: 0
B18: 2/A 2 | C18: 285947211 | D18: Oporná doska z ocele, č.v. ST-01 PL1, PL2, PL3-tiahla | E18: kus | F18: 24 | I18: =ROUND(F18*(G18+H18),2) -> 0 | J18: =ROUND(F18*(N18),2) -> 659.04 | K18: =ROUND(F18*(O18),2) -> 0 | L18: =ROUND(F18*(G18),2) -> 0 | N18: 27.46 | P18: 0.0112 | R18: 0.0112 | S18: =ROUND(F18*(R18),3) -> 0.269 | Z18: 0
B19: 2/A 2 | C19: 289201211 | D19: Vyklinovanie uvoľnených kameňov v stenách 25% | E19: m2 | F19: 113.63 | I19: =ROUND(F19*(G19+H19),2) -> 0 | J19: =ROUND(F19*(N19),2) -> 1284.02 | K19: =ROUND(F19*(O19),2) -> 0 | L19: =ROUND(F19*(G19),2) -> 0 | N19: 11.3 | P19: 0.00835 | R19: 0.00835 | S19: =ROUND(F19*(R19),3) -> 0.949 | Z19: 0
D20: ZÁKLADY | H20: =ROUND((SUM(M16:M19))/1,2) -> 0 | I20: =ROUND((SUM(I16:I19))/1,2) -> 0 | L20: =ROUND((SUM(L16:L19))/1,2) -> 0 | M20: =ROUND((SUM(M16:M19))/1,2) -> 0 | P20: =ROUND((SUM(P16:P19))/1,2) -> 0.04 | S20: =ROUND((SUM(S16:S19))/1,2) -> 1.9
D22: ZVISLÉ KONŠTRUKCIE
B23: 14/C 1 | C23: 319202321 | D23: Domurovanie lícového parapetu z plných tehál 200x170x60mm nerovného povrchu primurovaním hr.30-80 mm -4.np ozn.23 | E23: m2 | F23: 2.5 | I23: =ROUND(F23*(G23+H23),2) -> 0 | J23: =ROUND(F23*(N23),2) -> 86.13 | K23: =ROUND(F23*(O23),2) -> 0 | L23: =ROUND(F23*(G23),2) -> 0 | N23: 34.45 | P23: 0.05294 | R23: 0.05294 | S23: =ROUND(F23*(R23),3) -> 0.132 | Z23: 0
D24: ZVISLÉ KONŠTRUKCIE | H24: =ROUND((SUM(M22:M23))/1,2) -> 0 | I24: =ROUND((SUM(I22:I23))/1,2) -> 0 | L24: =ROUND((SUM(L22:L23))/1,2) -> 0 | M24: =ROUND((SUM(M22:M23))/1,2) -> 0 | P24: =ROUND((SUM(P22:P23))/1,2) -> 0.05 | S24: =ROUND((SUM(S22:S23))/1,2) -> 0.13
D26: VODOROVNÉ KONŠTRUKCIE
B27: 11/A 1 | C27: 430321517 | D27: Obnova a oprava kamenných zvetralých vretenových schodov 1.-4.np - ozn.6 | E27: m2 | F27: 18.975 | I27: =ROUND(F27*(G27+H27),2) -> 0 | J27: =ROUND(F27*(N27),2) -> 1508.51 | K27: =ROUND(F27*(O27),2) -> 0 | L27: =ROUND(F27*(G27),2) -> 0 | N27: 79.5 | Z27: 0
B28: 11/A 1 | C28: 434121444 | D28: Osadenie kamenného stupňa 1.np ozn.2-vstup | E28: m | F28: 1.5 | I28: =ROUND(F28*(G28+H28),2) -> 0 | J28: =ROUND(F28*(N28),2) -> 34.55 | K28: =ROUND(F28*(O28),2) -> 0 | L28: =ROUND(F28*(G28),2) -> 0 | N28: 23.03 | P28: 0.00646 | R28: 0.00646 | S28: =ROUND(F28*(R28),3) -> 0.01 | Z28: 0
B29: 11/A 1 | C29: 434121451 | D29: Osadenie chybajúcich vretenových stupňov do pripravených otvorov | E29: m | F29: 3 | I29: =ROUND(F29*(G29+H29),2) -> 0 | J29: =ROUND(F29*(N29),2) -> 123.78 | K29: =ROUND(F29*(O29),2) -> 0 | L29: =ROUND(F29*(G29),2) -> 0 | N29: 41.26 | P29: 0.03254 | R29: 0.03254 | S29: =ROUND(F29*(R29),3) -> 0.098 | Z29: 0
B30: 211/A 1 | C30: 458501111 | D30: D+M štrkové lôžko pod kamený stupeň - ozn.2 | E30: m3 | F30: 0.2 | I30: =ROUND(F30*(G30+H30),2) -> 0 | J30: =ROUND(F30*(N30),2) -> 7.15 | K30: =ROUND(F30*(O30),2) -> 0 | L30: =ROUND(F30*(G30),2) -> 0 | N30: 35.76 | P30: 2.0875 | R30: 2.0875 | S30: =ROUND(F30*(R30),3) -> 0.418 | Z30: 0
B31: S/S60 | C31: 5838030301 | D31: Dodávka pieskovcového stupňa pre vretenové schodisko | E31: ks | F31: 3 | I31: =ROUND(F31*(G31+H31),2) -> 0 | J31: =ROUND(F31*(N31),2) -> 254.4 | K31: =ROUND(F31*(O31),2) -> 0 | M31: =ROUND(F31*(G31),2) -> 0 | N31: 84.8 | Z31: 0
B32: S/S60 | C32: 5838030302 | D32: Dodávka pieskovcového stupňa 1500x600x400mm 1.np - ozn.2 | E32: ks | F32: 1 | I32: =ROUND(F32*(G32+H32),2) -> 0 | J32: =ROUND(F32*(N32),2) -> 143.1 | K32: =ROUND(F32*(O32),2) -> 0 | M32: =ROUND(F32*(G32),2) -> 0 | N32: 143.1 | Z32: 0
D33: VODOROVNÉ KONŠTRUKCIE | H33: =ROUND((SUM(M26:M32))/1,2) -> 0 | I33: =ROUND((SUM(I26:I32))/1,2) -> 0 | L33: =ROUND((SUM(L26:L32))/1,2) -> 0 | M33: =ROUND((SUM(M26:M32))/1,2) -> 0 | P33: =ROUND((SUM(P26:P32))/1,2) -> 2.13 | S33: =ROUND((SUM(S26:S32))/1,2) -> 0.53
D35: POVRCHOVÉ ÚPRAVY
B36: 11/A 1 | C36: 622471341 | D36: Náter klenby a muriva na ochozi vo farbe terakoty 7.np ozn.39 | E36: m2 | F36: 170.75 | I36: =ROUND(F36*(G36+H36),2) -> 0 | J36: =ROUND(F36*(N36),2) -> 2101.93 | K36: =ROUND(F36*(O36),2) -> 0 | L36: =ROUND(F36*(G36),2) -> 0 | N36: 12.31 | P36: 0.00286 | R36: 0.00286 | S36: =ROUND(F36*(R36),3) -> 0.488 | Z36: 0
B37: 11/A 1 | C37: 631315724 | D37: Sanačná vrstva pre vyrovnanie plochy pred točitým schodiskom-1.np | E37: M2 | F37: 2 | I37: =ROUND(F37*(G37+H37),2) -> 0 | J37: =ROUND(F37*(N37),2) -> 144.86 | K37: =ROUND(F37*(O37),2) -> 0 | L37: =ROUND(F37*(G37),2) -> 0 | N37: 72.43 | Z37: 0
B38: 11/A 1 | C38: 632451198 | D38: Vyčístenie a obrúsenie podkladu pod dlažbu 2.np ozn.13 | E38: M2 | F38: 1.5 | I38: =ROUND(F38*(G38+H38),2) -> 0 | J38: =ROUND(F38*(N38),2) -> 7.16 | K38: =ROUND(F38*(O38),2) -> 0 | L38: =ROUND(F38*(G38),2) -> 0 | N38: 4.77 | Z38: 0
B39: 14/C 1 | C39: 611421432 | D39: Vyspravenie bet.stropu hladkou omietkou 7.n.p ozn.f | E39: m2 | F39: 27.4 | I39: =ROUND(F39*(G39+H39),2) -> 0 | J39: =ROUND(F39*(N39),2) -> 243.04 | K39: =ROUND(F39*(O39),2) -> 0 | L39: =ROUND(F39*(G39),2) -> 0 | N39: 8.87 | Z39: 0
B40: 14/C 1 | C40: 612403399 | D40: Hrubá výplň rýh na stenách akoukoľvek maltou, akejkoľvek šírky ryhy | E40: m2 | F40: 8.5 | I40: =ROUND(F40*(G40+H40),2) -> 0 | J40: =ROUND(F40*(N40),2) -> 83.13 | K40: =ROUND(F40*(O40),2) -> 0 | L40: =ROUND(F40*(G40),2) -> 0 | N40: 9.78 | P40: 0.07552 | R40: 0.07552 | S40: =ROUND(F40*(R40),3) -> 0.642 | Z40: 0
B41: 14/C 1 | C41: 612409991 | D41: Začistenie omietok (s dodaním hmoty) okolo okien, dverí,podláh, | E41: m | F41: 76.5 | I41: =ROUND(F41*(G41+H41),2) -> 0 | J41: =ROUND(F41*(N41),2) -> 263.16 | K41: =ROUND(F41*(O41),2) -> 0 | L41: =ROUND(F41*(G41),2) -> 0 | N41: 3.44 | P41: 0.0028 | R41: 0.0028 | S41: =ROUND(F41*(R41),3) -> 0.214 | Z41: 0
B42: 14/C 1 | C42: 612421433 | D42: Oprava vnútorných vápenných omietok stien, ozn.a | E42: m2 | F42: 606.72 | I42: =ROUND(F42*(G42+H42),2) -> 0 | J42: =ROUND(F42*(N42),2) -> 4956.9 | K42: =ROUND(F42*(O42),2) -> 0 | L42: =ROUND(F42*(G42),2) -> 0 | N42: 8.17 | Z42: 0
B43: 14/C 1 | C43: 622422711 | D43: Oprava omietok vápenných hladkých na arkadovej chodbe (ochoza) 7.np ozn.g | E43: m2 | F43: 125 | I43: =ROUND(F43*(G43+H43),2) -> 0 | J43: =ROUND(F43*(N43),2) -> 1457.5 | K43: =ROUND(F43*(O43),2) -> 0 | L43: =ROUND(F43*(G43),2) -> 0 | N43: 11.66 | P43: 0.03941 | R43: 0.03941 | S43: =ROUND(F43*(R43),3) -> 4.926 | Z43: 0
B44: 14/C 1 | C44: 632463252 | D44: Vyspravenie betónovej podlahy 1.np - ozn.1 | E44: m2 | F44: 17.3 | I44: =ROUND(F44*(G44+H44),2) -> 0 | J44: =ROUND(F44*(N44),2) -> 449.28 | K44: =ROUND(F44*(O44),2) -> 0 | L44: =ROUND(F44*(G44),2) -> 0 | N44: 25.97 | Z44: 0
B45: P/PC | C45: 01/23 | D45: Kovové tiahla arkáda ochoze obnoviť umel.-remeselným spôsobom na 7.np ozn.34 | E45: m | F45: 28.2 | I45: =ROUND(F45*(G45+H45),2) -> 0 | J45: =ROUND(F45*(N45),2) -> 2989.2 | K45: =ROUND(F45*(O45),2) -> 0 | M45: =ROUND(F45*(G45),2) -> 0 | N45: 106 | Z45: 0
D46: POVRCHOVÉ ÚPRAVY | H46: =ROUND((SUM(M35:M45))/1,2) -> 0 | I46: =ROUND((SUM(I35:I45))/1,2) -> 0 | L46: =ROUND((SUM(L35:L45))/1,2) -> 0 | M46: =ROUND((SUM(M35:M45))/1,2) -> 0 | P46: =ROUND((SUM(P35:P45))/1,2) -> 0.12 | S46: =ROUND((SUM(S35:S45))/1,2) -> 6.27
D48: OSTATNÉ PRÁCE
B49: 2/A 2 | C49: 216903116 | D49: Vyčístenie betonovej podlahy od uvoľnených časti a nečistôt 1.-3.np | E49: m2 | F49: 41.81 | I49: =ROUND(F49*(G49+H49),2) -> 0 | J49: =ROUND(F49*(N49),2) -> 316.92 | K49: =ROUND(F49*(O49),2) -> 0 | L49: =ROUND(F49*(G49),2) -> 0 | N49: 7.58 | Z49: 0
B50: 2/A 2 | C50: 216903117 | D50: Očistenie poškodených časti stropu a žel.trámov 7.np | E50: M2 | F50: 27.4 | I50: =ROUND(F50*(G50+H50),2) -> 0 | J50: =ROUND(F50*(N50),2) -> 453.2 | K50: =ROUND(F50*(O50),2) -> 0 | L50: =ROUND(F50*(G50),2) -> 0 | N50: 16.54 | Z50: 0
B51: 2/A 2 | C51: 216903121 | D51: Očístenie pieskovcových vretenových stupňov schodiska 1.np-4.np | E51: m2 | F51: 19.5 | I51: =ROUND(F51*(G51+H51),2) -> 0 | J51: =ROUND(F51*(N51),2) -> 432.9 | K51: =ROUND(F51*(O51),2) -> 0 | L51: =ROUND(F51*(G51),2) -> 0 | N51: 22.2 | P51: 0.05101 | R51: 0.05101 | S51: =ROUND(F51*(R51),3) -> 0.995 | Z51: 0
B52: 2/A 2 | C52: 216904112 | D52: Očistenie plôch tlakovou vodou stien akéhokoľvek muriva | E52: m2 | F52: 606.72 | I52: =ROUND(F52*(G52+H52),2) -> 0 | J52: =ROUND(F52*(N52),2) -> 1377.25 | K52: =ROUND(F52*(O52),2) -> 0 | L52: =ROUND(F52*(G52),2) -> 0 | N52: 2.27 | P52: 4e-05 | R52: 4e-05 | S52: =ROUND(F52*(R52),3) -> 0.024 | Z52: 0
B53: 2/A 2 | C53: 216904391 | D53: Príplatok k cene za ručné dočistenie oceľovými kefami | E53: m2 | F53: 19.5 | I53: =ROUND(F53*(G53+H53),2) -> 0 | J53: =ROUND(F53*(N53),2) -> 118.76 | K53: =ROUND(F53*(O53),2) -> 0 | L53: =ROUND(F53*(G53),2) -> 0 | N53: 6.09 | Z53: 0
B54: 2/A 2 | C54: 289902121 | D54: Otlčenie alebo osekanie vrstiev stĺpov na ochoze s hr. odsekanej vrstvy-7.np - ozn.37 | E54: m2 | F54: 9.738 | I54: =ROUND(F54*(G54+H54),2) -> 0 | J54: =ROUND(F54*(N54),2) -> 262.05 | K54: =ROUND(F54*(O54),2) -> 0 | L54: =ROUND(F54*(G54),2) -> 0 | N54: 26.91 | P54: 4e-05 | R54: 4e-05 | S54: =ROUND(F54*(R54),3) -> 0 | Z54: 0
B55: 2/A 2 | C55: 979092111 | D55: Vyčístenie priestoru pred točitým schodiskom od nánosov a nečitôt-1.np | E55: m2 | F55: 1.45 | I55: =ROUND(F55*(G55+H55),2) -> 0 | J55: =ROUND(F55*(N55),2) -> 222.87 | K55: =ROUND(F55*(O55),2) -> 0 | L55: =ROUND(F55*(G55),2) -> 0 | N55: 153.7 | Z55: 0
B56: 3/A 1 | C56: 941955002 | D56: Lešenie ľahké pracovné pomocné, s výškou lešeňovej podlahy nad 1,20 do 1,90 m | E56: m2 | F56: 163.83 | I56: =ROUND(F56*(G56+H56),2) -> 0 | J56: =ROUND(F56*(N56),2) -> 594.7 | K56: =ROUND(F56*(O56),2) -> 0 | L56: =ROUND(F56*(G56),2) -> 0 | N56: 3.63 | P56: 0.00192 | R56: 0.00192 | S56: =ROUND(F56*(R56),3) -> 0.315 | Z56: 0
B57: 11/A 1 | C57: 952901111 | D57: Vyčistenie budov pri výške podlaží do 4m-1.n.p-3.np, 7.np | E57: m2 | F57: 105.455 | I57: =ROUND(F57*(G57+H57),2) -> 0 | J57: =ROUND(F57*(N57),2) -> 401.78 | K57: =ROUND(F57*(O57),2) -> 0 | L57: =ROUND(F57*(G57),2) -> 0 | N57: 3.81 | P57: 5e-05 | R57: 5e-05 | S57: =ROUND(F57*(R57),3) -> 0.005 | Z57: 0
B58: 11/A 1 | C58: 952901114 | D58: Vyčistenie budov pri výške podlaží nad 4m-4.n.p-6.np | E58: m2 | F58: 64.46 | I58: =ROUND(F58*(G58+H58),2) -> 0 | J58: =ROUND(F58*(N58),2) -> 281.05 | K58: =ROUND(F58*(O58),2) -> 0 | L58: =ROUND(F58*(G58),2) -> 0 | N58: 4.36 | P58: 5e-05 | R58: 5e-05 | S58: =ROUND(F58*(R58),3) -> 0.003 | Z58: 0
B59: 11/A 1 | C59: 9530001 | D59: Štvortabuľová presklenná výplň 600x720mm z 20 stor. 1.np-ozn.d | E59: ks | F59: 1 | I59: =ROUND(F59*(G59+H59),2) -> 0 | J59: =ROUND(F59*(N59),2) -> 68.9 | K59: =ROUND(F59*(O59),2) -> 0 | L59: =ROUND(F59*(G59),2) -> 0 | N59: 68.9 | Z59: 0
B60: 11/A 1 | C60: 9530002 | D60: Štvortabuľová presklenná výplň 600x750mm z 20 stor. 1,np-ozn.d | E60: ks | F60: 1 | I60: =ROUND(F60*(G60+H60),2) -> 0 | J60: =ROUND(F60*(N60),2) -> 72.08 | K60: =ROUND(F60*(O60),2) -> 0 | L60: =ROUND(F60*(G60),2) -> 0 | N60: 72.08 | Z60: 0
B61: 11/A 1 | C61: 9530003 | D61: D+M Sklenená bezrámová samosná konštrukcia, bezpečnostné sklo 3.np ozn.18 | E61: m2 | F61: 14 | I61: =ROUND(F61*(G61+H61),2) -> 0 | J61: =ROUND(F61*(N61),2) -> 2003.4 | K61: =ROUND(F61*(O61),2) -> 0 | L61: =ROUND(F61*(G61),2) -> 0 | N61: 143.1 | Z61: 0
B62: 11/A 1 | C62: 9530004 | D62: D+M Sklenené zábradlie samonosné bezrámové z tvrdeného bezpečnostného skla 7.np ozn.36 | E62: m2 | F62: 7 | I62: =ROUND(F62*(G62+H62),2) -> 0 | J62: =ROUND(F62*(N62),2) -> 1001.7 | K62: =ROUND(F62*(O62),2) -> 0 | L62: =ROUND(F62*(G62),2) -> 0 | N62: 143.1 | Z62: 0
B63: 13/B 1 | C63: 967031743 | D63: Očistenie stĺpov od malty 7.np | E63: M2 | F63: 2.5 | I63: =ROUND(F63*(G63+H63),2) -> 0 | J63: =ROUND(F63*(N63),2) -> 32.6 | K63: =ROUND(F63*(O63),2) -> 0 | L63: =ROUND(F63*(G63),2) -> 0 | N63: 13.04 | Z63: 0
B64: 13/B 1 | C64: 968061125 | D64: Vyvesenie dreveného dverného krídla do 2 m2-4.np | E64: kus | F64: 1 | I64: =ROUND(F64*(G64+H64),2) -> 0 | J64: =ROUND(F64*(N64),2) -> 0.69 | K64: =ROUND(F64*(O64),2) -> 0 | L64: =ROUND(F64*(G64),2) -> 0 | N64: 0.69 | Z64: 0
B65: 13/B 1 | C65: 968062454 | D65: Vybúranie drevených a kovových dverových zárubní, -4.np | E65: m2 | F65: 1.6 | I65: =ROUND(F65*(G65+H65),2) -> 0 | J65: =ROUND(F65*(N65),2) -> 8.22 | K65: =ROUND(F65*(O65),2) -> 0 | L65: =ROUND(F65*(G65),2) -> 0 | N65: 5.14 | Z65: 0
B66: 13/B 1 | C66: 968071125 | D66: Vyvesenie kovových krídiel dverí, pl. do 2,00 m2-1,np | E66: ks | F66: 1 | I66: =ROUND(F66*(G66+H66),2) -> 0 | J66: =ROUND(F66*(N66),2) -> 3.1 | K66: =ROUND(F66*(O66),2) -> 0 | L66: =ROUND(F66*(G66),2) -> 0 | N66: 3.1 | Z66: 0
B67: 13/B 1 | C67: 968072455 | D67: Vybúranie a vybratie vstupných kovových dverových zárubní, plochy do 2 m2 -0,076 t-1.np | E67: M2 | F67: 1.6 | I67: =ROUND(F67*(G67+H67),2) -> 0 | J67: =ROUND(F67*(N67),2) -> 21.95 | K67: =ROUND(F67*(O67),2) -> 0 | L67: =ROUND(F67*(G67),2) -> 0 | N67: 13.72 | Z67: 0
B68: 13/B 1 | C68: 968072887 | D68: Vybúranie kovových lamelových mreží-4.np | E68: m2 | F68: 6.5 | I68: =ROUND(F68*(G68+H68),2) -> 0 | J68: =ROUND(F68*(N68),2) -> 77.16 | K68: =ROUND(F68*(O68),2) -> 0 | L68: =ROUND(F68*(G68),2) -> 0 | N68: 11.87 | Z68: 0
B69: 13/B 1 | C69: 978013192 | D69: Búracie práce - očistenie omietok stien 1.np-7.np | E69: M2 | F69: 319.32 | I69: =ROUND(F69*(G69+H69),2) -> 0 | J69: =ROUND(F69*(N69),2) -> 389.57 | K69: =ROUND(F69*(O69),2) -> 0 | L69: =ROUND(F69*(G69),2) -> 0 | N69: 1.22 | Z69: 0
B70: 13/B 1 | C70: 979011131 | D70: Zvislá doprava sutiny po schodoch ručne do 3.5 m | E70: t | F70: 4.052 | I70: =ROUND(F70*(G70+H70),2) -> 0 | J70: =ROUND(F70*(N70),2) -> 77.35 | K70: =ROUND(F70*(O70),2) -> 0 | L70: =ROUND(F70*(G70),2) -> 0 | N70: 19.09 | Z70: 0
... B84: 766/B 1 | C84: 766421826 | D84: Demontáž skrine hodinového stroja +dvere - 3.np | E84: M2 | F84: 14 | I84: =ROUND(F84*(G84+H84),2) -> 0 | J84: =ROUND(F84*(N84),2) -> 193.2 | K84: =ROUND(F84*(O84),2) -> 0 | L84: =ROUND(F84*(G84),2) -> 0 | N84: 13.8 | Z84: 0
B85: P/PC | C85: 01/01 | D85: D+M - podlaha ochodze - ozn. 33 (101) | E85: m2 | F85: 18.3 | I85: =ROUND(F85*(G85+H85),2) -> 0 | J85: =ROUND(F85*(N85),2) -> 3879.6 | K85: =ROUND(F85*(O85),2) -> 0 | M85: =ROUND(F85*(G85),2) -> 0 | N85: 212 | Z85: 0
B86: P/PC | C86: 01/19 | D86: Ošetriť súčasný stav hodinový stroj vežových hodín -kov ozn.306 (21)-4.np | E86: ks | F86: 1 | I86: =ROUND(F86*(G86+H86),2) -> 0 | J86: =ROUND(F86*(N86),2) -> 1060 | K86: =ROUND(F86*(O86),2) -> 0 | M86: =ROUND(F86*(G86),2) -> 0 | N86: 1060 | Z86: 0
B87: P/PC | C87: 01/20 | D87: Ošetriť súčasný stav hodinový stroj vežových hodín - drevo ozn.402 (21)-4.np | E87: ks | F87: 1 | I87: =ROUND(F87*(G87+H87),2) -> 0 | J87: =ROUND(F87*(N87),2) -> 1060 | K87: =ROUND(F87*(O87),2) -> 0 | M87: =ROUND(F87*(G87),2) -> 0 | N87: 1060 | Z87: 0
B88: P/PC | C88: 01/21 | D88: Zabezpečenie dátovania v omietke 502 na 6.np ozn.27 | E88: ks | F88: 1 | I88: =ROUND(F88*(G88+H88),2) -> 0 | J88: =ROUND(F88*(N88),2) -> 265 | K88: =ROUND(F88*(O88),2) -> 0 | M88: =ROUND(F88*(G88),2) -> 0 | N88: 265 | Z88: 0
B89: P/PC | C89: 01/22 | D89: Kovové osi hodinových ručičiek vež.hodín obnoviť umel.-remeselným spôsobom 302 na 6.np ozn.30 | E89: ks | F89: 1 | I89: =ROUND(F89*(G89+H89),2) -> 0 | J89: =ROUND(F89*(N89),2) -> 381.6 | K89: =ROUND(F89*(O89),2) -> 0 | M89: =ROUND(F89*(G89),2) -> 0 | N89: 381.6 | Z89: 0
B90: P/PC | C90: 01/24 | D90: Obnova kamenných stĺpov-remeselným spôsobom na 7.np ozn.37 | E90: m | F90: 14.6 | I90: =ROUND(F90*(G90+H90),2) -> 0 | J90: =ROUND(F90*(N90),2) -> 1857.12 | K90: =ROUND(F90*(O90),2) -> 0 | M90: =ROUND(F90*(G90),2) -> 0 | N90: 127.2 | Z90: 0
D91: OSTATNÉ PRÁCE | H91: =ROUND((SUM(M48:M90))/1,2) -> 0 | I91: =ROUND((SUM(I48:I90))/1,2) -> 0 | L91: =ROUND((SUM(L48:L90))/1,2) -> 0 | M91: =ROUND((SUM(M48:M90))/1,2) -> 0 | P91: =ROUND((SUM(P48:P90))/1,2) -> 0.05 | S91: =ROUND((SUM(S48:S90))/1,2) -> 1.34
D93: PRESUNY HMÔT
B94: 14/C 1 | C94: 999281112 | D94: Presun hmôt pre opravy a údržbu objektov výšky 25-36 m | E94: t | F94: 41.505 | I94: =ROUND(F94*(G94+H94),2) -> 0 | J94: =ROUND(F94*(N94),2) -> 1431.51 | K94: =ROUND(F94*(O94),2) -> 0 | L94: =ROUND(F94*(G94),2) -> 0 | N94: 34.49 | Z94: 0
D95: PRESUNY HMÔT | H95: =ROUND((SUM(M93:M94))/1,2) -> 0 | I95: =ROUND((SUM(I93:I94))/1,2) -> 0 | L95: =ROUND((SUM(L93:L94))/1,2) -> 0 | M95: =ROUND((SUM(M93:M94))/1,2) -> 0 | P95: =ROUND((SUM(P93:P94))/1,2) -> 0 | S95: =ROUND((SUM(S93:S94))/1,2) -> 0
D97: Práce HSV | H97: =ROUND((SUM(M9:M96))/2,2) -> 0 | I97: =ROUND((SUM(I9:I96))/2,2) -> 0 | L97: =ROUND((SUM(L9:L96))/2,2) -> 0 | M97: =ROUND((SUM(M9:M96))/2,2) -> 0 | P97: =ROUND((SUM(P9:P96))/2,2) -> 2.39 | S97: =ROUND((SUM(S9:S96))/2,2) -> 10.17
D99: Práce PSV
D100: KONŠTRUKCIE TESÁRSKE
B101: 762/A 1 | C101: 762311103 | D101: Montáž príložiek s pripojením k drevenej konštrukcii PL4-ST-01 | E101: kus | F101: 16 | I101: =ROUND(F101*(G101+H101),2) -> 0 | J101: =ROUND(F101*(N101),2) -> 28 | K101: =ROUND(F101*(O101),2) -> 0 | L101: =ROUND(F101*(G101),2) -> 0 | N101: 1.75 | P101: 0.00021 | R101: 0.00021 | S101: =ROUND(F101*(R101),3) -> 0.003 | Z101: 0
B102: 762/A 1 | C102: 7623111041 | D102: M+D Kotvenie hornej medzipodesty schodiska 6.np | E102: KS | F102: 6 | I102: =ROUND(F102*(G102+H102),2) -> 0 | J102: =ROUND(F102*(N102),2) -> 54.06 | K102: =ROUND(F102*(O102),2) -> 0 | L102: =ROUND(F102*(G102),2) -> 0 | N102: 9.01 | Z102: 0
B103: 762/A 1 | C103: 762512256 | D103: Položenie podláh z dosiek - 2.n, 3.np, 4.np,5.np, 6.np, 7.np ozn.12, 17,24,29, 32 | E103: m2 | F103: 122.85 | I103: =ROUND(F103*(G103+H103),2) -> 0 | J103: =ROUND(F103*(N103),2) -> 776.41 | K103: =ROUND(F103*(O103),2) -> 0 | L103: =ROUND(F103*(G103),2) -> 0 | N103: 6.32 | Z103: 0
B104: 762/A 1 | C104: 762524101 | D104: M+D - doplnenie a oprava stropných trámov pod drevenú podlahu | E104: M2 | F104: 39.27 | I104: =ROUND(F104*(G104+H104),2) -> 0 | J104: =ROUND(F104*(N104),2) -> 353.82 | K104: =ROUND(F104*(O104),2) -> 0 | L104: =ROUND(F104*(G104),2) -> 0 | N104: 9.01 | Z104: 0
B105: 762/A 1 | C105: 762526210 | D105: Montáž hranolov pre medzipodlažie-drevená plošina pre sprístupnenie hod.ručičiek 6.np oz.31 | E105: m | F105: 23.8 | I105: =ROUND(F105*(G105+H105),2) -> 0 | J105: =ROUND(F105*(N105),2) -> 79.49 | K105: =ROUND(F105*(O105),2) -> 0 | L105: =ROUND(F105*(G105),2) -> 0 | N105: 3.34 | Z105: 0
B106: 762/A 1 | C106: 762595000 | D106: Spojovacie a ochranné prostriedky klince, skrutky, impregnácia | E106: m3 | F106: 6.678 | I106: =ROUND(F106*(G106+H106),2) -> 0 | J106: =ROUND(F106*(N106),2) -> 20.43 | K106: =ROUND(F106*(O106),2) -> 0 | L106: =ROUND(F106*(G106),2) -> 0 | N106: 3.06 | P106: 0.00259 | R106: 0.00259 | S106: =ROUND(F106*(R106),3) -> 0.017 | Z106: 0
B107: 762/A 1 | C107: 998762204 | D107: Presun hmôt pre konštrukcie tesárske v objektoch výšky od 24 do 36 m | E107: % | F107: 5580.097 | I107: =ROUND(F107*(G107+H107),2) -> 0 | J107: =ROUND(F107*(N107),2) -> 331.23 | K107: =ROUND(F107*(O107),2) -> 0 | L107: =ROUND(F107*(G107),2) -> 0 | N107: 0.059359997 | Z107: 0
B108: P/PC | C108: 553/021 | D108: Závitová tyč D 16mm, dl.25cm | E108: ks | F108: 8 | I108: =ROUND(F108*(G108+H108),2) -> 0 | J108: =ROUND(F108*(N108),2) -> 4.64 | K108: =ROUND(F108*(O108),2) -> 0 | M108: =ROUND(F108*(G108),2) -> 0 | N108: 0.58 | Z108: 0
B109: P/PC | C109: 553/023 | D109: Závitová tyč D 16mm, dl.30cm | E109: ks | F109: 32 | I109: =ROUND(F109*(G109+H109),2) -> 0 | J109: =ROUND(F109*(N109),2) -> 32.32 | K109: =ROUND(F109*(O109),2) -> 0 | M109: =ROUND(F109*(G109),2) -> 0 | N109: 1.01 | Z109: 0
B110: P/PC | C110: 553/1 | D110: Dodávka kotevných želiez pre drev.stĺpa PL4 | E110: ks | F110: 16 | I110: =ROUND(F110*(G110+H110),2) -> 0 | J110: =ROUND(F110*(N110),2) -> 36.64 | K110: =ROUND(F110*(O110),2) -> 0 | M110: =ROUND(F110*(G110),2) -> 0 | N110: 2.29 | Z110: 0
B111: P/PC | C111: 605/1 | D111: Dodávka reziva SM/JD -dosky+hranoly - 2.np-7.np | E111: m3 | F111: 7.346 | I111: =ROUND(F111*(G111+H111),2) -> 0 | J111: =ROUND(F111*(N111),2) -> 1873.96 | K111: =ROUND(F111*(O111),2) -> 0 | M111: =ROUND(F111*(G111),2) -> 0 | N111: 255.1 | Z111: 0
B112: P/PC | C112: 605/10 | D112: Dodávka - pre drevenú plošinu (31) -6.np | E112: kpl | F112: 0.77 | I112: =ROUND(F112*(G112+H112),2) -> 0 | J112: =ROUND(F112*(N112),2) -> 196.43 | K112: =ROUND(F112*(O112),2) -> 0 | M112: =ROUND(F112*(G112),2) -> 0 | N112: 255.1 | Z112: 0
B113: P/PC | C113: 762/1 | D113: D+M - Drevené samonosné schody+drevené zábradlie s konečnou úpravou - ozn.SCH/1 podľa schémi 4.np. ozn.26 | E113: ks | F113: 1 | I113: =ROUND(F113*(G113+H113),2) -> 0 | J113: =ROUND(F113*(N113),2) -> 763.2 | K113: =ROUND(F113*(O113),2) -> 0 | M113: =ROUND(F113*(G113),2) -> 0 | N113: 763.2 | Z113: 0
B114: P/PC | C114: 762/2 | D114: D+M - Drevené samonosné schody+drevené zábradlie s konečnou úpravou - ozn.SCH/2 podľa schémi 5.np ozn.26 | E114: ks | F114: 1 | I114: =ROUND(F114*(G114+H114),2) -> 0 | J114: =ROUND(F114*(N114),2) -> 795 | K114: =ROUND(F114*(O114),2) -> 0 | M114: =ROUND(F114*(G114),2) -> 0 | N114: 795 | Z114: 0
B115: P/PC | C115: 762/3 | D115: D+M - Drevené samonosné schody+drevené zábradlie s konečnou úpravou - ozn.SCH/3 podľa schémi 6.np ozn.26 | E115: ks | F115: 1 | I115: =ROUND(F115*(G115+H115),2) -> 0 | J115: =ROUND(F115*(N115),2) -> 901 | K115: =ROUND(F115*(O115),2) -> 0 | M115: =ROUND(F115*(G115),2) -> 0 | N115: 901 | Z115: 0
D116: KONŠTRUKCIE TESÁRSKE | H116: =ROUND((SUM(M100:M115))/1,2) -> 0 | I116: =ROUND((SUM(I100:I115))/1,2) -> 0 | L116: =ROUND((SUM(L100:L115))/1,2) -> 0 | M116: =ROUND((SUM(M100:M115))/1,2) -> 0 | P116: =ROUND((SUM(P100:P115))/1,2) -> 0 | S116: =ROUND((SUM(S100:S115))/1,2) -> 0.02
D118: KONŠTRUKCIE STOLÁRSKE
B119: 1/A 1 | C119: 766662954 | D119: D+M Veľkoformátové pohyblivé lamelové žalúzie 1430x2700mm napojené na el.pohonom ozn.04 | E119: ks | F119: 2 | I119: =ROUND(F119*(G119+H119),2) -> 0 | J119: =ROUND(F119*(N119),2) -> 561.8 | K119: =ROUND(F119*(O119),2) -> 0 | L119: =ROUND(F119*(G119),2) -> 0 | N119: 280.9 | Z119: 0
B120: 765/C 1 | C120: 766990019 | D120: D+M Obnoviť zvlakové dvere s konečnou úpravou 790x1760mm a doplniť krabicový zámok 2.np ozn.11 | E120: ks | F120: 1 | I120: =ROUND(F120*(G120+H120),2) -> 0 | J120: =ROUND(F120*(N120),2) -> 371 | K120: =ROUND(F120*(O120),2) -> 0 | L120: =ROUND(F120*(G120),2) -> 0 | N120: 371 | Z120: 0
B121: 765/C 1 | C121: 766990019 | D121: D+M Obnoviť zvlakové dvere s konečnou úpravou 810x1730mm a doplniť krabicový zámok 3.np ozn.16 | E121: ks | F121: 1 | I121: =ROUND(F121*(G121+H121),2) -> 0 | J121: =ROUND(F121*(N121),2) -> 402.8 | K121: =ROUND(F121*(O121),2) -> 0 | L121: =ROUND(F121*(G121),2) -> 0 | N121: 402.8 | Z121: 0
B122: 765/C 1 | C122: 766990019 | D122: D+M Obnoviť zvlakové dvere s konečnou úpravou 750x1850mm a doplniť krabicový zámok 4.np ozn.22 | E122: ks | F122: 1 | I122: =ROUND(F122*(G122+H122),2) -> 0 | J122: =ROUND(F122*(N122),2) -> 689 | K122: =ROUND(F122*(O122),2) -> 0 | L122: =ROUND(F122*(G122),2) -> 0 | N122: 689 | Z122: 0
B123: 766/A 1 | C123: 766990012 | D123: D+M Vonkajšie dvere 700x1950mm atyp.vrátane zárubne a atyp kovania a zámku (histor.) a konečnej úprave, podľa schémi ozn.D1/L | E123: ks | F123: 1 | I123: =ROUND(F123*(G123+H123),2) -> 0 | J123: =ROUND(F123*(N123),2) -> 450.5 | K123: =ROUND(F123*(O123),2) -> 0 | L123: =ROUND(F123*(G123),2) -> 0 | N123: 450.5 | Z123: 0
...

Sheet Kryci_list 14617
F1: Krycí list rozpočtu | W1: 30.126
B2: Stavba Rímskokatolícky kostol Najsvätejšieho Kristovho Tela a Krvi v Stropkove - Obnova veže
B3: Objekt SO 01 Obnova veže - USR - umelé osvetlenie a rozvody | I3: Miesto:
I4: Ks:
B5: Zákazka: | F5: Spracoval: Ing. Ján Halgaš | I5: Dňa | J5: 24.02.2020
B6: Odberateľ: Rímskokatolícka farnosť Najsvätejšieho Tela Pána Stropkov
B7: IČO: | G7: DIČ:
B8: Projektant:
B9: IČO: | G9: DIČ:
B10: Dodávateľ:
B11: IČO: | G11: DIČ:
B15: A | C15: ZRN | D15: Montáž | E15: Materiál | F15: ZRN spolu | G15: B | H15: Ďalšie náklady
B16: 1 | C16: HSV | D16: ='Rekap 14617'!B12 -> 0 | E16: ='Rekap 14617'!C12 -> 0 | F16: ='Rekap 14617'!D12 -> 0 | G16: 6 | H16: Ostatné náklady | J16: 0
B17: 2 | C17: PSV | G17: 7 | H17: Kompletačná činnosť | J17: ='SO 14617'!Z75 -> 0
B18: 3 | C18: MONT | D18: ='Rekap 14617'!B17 -> 0 | E18: ='Rekap 14617'!C17 -> 0 | F18: ='Rekap 14617'!D17 -> 0 | G18: 8 | H18: HZS | J18: 0
B19: 4 | G19: 9
B20: 5 | C20: Spolu | F20: =SUM(F16:F19) -> 0 | G20: 10 | H20: Spolu | J20: =SUM(J16:J19) -> 0
B21: C | C21: VRN | G21: D | H21: VRN
B22: 11 | C22: Zariadenie staveniska | E22: 0% z [H+P+M] | F22: =((F16*U22*0)+(F17*V22*0)+(F18*W22*0))/100 -> 0 | G22: 16 | H22: Sťažené podmienky dopravy | I22: 0% z [H+P+M] | J22: =((F16*X22*0)+(F17*Y22*0)+(F18*Z22*0))/100 -> 0 | U22: 1 | V22: 1 | W22: 1 | X22: 1 | Y22: 1 | Z22: 1
B23: 12 | C23: Sťažené výrobné podmienky | E23: 0% z [H+P] | F23: =((F16*U23*0)+(F17*V23*0)+(F18*W23*0))/100 -> 0 | G23: 17 | H23: Horské oblasti | I23: 0% z [H+P+M] | J23: =((F16*X23*0)+(F17*Y23*0)+(F18*Z23*0))/100 -> 0 | U23: 1 | V23: 1 | W23: 0 | X23: 1 | Y23: 1 | Z23: 1
B24: 13 | C24: Prevádzkové vplyvy | E24: 0% z [H+P+M] | F24: =((F16*U24*0)+(F17*V24*0)+(F18*W24*0))/100 -> 0 | G24: 18 | H24: Mimostavenisková doprava | I24: 0% z [H+P] | J24: =((F16*X24*0)+(F17*Y24*0)+(F18*Z24*0))/100 -> 0 | U24: 1 | V24: 1 | W24: 1 | X24: 1 | Y24: 1 | Z24: 0
B25: 14 | G25: 19
B26: 15 | G26: 20 | H26: Spolu | J26: =SUM(J22:J25)+SUM(F22:F25) -> 0
C27: Projektant,rozpočtár | G27: E | H27: Celkové náklady
G28: 21 | H28: Súčet riadkov 5,10,15,20 | J28: =F20+J20+F26+J26 -> 0
G29: 22 | H29: DPH 20% z | I29: =J28-SUM('SO 14617'!K9:'SO 14617'!K74) -> 0 | J29: =ROUND(((ROUND(I29,2)*20)*1/100),2) -> 0
G30: 23 | H30: DPH 0% z | I30: =SUM('SO 14617'!K9:'SO 14617'!K74) -> 0 | J30: =ROUND(((ROUND(I30,2)*0)/100),2) -> 0
G31: 24 | H31: Spolu v EUR | J31: =SUM(J28:J30) -> 0
G32: F
D33: Odberateľ | G33: 26 | H33: Dodávateľ

Sheet Rekap 14617
A1: Odberateľ: Rímskokatolícka farnosť Najsvätejšieho Tela Pána Stropkov | E1: Spracoval: Ing. Ján Halgaš | W1: 30.126
A2: Projektant: | E2: Ks:
A3: Dodávateľ: | E3: Dátum: 24.02.2020
A4: Stavba Rímskokatolícky kostol Najsvätejšieho Kristovho Tela a Krvi v Stropkove - Obnova veže
A5: Objekt SO 01 Obnova veže - USR - umelé osvetlenie a rozvody
A8: Prehľad rozpočtových nákladov
A9: Oddiel | B9: Montáž | C9: Materiál | D9: Spolu | E9: Hmotnosť (T) | F9: Suť (T)
A10: Práce HSV
A11: ZÁKLADY | B11: ='SO 14617'!L12 -> 0 | C11: ='SO 14617'!M12 -> 0 | D11: ='SO 14617'!I12 -> 0 | E11: ='SO 14617'!P12 -> 0 | F11: ='SO 14617'!S12 -> 0
A12: Práce HSV | B12: ='SO 14617'!L14 -> 0 | C12: ='SO 14617'!M14 -> 0 | D12: ='SO 14617'!I14 -> 0 | E12: ='SO 14617'!P14 -> 0 | F12: ='SO 14617'!S14 -> 0
A14: Montážne práce
A15: M-21 ELEKTROMONTÁŽE | B15: ='SO 14617'!L67 -> 0 | C15: ='SO 14617'!M67 -> 0 | D15: ='SO 14617'!I67 -> 0 | E15: ='SO 14617'!P67 -> 0 | F15: ='SO 14617'!S67 -> 0
A16: M-22 MONTÁŽ OZNAMOVACÍCH A SIGNAL. ZARIADENÍ | B16: ='SO 14617'!L72 -> 0 | C16: ='SO 14617'!M72 -> 0 | D16: ='SO 14617'!I72 -> 0 | E16: ='SO 14617'!P72 -> 0 | F16: ='SO 14617'!S72 -> 0
A17: Montážne práce | B17: ='SO 14617'!L74 -> 0 | C17: ='SO 14617'!M74 -> 0 | D17: ='SO 14617'!I74 -> 0 | E17: ='SO 14617'!S74 -> 0 | F17: ='SO 14617'!V74 -> 0
A19: Celkom v EUR | B19: ='SO 14617'!L75 -> 0 | C19: ='SO 14617'!M75 -> 0 | D19: ='SO 14617'!I75 -> 0 | E19: ='SO 14617'!S75 -> 0 | F19: ='SO 14617'!V75 -> 0

Sheet SO 14617
B1: Odberateľ: Rímskokatolícka farnosť Najsvätejšieho Tela Pána Stropkov | I1: Spracoval: Ing. Ján Halgaš | W1: 30.126
B2: Projektant: | I2: Ks:
B3: Dodávateľ: | I3: Dátum: 24.02.2020
B4: Zákazka Rímskokatolícky kostol Najsvätejšieho Kristovho Tela a Krvi v Stropkove - Obnova veže
B5: Objekt SO 01 Obnova veže - USR - umelé osvetlenie a rozvody
B7: Prehľad rozpočtových nákladov
A8: Por.č. | B8: Cenník | C8: Kód položky | D8: Názov | E8: Mj | F8: Množstvo | G8: Cena/Mj | H8: Materiál | I8: Cena celkom | P8: Hmotnosť/Mj | S8: Hmotnosť | V8: Suť
D9: Práce HSV
D10: ZÁKLADY
B11: R/RE | C11: 203M110 | D11: Kábel Cu 750V : CYKY-J 3x2,5 | E11: m | F11: 150 | I11: =ROUND(F11*(G11+H11),2) -> 0 | J11: =ROUND(F11*(N11),2) -> 118.5 | K11: =ROUND(F11*(O11),2) -> 0 | L11: =ROUND(F11*(G11),2) -> 0 | N11: 0.79 | Z11: 0
D12: ZÁKLADY | H12: =ROUND((SUM(M10:M11))/1,2) -> 0 | I12: =ROUND((SUM(I10:I11))/1,2) -> 0 | L12: =ROUND((SUM(L10:L11))/1,2) -> 0 | M12: =ROUND((SUM(M10:M11))/1,2) -> 0 | P12: =ROUND((SUM(P10:P11))/1,2) -> 0 | S12: =ROUND((SUM(S10:S11))/1,2) -> 0
D14: Práce HSV | H14: =ROUND((SUM(M9:M13))/2,2) -> 0 | I14: =ROUND((SUM(I9:I13))/2,2) -> 0 | L14: =ROUND((SUM(L9:L13))/2,2) -> 0 | M14: =ROUND((SUM(M9:M13))/2,2) -> 0 | P14: =ROUND((SUM(P9:P13))/2,2) -> 0 | S14: =ROUND((SUM(S9:S13))/2,2) -> 0
D16: Montážne práce
D17: M-21 ELEKTROMONTÁŽE
B18: 921 | C18: 210040756 | D18: Vyrezanie rýh v beton.murive hl.2cm š.4cm fréz.v priest.priľahl kstropu | E18: m | F18: 300 | I18: =ROUND(F18*(G18+H18),2) -> 0 | J18: =ROUND(F18*(N18),2) -> 1956 | K18: =ROUND(F18*(O18),2) -> 0 | L18: =ROUND(F18*(G18),2) -> 0 | N18: 6.52 | Z18: 0
B19: 921 | C19: 21020P0015 | D19: Montáž LED pásika | E19: ks | F19: 85 | I19: =ROUND(F19*(G19+H19),2) -> 0 | J19: =ROUND(F19*(N19),2) -> 450.5 | K19: =ROUND(F19*(O19),2) -> 0 | L19: =ROUND(F19*(G19),2) -> 0 | N19: 5.3 | Z19: 0
B20: 921 | C20: 900000110 | D20: Príprava ku komplexnej slúške | E20: hod | F20: 10 | I20: =ROUND(F20*(G20+H20),2) -> 0 | J20: =ROUND(F20*(N20),2) -> 105.6 | K20: =ROUND(F20*(O20),2) -> 0 | L20: =ROUND(F20*(G20),2) -> 0 | N20: 10.56 | Z20: 0
B21: 921 | C21: 990000100 | D21: Východzia revízia | E21: hod | F21: 10 | I21: =ROUND(F21*(G21+H21),2) -> 0 | J21: =ROUND(F21*(N21),2) -> 176 | K21: =ROUND(F21*(O21),2) -> 0 | L21: =ROUND(F21*(G21),2) -> 0 | N21: 17.6 | Z21: 0
B22: 921 | C22: 990000125 | D22: Nešpecifikované práce | E22: hod | F22: 20 | I22: =ROUND(F22*(G22+H22),2) -> 0 | J22: =ROUND(F22*(N22),2) -> 211.2 | K22: =ROUND(F22*(O22),2) -> 0 | L22: =ROUND(F22*(G22),2) -> 0 | N22: 10.56 | Z22: 0
B23: 921 | C23: 990000127 | D23: Skúšobná prevádzka | E23: hod | F23: 5 | I23: =ROUND(F23*(G23+H23),2) -> 0 | J23: =ROUND(F23*(N23),2) -> 88 | K23: =ROUND(F23*(O23),2) -> 0 | L23: =ROUND(F23*(G23),2) -> 0 | N23: 17.6 | Z23: 0
B24: 921/M21 | C24: 210010301 | D24: Škatuľa KP prístrojová bez zapojenia | E24: kus | F24: 34 | I24: =ROUND(F24*(G24+H24),2) -> 0 | J24: =ROUND(F24*(N24),2) -> 33.66 | K24: =ROUND(F24*(O24),2) -> 0 | L24: =ROUND(F24*(G24),2) -> 0 | N24: 0.99 | Z24: 0
B25: 921/M21 | C25: 210010321 | D25: Škatuľa KR rozvodka kruhová (D68) vrátane zapojenia | E25: kus | F25: 35 | I25: =ROUND(F25*(G25+H25),2) -> 0 | J25: =ROUND(F25*(N25),2) -> 148.4 | K25: =ROUND(F25*(O25),2) -> 0 | L25: =ROUND(F25*(G25),2) -> 0 | N25: 4.24 | Z25: 0
B26: 921/M21 | C26: 210100001 | D26: Ukončenie vodiča v rozvádzači a zapojenie do 2,5 | E26: kus | F26: 23 | I26: =ROUND(F26*(G26+H26),2) -> 0 | J26: =ROUND(F26*(N26),2) -> 13.57 | K26: =ROUND(F26*(O26),2) -> 0 | L26: =ROUND(F26*(G26),2) -> 0 | N26: 0.59 | Z26: 0
B27: 921/M21 | C27: 210100002 | D27: Ukončenie vodiča v rozvádzači a zapojenie 4-6 | E27: kus | F27: 5 | I27: =ROUND(F27*(G27+H27),2) -> 0 | J27: =ROUND(F27*(N27),2) -> 3.05 | K27: =ROUND(F27*(O27),2) -> 0 | L27: =ROUND(F27*(G27),2) -> 0 | N27: 0.61 | Z27: 0
B28: 921/M21 | C28: 210110041 | D28: Spínač zapustený IP20, rad.1 | E28: kus | F28: 10 | I28: =ROUND(F28*(G28+H28),2) -> 0 | J28: =ROUND(F28*(N28),2) -> 14.5 | K28: =ROUND(F28*(O28),2) -> 0 | L28: =ROUND(F28*(G28),2) -> 0 | N28: 1.45 | Z28: 0
B29: 921/M21 | C29: 210111012 | D29: Zásuvka zapustená IP20, x-násobná 10/16A - 250V, priebežná | E29: kus | F29: 24 | I29: =ROUND(F29*(G29+H29),2) -> 0 | J29: =ROUND(F29*(N29),2) -> 84.72 | K29: =ROUND(F29*(O29),2) -> 0 | L29: =ROUND(F29*(G29),2) -> 0 | N29: 3.53 | Z29: 0
B30: 921/M21 | C30: 210190001 | D30: Montáž rozvodnice do 20kg | E30: kus | F30: 3 | I30: =ROUND(F30*(G30+H30),2) -> 0 | J30: =ROUND(F30*(N30),2) -> 16.53 | K30: =ROUND(F30*(O30),2) -> 0 | L30: =ROUND(F30*(G30),2) -> 0 | N30: 5.51 | Z30: 0
B31: 921/M21 | C31: 210200004 | D31: Svietidlo LED IP20 (A,B,C,D) | E31: kus | F31: 36 | I31: =ROUND(F31*(G31+H31),2) -> 0 | J31: =ROUND(F31*(N31),2) -> 112.32 | K31: =ROUND(F31*(O31),2) -> 0 | L31: =ROUND(F31*(G31),2) -> 0 | N31: 3.12 | Z31: 0
B32: 921/M21 | C32: 210800101 | D32: Kábel 750V uložený pod omietkou CYKY 2x1,5 | E32: m | F32: 30 | I32: =ROUND(F32*(G32+H32),2) -> 0 | J32: =ROUND(F32*(N32),2) -> 18.3 | K32: =ROUND(F32*(O32),2) -> 0 | L32: =ROUND(F32*(G32),2) -> 0 | N32: 0.61 | Z32: 0
B33: 921/M21 | C33: 210800105 | D33: Kábel 750V uložený pod omietkou CYKY 3x1,5 | E33: m | F33: 200 | I33: =ROUND(F33*(G33+H33),2) -> 0 | J33: =ROUND(F33*(N33),2) -> 122 | K33: =ROUND(F33*(O33),2) -> 0 | L33: =ROUND(F33*(G33),2) -> 0 | N33: 0.61 | Z33: 0
B34: 921/M21 | C34: 210800106 | D34: Kábel 750V uložený pod omietkou CYKY 3x2,5 | E34: m | F34: 150 | I34: =ROUND(F34*(G34+H34),2) -> 0 | J34: =ROUND(F34*(N34),2) -> 91.5 | K34: =ROUND(F34*(O34),2) -> 0 | L34: =ROUND(F34*(G34),2) -> 0 | N34: 0.61 | Z34: 0
B35: MAT | C35: 203M001 | D35: Kábel Cu 750V : CYKY-O 2x1,5 | E35: m | F35: 30 | I35: =ROUND(F35*(G35+H35),2) -> 0 | J35: =ROUND(F35*(N35),2) -> 11.4 | K35: =ROUND(F35*(O35),2) -> 0 | L35: =ROUND(F35*(G35),2) -> 0 | N35: 0.38 | Z35: 0
... B53: MAT | C53: 615L101 | D53: Škatuľa KP prístrojová 2MD : 10925, pre Mosaic, do kanálov DLP 80, 150, 195, 220 alebo ekvivalent | E53: kus | F53: 34 | I53: =ROUND(F53*(G53+H53),2) -> 0 | J53: =ROUND(F53*(N53),2) -> 203.66 | K53: =ROUND(F53*(O53),2) -> 0 | L53: =ROUND(F53*(G53),2) -> 0 | N53: 5.99 | Z53: 0
B54: P/PE | C54: MAT1 | D54: Rozvádzač R1 atypický, krytie IP40/IP20 - Zapustený rozvádzač 3R | E54: KS | F54: 1 | I54: =ROUND(F54*(G54+H54),2) -> 0 | J54: =ROUND(F54*(N54),2) -> 23.32 | K54: =ROUND(F54*(O54),2) -> 0 | M54: =ROUND(F54*(G54),2) -> 0 | N54: 23.32 | Z54: 0
B55: P/PE | C55: MAT10 | D55: Rozvádzač RVO atypický, krytie IP40/IP20 - Spínacie hodiny SHT-1/230 | E55: KS | F55: 1 | I55: =ROUND(F55*(G55+H55),2) -> 0 | J55: =ROUND(F55*(N55),2) -> 41.87 | K55: =ROUND(F55*(O55),2) -> 0 | M55: =ROUND(F55*(G55),2) -> 0 | N55: 41.87 | Z55: 0
B56: P/PE | C56: MAT2 | D56: Rozvádzač R1 atypický, krytie IP40/IP20 - Vypínač IA 3/40, In=40A | E56: KS | F56: 1 | I56: =ROUND(F56*(G56+H56),2) -> 0 | J56: =ROUND(F56*(N56),2) -> 19.08 | K56: =ROUND(F56*(O56),2) -> 0 | M56: =ROUND(F56*(G56),2) -> 0 | N56: 19.08 | Z56: 0
B57: P/PE | C57: MAT3 | D57: Rozvádzač R1 atypický, krytie IP40/IP20 - Istič LPN 10B/1 | E57: KS | F57: 3 | I57: =ROUND(F57*(G57+H57),2) -> 0 | J57: =ROUND(F57*(N57),2) -> 16.05 | K57: =ROUND(F57*(O57),2) -> 0 | M57: =ROUND(F57*(G57),2) -> 0 | N57: 5.35 | Z57: 0
B58: P/PE | C58: MAT4 | D58: Rozvádzač R1 atypický, krytie IP40/IP20 - Istič LPN 16B/1 | E58: KS | F58: 3 | I58: =ROUND(F58*(G58+H58),2) -> 0 | J58: =ROUND(F58*(N58),2) -> 16.05 | K58: =ROUND(F58*(O58),2) -> 0 | M58: =ROUND(F58*(G58),2) -> 0 | N58: 5.35 | Z58: 0
B59: P/PE | C59: MAT5 | D59: Rozvádzač R1 atypický, krytie IP40/IP20 - Prúdový chránič OFI-25/4/0,03 | E59: ks | F59: 1 | I59: =ROUND(F59*(G59+H59),2) -> 0 | J59: =ROUND(F59*(N59),2) -> 59.36 | K59: =ROUND(F59*(O59),2) -> 0 | M59: =ROUND(F59*(G59),2) -> 0 | N59: 59.36 | Z59: 0
B60: P/PE | C60: MAT6 | D60: Rozvádzač RVO atypický, krytie IP40/IP20 - Zapustený rozvádzač 1R | E60: ks | F60: 1 | I60: =ROUND(F60*(G60+H60),2) -> 0 | J60: =ROUND(F60*(N60),2) -> 12.72 | K60: =ROUND(F60*(O60),2) -> 0 | M60: =ROUND(F60*(G60),2) -> 0 | N60: 12.72 | Z60: 0
B61: P/PE | C61: MAT7 | D61: Rozvádzač RVO atypický, krytie IP40/IP20 - Vypínač IA 3/40, In=40A | E61: ks | F61: 1 | I61: =ROUND(F61*(G61+H61),2) -> 0 | J61: =ROUND(F61*(N61),2) -> 19.08 | K61: =ROUND(F61*(O61),2) -> 0 | M61: =ROUND(F61*(G61),2) -> 0 | N61: 19.08 | Z61: 0
B62: P/PE | C62: MAT8 | D62: Rozvádzač RVO atypický, krytie IP40/IP20 - Istič LPN 10B/1 | E62: ks | F62: 1 | I62: =ROUND(F62*(G62+H62),2) -> 0 | J62: =ROUND(F62*(N62),2) -> 5.35 | K62: =ROUND(F62*(O62),2) -> 0 | M62: =ROUND(F62*(G62),2) -> 0 | N62: 5.35 | Z62: 0
B63: P/PE | C63: MAT9 | D63: Rozvádzač RVO atypický, krytie IP40/IP20 - Istič LPN 6B/1 | E63: kus | F63: 3 | I63: =ROUND(F63*(G63+H63),2) -> 0 | J63: =ROUND(F63*(N63),2) -> 16.56 | K63: =ROUND(F63*(O63),2) -> 0 | M63: =ROUND(F63*(G63),2) -> 0 | N63: 5.52 | Z63: 0
B64: 921 | C64: 900000132 | D64: Murárske práce 1% | E64: % | F64: 1 | I64: =ROUND(F64*(G64+H64),2) -> 0 | J64: =ROUND(F64*(N64),2) -> 30.67 | K64: =ROUND(F64*(O64),2) -> 0 | L64: =ROUND(F64*(G64),2) -> 0 | N64: 30.665798 | Z64: 0
B65: 921 | C65: 900000139 | D65: PPV 2% (Pomocné práce) | E65: % | F65: 2 | I65: =ROUND(F65*(G65+H65),2) -> 0 | J65: =ROUND(F65*(N65),2) -> 61.33 | K65: =ROUND(F65*(O65),2) -> 0 | L65: =ROUND(F65*(G65),2) -> 0 | N65: 30.665798 | Z65: 0
B66: MAT | C66: 000140 | D66: Podružný materiál 3% | E66: % | F66: 3 | I66: =ROUND(F66*(G66+H66),2) -> 0 | J66: =ROUND(F66*(N66),2) -> 243.17 | K66: =ROUND(F66*(O66),2) -> 0 | L66: =ROUND(F66*(G66),2) -> 0 | N66: 81.058196 | Z66: 0
D67: M-21 ELEKTROMONTÁŽE | H67: =ROUND((SUM(M17:M66))/1,2) -> 0 | I67: =ROUND((SUM(I17:I66))/1,2) -> 0 | L67: =ROUND((SUM(L17:L66))/1,2) -> 0 | M67: =ROUND((SUM(M17:M66))/1,2) -> 0 | P67: =ROUND((SUM(P17:P66))/1,2) -> 0 | S67: =ROUND((SUM(S17:S66))/1,2) -> 0
D69: M-22 MONTÁŽ OZNAMOVACÍCH A SIGNAL. ZARIADENÍ
B70: 922/M22 | C70: MONT28 | D70: Montáž 30% dodávky Rozvádzač R1 atypický, krytie IP40/IP20 | E70: kpl | F70: 1 | I70: =ROUND(F70*(G70+H70),2) -> 0 | J70: =ROUND(F70*(N70),2) -> 40.16 | K70: =ROUND(F70*(O70),2) -> 0 | L70: =ROUND(F70*(G70),2) -> 0 | N70: 40.16 | Z70: 0
B71: 922/M22 | C71: MONT29 | D71: Montáž 30% dodávky Rozvádzač RVO atypický, krytie IP40/IP20 | E71: kpl | F71: 1 | I71: =ROUND(F71*(G71+H71),2) -> 0 | J71: =ROUND(F71*(N71),2) -> 28.67 | K71: =ROUND(F71*(O71),2) -> 0 | L71: =ROUND(F71*(G71),2) -> 0 | N71: 28.67 | Z71: 0
D72: M-22 MONTÁŽ OZNAMOVACÍCH A SIGNAL. ZARIADENÍ | I72: =ROUND((SUM(I69:I71))/1,2) -> 0 | L72: =ROUND((SUM(L69:L71))/1,2) -> 0 | M72: =ROUND((SUM(M69:M71))/1,2) -> 0 | S72: =ROUND((SUM(S69:S71))/1,2) -> 0 | V72: =ROUND((SUM(V69:V71))/1,2) -> 0
D74: Montážne práce | H74: =ROUND((SUM(M16:M73))/2,2) -> 0 | I74: =ROUND((SUM(I16:I73))/2,2) -> 0 | L74: =ROUND((SUM(L16:L73))/2,2) -> 0 | M74: =ROUND((SUM(M16:M73))/2,2) -> 0 | S74: =ROUND((SUM(S16:S73))/2,2) -> 0 | V74: =ROUND((SUM(V16:V73))/2,2) -> 0
D75: Celkom v EUR | H75: =ROUND((SUM(M9:M74))/3,2) -> 0 | I75: =ROUND((SUM(I9:I74))/3,2) -> 0 | K75: =ROUND((SUM(K9:K74))/3,2) -> 0 | L75: =ROUND((SUM(L9:L74))/3,2) -> 0 | M75: =ROUND((SUM(M9:M74))/3,2) -> 0 | S75: =ROUND((SUM(S9:S74))/3,2) -> 0 | V75: =ROUND((SUM(V9:V74))/3,2) -> 0 | Z75: =(SUM(Z9:Z74)) -> 0

Sheet Kryci_list 14622
F1: Krycí list rozpočtu | W1: 30.126
B2: Stavba Rímskokatolícky kostol Najsvätejšieho Kristovho Tela a Krvi v Stropkove - Obnova veže
B3: Objekt SO 01 Obnova veže - Reštaurátorské práce | I3: Miesto:
I4: Ks:
B5: Zákazka: | F5: Spracoval: Ing. Ján Halgaš | I5: Dňa | J5: 24.02.2020
B6: Odberateľ: Rímskokatolícka farnosť Najsvätejšieho Tela Pána Stropkov
B7: IČO: | G7: DIČ:
B8: Projektant:
B9: IČO: | G9: DIČ:
B10: Dodávateľ:
B11: IČO: | G11: DIČ:
B15: A | C15: ZRN | D15: Montáž | E15: Materiál | F15: ZRN spolu | G15: B | H15: Ďalšie náklady
B16: 1 | C16: HSV | D16: ='Rekap 14622'!B12 -> 0 | E16: ='Rekap 14622'!C12 -> 0 | F16: ='Rekap 14622'!D12 -> 0 | G16: 6 | H16: Ostatné náklady | J16: 0
B17: 2 | C17: PSV | D17: ='Rekap 14622'!B16 -> 0 | E17: ='Rekap 14622'!C16 -> 0 | F17: ='Rekap 14622'!D16 -> 0 | G17: 7 | H17: Kompletačná činnosť | J17: ='SO 14622'!Z40 -> 0
B18: 3 | C18: MONT | G18: 8 | H18: HZS | J18: 0
B19: 4 | G19: 9
B20: 5 | C20: Spolu | F20: =SUM(F16:F19) -> 0 | G20: 10 | H20: Spolu | J20: =SUM(J16:J19) -> 0
B21: C | C21: VRN | G21: D | H21: VRN
B22: 11 | C22: Zariadenie staveniska | E22: 0% z [H+P+M] | F22: =((F16*U22*0)+(F17*V22*0)+(F18*W22*0))/100 -> 0 | G22: 16 | H22: Sťažené podmienky dopravy | I22: 0% z [H+P+M] | J22: =((F16*X22*0)+(F17*Y22*0)+(F18*Z22*0))/100 -> 0 | U22: 1 | V22: 1 | W22: 1 | X22: 1 | Y22: 1 | Z22: 1
B23: 12 | C23: Sťažené výrobné podmienky | E23: 0% z [H+P] | F23: =((F16*U23*0)+(F17*V23*0)+(F18*W23*0))/100 -> 0 | G23: 17 | H23: Horské oblasti | I23: 0% z [H+P+M] | J23: =((F16*X23*0)+(F17*Y23*0)+(F18*Z23*0))/100 -> 0 | U23: 1 | V23: 1 | W23: 0 | X23: 1 | Y23: 1 | Z23: 1
B24: 13 | C24: Prevádzkové vplyvy | E24: 0% z [H+P+M] | F24: =((F16*U24*0)+(F17*V24*0)+(F18*W24*0))/100 -> 0 | G24: 18 | H24: Mimostavenisková doprava | I24: 0% z [H+P] | J24: =((F16*X24*0)+(F17*Y24*0)+(F18*Z24*0))/100 -> 0 | U24: 1 | V24: 1 | W24: 1 | X24: 1 | Y24: 1 | Z24: 0
B25: 14 | G25: 19
B26: 15 | G26: 20 | H26: Spolu | J26: =SUM(J22:J25)+SUM(F22:F25) -> 0
C27: Projektant,rozpočtár | G27: E | H27: Celkové náklady
G28: 21 | H28: Súčet riadkov 5,10,15,20 | J28: =F20+J20+F26+J26 -> 0
G29: 22 | H29: DPH 20% z | I29: =J28-SUM('SO 14622'!K9:'SO 14622'!K39) -> 0 | J29: =ROUND(((ROUND(I29,2)*20)*1/100),2) -> 0
G30: 23 | H30: DPH 0% z | I30: =SUM('SO 14622'!K9:'SO 14622'!K39) -> 0 | J30: =ROUND(((ROUND(I30,2)*0)/100),2) -> 0
G31: 24 | H31: Spolu v EUR | J31: =SUM(J28:J30) -> 0
G32: F
D33: Odberateľ | G33: 26 | H33: Dodávateľ

Sheet Rekap 14622
A1: Odberateľ: Rímskokatolícka farnosť Najsvätejšieho Tela Pána Stropkov | E1: Spracoval: Ing. Ján Halgaš | W1: 30.126
A2: Projektant: | E2: Ks:
A3: Dodávateľ: | E3: Dátum: 24.02.2020
A4: Stavba Rímskokatolícky kostol Najsvätejšieho Kristovho Tela a Krvi v Stropkove - Obnova veže
A5: Objekt SO 01 Obnova veže - Reštaurátorské práce
A8: Prehľad rozpočtových nákladov
A9: Oddiel | B9: Montáž | C9: Materiál | D9: Spolu | E9: Hmotnosť (T) | F9: Suť (T)
A10: Práce HSV
A11: OSTATNÉ PRÁCE | B11: ='SO 14622'!L27 -> 0 | C11: ='SO 14622'!M27 -> 0 | D11: ='SO 14622'!I27 -> 0 | E11: ='SO 14622'!P27 -> 0 | F11: ='SO 14622'!S27 -> 0
A12: Práce HSV | B12: ='SO 14622'!L29 -> 0 | C12: ='SO 14622'!M29 -> 0 | D12: ='SO 14622'!I29 -> 0 | E12: ='SO 14622'!P29 -> 0 | F12: ='SO 14622'!S29 -> 0
A14: Práce PSV
A15: KOVOVÉ DOPLNKOVÉ KONŠTRUKCIE | B15: ='SO 14622'!L37 -> 0 | C15: ='SO 14622'!M37 -> 0 | D15: ='SO 14622'!I37 -> 0 | E15: ='SO 14622'!P37 -> 0 | F15: ='SO 14622'!S37 -> 0
A16: Práce PSV | B16: ='SO 14622'!L39 -> 0 | C16: ='SO 14622'!M39 -> 0 | D16: ='SO 14622'!I39 -> 0 | E16: ='SO 14622'!S39 -> 0 | F16: ='SO 14622'!V39 -> 0
A18: Celkom v EUR | B18: ='SO 14622'!L40 -> 0 | C18: ='SO 14622'!M40 -> 0 | D18: ='SO 14622'!I40 -> 0 | E18: ='SO 14622'!S40 -> 0 | F18: ='SO 14622'!V40 -> 0

Sheet SO 14622
B1: Odberateľ: Rímskokatolícka farnosť Najsvätejšieho Tela Pána Stropkov | I1: Spracoval: Ing. Ján Halgaš | W1: 30.126
B2: Projektant: | I2: Ks:
B3: Dodávateľ: | I3: Dátum: 24.02.2020
B4: Zákazka Rímskokatolícky kostol Najsvätejšieho Kristovho Tela a Krvi v Stropkove - Obnova veže
B5: Objekt SO 01 Obnova veže - Reštaurátorské práce
B7: Prehľad rozpočtových nákladov
A8: Por.č. | B8: Cenník | C8: Kód položky | D8: Názov | E8: Mj | F8: Množstvo | G8: Cena/Mj | H8: Materiál | I8: Cena celkom | P8: Hmotnosť/Mj | S8: Hmotnosť | V8: Suť
D9: Práce HSV
D10: OSTATNÉ PRÁCE
B11: R/R 0 | C11: 010/010 | D11: Reštaurátorský vykum a návrh na reštaurovanie | E11: ks | F11: 1 | I11: =ROUND(F11*(G11+H11),2) -> 0 | J11: =ROUND(F11*(N11),2) -> 636 | K11: =ROUND(F11*(O11),2) -> 0 | L11: =ROUND(F11*(G11),2) -> 0 | N11: 636 | Z11: 0
B12: R/R 0 | C12: 010/020 | D12: Dokumentácia vykonaných prác | E12: ks | F12: 1 | I12: =ROUND(F12*(G12+H12),2) -> 0 | J12: =ROUND(F12*(N12),2) -> 265 | K12: =ROUND(F12*(O12),2) -> 0 | L12: =ROUND(F12*(G12),2) -> 0 | N12: 265 | Z12: 0
B13: P/PC | C13: 01/02 | D13: D+M - Kamenné okná ozn.102-5.NP | E13: ks | F13: 4 | I13: =ROUND(F13*(G13+H13),2) -> 0 | J13: =ROUND(F13*(N13),2) -> 9328 | K13: =ROUND(F13*(O13),2) -> 0 | M13: =ROUND(F13*(G13),2) -> 0 | N13: 2332 | Z13: 0
B14: P/PC | C14: 01/03 | D14: D+M - Kamenné okná ozn.103-4.NP | E14: ks | F14: 2 | I14: =ROUND(F14*(G14+H14),2) -> 0 | J14: =ROUND(F14*(N14),2) -> 3604 | K14: =ROUND(F14*(O14),2) -> 0 | M14: =ROUND(F14*(G14),2) -> 0 | N14: 1802 | Z14: 0
B15: P/PC | C15: 01/04 | D15: D+M - Kamenné okná ozn.105-3.-4.NP | E15: ks | F15: 1 | I15: =ROUND(F15*(G15+H15),2) -> 0 | J15: =ROUND(F15*(N15),2) -> 530 | K15: =ROUND(F15*(O15),2) -> 0 | M15: =ROUND(F15*(G15),2) -> 0 | N15: 530 | Z15: 0
B16: P/PC | C16: 01/05 | D16: D+M - Kamenné okná ozn.107-3.NP | E16: ks | F16: 1 | I16: =ROUND(F16*(G16+H16),2) -> 0 | J16: =ROUND(F16*(N16),2) -> 1007 | K16: =ROUND(F16*(O16),2) -> 0 | M16: =ROUND(F16*(G16),2) -> 0 | N16: 1007 | Z16: 0
B17: P/PC | C17: 01/06 | D17: D+M - Kamenné okná ozn.108-3.NP | E17: ks | F17: 1 | I17: =ROUND(F17*(G17+H17),2) -> 0 | J17: =ROUND(F17*(N17),2) -> 1007 | K17: =ROUND(F17*(O17),2) -> 0 | M17: =ROUND(F17*(G17),2) -> 0 | N17: 1007 | Z17: 0
B18: P/PC | C18: 01/07 | D18: D+M - Kamenné okná ozn.109 2.-3.NP | E18: ks | F18: 1 | I18: =ROUND(F18*(G18+H18),2) -> 0 | J18: =ROUND(F18*(N18),2) -> 530 | K18: =ROUND(F18*(O18),2) -> 0 | M18: =ROUND(F18*(G18),2) -> 0 | N18: 530 | Z18: 0
B19: P/PC | C19: 01/08 | D19: D+M - Kamenné okná ozn.111 2.NP | E19: ks | F19: 1 | I19: =ROUND(F19*(G19+H19),2) -> 0 | J19: =ROUND(F19*(N19),2) -> 795 | K19: =ROUND(F19*(O19),2) -> 0 | M19: =ROUND(F19*(G19),2) -> 0 | N19: 795 | Z19: 0
B20: P/PC | C20: 01/09 | D20: D+M - Kamenné okná ozn.112 2.NP | E20: ks | F20: 1 | I20: =ROUND(F20*(G20+H20),2) -> 0 | J20: =ROUND(F20*(N20),2) -> 689 | K20: =ROUND(F20*(O20),2) -> 0 | M20: =ROUND(F20*(G20),2) -> 0 | N20: 689 | Z20: 0
B21: P/PC | C21: 01/10 | D21: D+M - Kamenné okná ozn.113 1.NP | E21: ks | F21: 1 | I21: =ROUND(F21*(G21+H21),2) -> 0 | J21: =ROUND(F21*(N21),2) -> 530 | K21: =ROUND(F21*(O21),2) -> 0 | M21: =ROUND(F21*(G21),2) -> 0 | N21: 530 | Z21: 0
B22: P/PC | C22: 01/12 | D22: D+M - Pravoúhly portál ozn.114/309 1.NP | E22: ks | F22: 1 | I22: =ROUND(F22*(G22+H22),2) -> 0 | J22: =ROUND(F22*(N22),2) -> 2650 | K22: =ROUND(F22*(O22),2) -> 0 | M22: =ROUND(F22*(G22),2) -> 0 | N22: 2650 | Z22: 0
B23: P/PC | C23: 01/13 | D23: D+M - Kamenné okná ozn.115 1.NP | E23: ks | F23: 1 | I23: =ROUND(F23*(G23+H23),2) -> 0 | J23: =ROUND(F23*(N23),2) -> 530 | K23: =ROUND(F23*(O23),2) -> 0 | M23: =ROUND(F23*(G23),2) -> 0 | N23: 530 | Z23: 0
B24: P/PC | C24: 01/14 | D24: D+M - Kamenné okná ozn.116 1.NP | E24: ks | F24: 1 | I24: =ROUND(F24*(G24+H24),2) -> 0 | J24: =ROUND(F24*(N24),2) -> 530 | K24: =ROUND(F24*(O24),2) -> 0 | M24: =ROUND(F24*(G24),2) -> 0 | N24: 530 | Z24: 0
... B26: P/PC | C26: 01/18 | D26: D+M - Pravoúhly portál ozn.106 (ozn.15) 3.NP - obnoviť | E26: ks | F26: 1 | I26: =ROUND(F26*(G26+H26),2) -> 0 | J26: =ROUND(F26*(N26),2) -> 1325 | K26: =ROUND(F26*(O26),2) -> 0 | M26: =ROUND(F26*(G26),2) -> 0 | N26: 1325 | Z26: 0
D27: OSTATNÉ PRÁCE | H27: =ROUND((SUM(M10:M26))/1,2) -> 0 | I27: =ROUND((SUM(I10:I26))/1,2) -> 0 | L27: =ROUND((SUM(L10:L26))/1,2) -> 0 | M27: =ROUND((SUM(M10:M26))/1,2) -> 0 | P27: =ROUND((SUM(P10:P26))/1,2) -> 0 | S27: =ROUND((SUM(S10:S26))/1,2) -> 0
D29: Práce HSV | H29: =ROUND((SUM(M9:M28))/2,2) -> 0 | I29: =ROUND((SUM(I9:I28))/2,2) -> 0 | L29: =ROUND((SUM(L9:L28))/2,2) -> 0 | M29: =ROUND((SUM(M9:M28))/2,2) -> 0 | P29: =ROUND((SUM(P9:P28))/2,2) -> 0 | S29: =ROUND((SUM(S9:S28))/2,2) -> 0
D31: Práce PSV
D32: KOVOVÉ DOPLNKOVÉ KONŠTRUKCIE
B33: P/PC | C33: 01/15 | D33: D+M - Nadpražie portalu kovaná pasovina ozn.309 1.NP (ozn.e) | E33: ks | F33: 1 | I33: =ROUND(F33*(G33+H33),2) -> 0 | J33: =ROUND(F33*(N33),2) -> 265 | K33: =ROUND(F33*(O33),2) -> 0 | M33: =ROUND(F33*(G33),2) -> 0 | N33: 265 | Z33: 0
B34: P/PC | C34: 01/16 | D34: D+M - Kovaná prievliekaná mreža - ozn.307 1.NP, 2.NP, 3.NP (ozn.9) | E34: ks | F34: 7 | I34: =ROUND(F34*(G34+H34),2) -> 0 | J34: =ROUND(F34*(N34),2) -> 3710 | K34: =ROUND(F34*(O34),2) -> 0 | M34: =ROUND(F34*(G34),2) -> 0 | N34: 530 | Z34: 0
B35: P/PC | C35: 01/17 | D35: D+M - Kovaná prievliekaná mreža ozn.308 1.NP (ozn.9) | E35: ks | F35: 1 | I35: =ROUND(F35*(G35+H35),2) -> 0 | J35: =ROUND(F35*(N35),2) -> 583 | K35: =ROUND(F35*(O35),2) -> 0 | M35: =ROUND(F35*(G35),2) -> 0 | N35: 583 | Z35: 0
B36: P/PC | C36: 01/17 | D36: D+M - Kovaná prievliekaná mreža ozn.308 .3.NP (ozn.9) | E36: ks | F36: 1 | I36: =ROUND(F36*(G36+H36),2) -> 0 | J36: =ROUND(F36*(N36),2) -> 583 | K36: =ROUND(F36*(O36),2) -> 0 | M36: =ROUND(F36*(G36),2) -> 0 | N36: 583 | Z36: 0
D37: KOVOVÉ DOPLNKOVÉ KONŠTRUKCIE | I37: =ROUND((SUM(I32:I36))/1,2) -> 0 | L37: =ROUND((SUM(L32:L36))/1,2) -> 0 | M37: =ROUND((SUM(M32:M36))/1,2) -> 0 | S37: =ROUND((SUM(S32:S36))/1,2) -> 0 | V37: =ROUND((SUM(V32:V36))/1,2) -> 0
D39: Práce PSV | H39: =ROUND((SUM(M31:M38))/2,2) -> 0 | I39: =ROUND((SUM(I31:I38))/2,2) -> 0 | L39: =ROUND((SUM(L31:L38))/2,2) -> 0 | M39: =ROUND((SUM(M31:M38))/2,2) -> 0 | S39: =ROUND((SUM(S31:S38))/2,2) -> 0 | V39: =ROUND((SUM(V31:V38))/2,2) -> 0
D40: Celkom v EUR | H40: =ROUND((SUM(M9:M39))/3,2) -> 0 | I40: =ROUND((SUM(I9:I39))/3,2) -> 0 | K40: =ROUND((SUM(K9:K39))/3,2) -> 0 | L40: =ROUND((SUM(L9:L39))/3,2) -> 0 | M40: =ROUND((SUM(M9:M39))/3,2) -> 0 | S40: =ROUND((SUM(S9:S39))/3,2) -> 0 | V40: =ROUND((SUM(V9:V39))/3,2) -> 0 | Z40: =(SUM(Z9:Z39)) -> 0
