Workbook

Sheet Rekapitulácia
A2: Rekapitulácia rozpočtu | F2: Sadzby DPH
F3: A | G3: B
A4: Stavba ODVODNENIE BUDOVY A REKONŠTRUKCIA SOCIÁLNEHO ZARIADENIA V DIECÉZNEJ SVATYNI STROPKOV | F4: 0.2 | G4: 0
A6: Názov objektu | B6: ZRN | C6: VRN | D6: HZS | E6: Kompl.čin. | F6: Ost. náklady | G6: Cena
A7: Základy | B7: ='SO 14048'!I54-Rekapitulácia!D7 -> 0 | C7: ='Kryci_list 14048'!J26 -> 0 | D7: 0 | E7: ='Kryci_list 14048'!J17 -> 0 | F7: 0 | G7: =B7+C7+D7+E7+F7 -> 0 | K7: ='SO 14048'!K54 -> 0 | Q7: 30.126
A8: Dažďová kanalizácia | B8: ='SO 14049'!I56-Rekapitulácia!D8 -> 0 | C8: ='Kryci_list 14049'!J26 -> 0 | D8: 0 | E8: ='Kryci_list 14049'!J17 -> 0 | F8: 0 | G8: =B8+C8+D8+E8+F8 -> 0 | K8: ='SO 14049'!K56 -> 0 | Q8: 30.126
A9: Splašková kanalizácia | B9: ='SO 14050'!I29-Rekapitulácia!D9 -> 0 | C9: ='Kryci_list 14050'!J26 -> 0 | D9: 0 | E9: ='Kryci_list 14050'!J17 -> 0 | F9: 0 | G9: =B9+C9+D9+E9+F9 -> 0 | K9: ='SO 14050'!K29 -> 0 | Q9: 30.126
A10: Sociálne zariadenie | B10: ='SO 14051'!I87-Rekapitulácia!D10 -> 0 | C10: ='Kryci_list 14051'!J26 -> 0 | D10: 0 | E10: ='Kryci_list 14051'!J17 -> 0 | F10: 0 | G10: =B10+C10+D10+E10+F10 -> 0 | K10: ='SO 14051'!K87 -> 0 | Q10: 30.126
A11: Celkom bez DPH | B11: =SUM(B7:B10) -> 0 | C11: =SUM(C7:C10) -> 0 | D11: =SUM(D7:D10) -> 0 | E11: =SUM(E7:E10) -> 0 | F11: =SUM(F7:F10) -> 0 | G11: =SUM(G7:G10)-SUM(Z7:Z10) -> 0
A12: DPH 20% z | B12: =G11-SUM(Rekapitulácia!K7:'Rekapitulácia'!K10)*1 -> 0 | G12: =ROUND(((ROUND(B12,2)*20)/100),2)*1 -> 0
A13: DPH 0% z | B13: =(G11-B12) -> 0 | G13: =ROUND(((ROUND(B13,2)*0)/100),2) -> 0
A14: Celkom v EUR | G14: =SUM(G11:G13) -> 0

Sheet Krycí list stavby
F1: Krycí list stavby | W1: 30.126
B2: Stavba ODVODNENIE BUDOVY A REKONŠTRUKCIA SOCIÁLNEHO ZARIADENIA V DIECÉZNEJ SVATYNI STROPKOV
I3: Miesto:
I4: Ks:
B5: Zákazka: | F5: Spracoval: Ing. Ján Halgaš | I5: Dňa | J5: 15.05.2019
B6: Odberateľ: Rímskokatolícka farnosť Najsvätejšieho Tela Pána Stropkov
B7: IČO: | G7: DIČ:
B8: Projektant:
B9: IČO: | G9: DIČ:
B10: Dodávateľ:
B11: IČO: | G11: DIČ:
B15: A | C15: ZRN | D15: Montáž | E15: Materiál | F15: ZRN spolu | G15: B | H15: Ďalšie náklady
B16: 1 | C16: HSV | D16: ='Kryci_list 14048'!D16+'Kryci_list 14049'!D16+'Kryci_list 14050'!D16+'Kryci_list 14051'!D16 -> 0 | E16: ='Kryci_list 14048'!E16+'Kryci_list 14049'!E16+'Kryci_list 14050'!E16+'Kryci_list 14051'!E16 -> 0 | F16: ='Kryci_list 14048'!F16+'Kryci_list 14049'!F16+'Kryci_list 14050'!F16+'Kryci_list 14051'!F16 -> 0 | G16: 6 | J16: =Rekapitulácia!F11 -> 0
B17: 2 | C17: PSV | D17: ='Kryci_list 14048'!D17+'Kryci_list 14049'!D17+'Kryci_list 14050'!D17+'Kryci_list 14051'!D17 -> 0 | E17: ='Kryci_list 14048'!E17+'Kryci_list 14049'!E17+'Kryci_list 14050'!E17+'Kryci_list 14051'!E17 -> 0 | F17: ='Kryci_list 14048'!F17+'Kryci_list 14049'!F17+'Kryci_list 14050'!F17+'Kryci_list 14051'!F17 -> 0 | G17: 7 | H17: Kompletačná činnosť | J17: =Rekapitulácia!E11 -> 0
B18: 3 | C18: MONT | D18: ='Kryci_list 14048'!D18+'Kryci_list 14049'!D18+'Kryci_list 14050'!D18+'Kryci_list 14051'!D18 -> 0 | E18: ='Kryci_list 14048'!E18+'Kryci_list 14049'!E18+'Kryci_list 14050'!E18+'Kryci_list 14051'!E18 -> 0 | F18: ='Kryci_list 14048'!F18+'Kryci_list 14049'!F18+'Kryci_list 14050'!F18+'Kryci_list 14051'!F18 -> 0 | G18: 8 | H18: HZS | J18: =Rekapitulácia!D11 -> 0
B19: 4 | G19: 9
B20: 5 | C20: Spolu | F20: =SUM(F16:F19) -> 0 | G20: 10 | H20: Spolu | J20: =SUM(J16:J19) -> 0
B21: C | C21: VRN | G21: D | H21: VRN
B22: 11 | C22: Zariadenie staveniska | F22: ='Kryci_list 14048'!F22+'Kryci_list 14049'!F22+'Kryci_list 14050'!F22+'Kryci_list 14051'!F22 -> 0 | G22: 16 | H22: Mimoriadne sťaž.podmienky | J22: ='Kryci_list 14048'!J22+'Kryci_list 14049'!J22+'Kryci_list 14050'!J22+'Kryci_list 14051'!J22 -> 0
B23: 12 | C23: Územie so sťaž. podmienk. | F23: ='Kryci_list 14048'!F23+'Kryci_list 14049'!F23+'Kryci_list 14050'!F23+'Kryci_list 14051'!F23 -> 0 | G23: 17 | H23: Horské oblasti | J23: ='Kryci_list 14048'!J23+'Kryci_list 14049'!J23+'Kryci_list 14050'!J23+'Kryci_list 14051'!J23 -> 0
B24: 13 | C24: Prevádzkové vplyvy | F24: ='Kryci_list 14048'!F24+'Kryci_list 14049'!F24+'Kryci_list 14050'!F24+'Kryci_list 14051'!F24 -> 0 | G24: 18 | H24: Mimostavenisková doprava | J24: ='Kryci_list 14048'!J24+'Kryci_list 14049'!J24+'Kryci_list 14050'!J24+'Kryci_list 14051'!J24 -> 0
B25: 14 | G25: 19
B26: 15 | G26: 20 | H26: Spolu | J26: =SUM(J22:J25)+SUM(F22:F25) -> 0
C27: Projektant,rozpočtár | G27: E | H27: Celkové náklady
G28: 21 | H28: Súčet riadkov 5,10,15,20 | J28: =F20+J20+F26+J26 -> 0
G29: 22 | H29: DPH 20% z | I29: =Rekapitulácia!B12 -> 0 | J29: =ROUND(((ROUND(I29,2)*20)/100),2)*1 -> 0
G30: 23 | H30: DPH 0% z | I30: =Rekapitulácia!B13 -> 0 | J30: =ROUND(((ROUND(I30,2)*0)/100),2) -> 0
G31: 24 | H31: Spolu v EUR | J31: =SUM(J28:J30) -> 0
G32: F
D33: Odberateľ | H33: Dodávateľ

Sheet Kryci_list 14048
F1: Krycí list rozpočtu | W1: 30.126
B2: Stavba ODVODNENIE BUDOVY A REKONŠTRUKCIA SOCIÁLNEHO ZARIADENIA V DIECÉZNEJ SVATYNI STROPKOV
B3: Objekt Základy | I3: Miesto:
I4: Ks:
B5: Zákazka: | F5: Spracoval: Ing. Ján Halgaš | I5: Dňa | J5: 15.05.2019
B6: Odberateľ: Rímskokatolícka farnosť Najsvätejšieho Tela Pána Stropkov
B7: IČO: | G7: DIČ:
B8: Projektant:
B9: IČO: | G9: DIČ:
B10: Dodávateľ:
B11: IČO: | G11: DIČ:
B15: A | C15: ZRN | D15: Montáž | E15: Materiál | F15: ZRN spolu | G15: B | H15: Ďalšie náklady
B16: 1 | C16: HSV | D16: ='Rekap 14048'!B17 -> 0 | E16: ='Rekap 14048'!C17 -> 0 | F16: ='Rekap 14048'!D17 -> 0 | G16: 6 | J16: 0
B17: 2 | C17: PSV | D17: ='Rekap 14048'!B21 -> 0 | E17: ='Rekap 14048'!C21 -> 0 | F17: ='Rekap 14048'!D21 -> 0 | G17: 7 | H17: Kompletačná činnosť | J17: ='SO 14048'!Z54 -> 0
B18: 3 | C18: MONT | G18: 8 | H18: HZS | J18: 0
B19: 4 | G19: 9
B20: 5 | C20: Spolu | F20: =SUM(F16:F19) -> 0 | G20: 10 | H20: Spolu | J20: =SUM(J16:J19) -> 0
B21: C | C21: VRN | G21: D | H21: VRN
B22: 11 | C22: Zariadenie staveniska | E22: 0% z [H+P+M] | F22: =((F16*U22*0)+(F17*V22*0)+(F18*W22*0))/100 -> 0 | G22: 16 | H22: Mimoriadne sťaž.podmienky | I22: 0% z [H+P+M] | J22: =((F16*X22*0)+(F17*Y22*0)+(F18*Z22*0))/100 -> 0 | U22: 1 | V22: 1 | W22: 1 | X22: 1 | Y22: 1 | Z22: 1
B23: 12 | C23: Územie so sťaž. podmienk. | E23: 0% z [H+P] | F23: =((F16*U23*0)+(F17*V23*0)+(F18*W23*0))/100 -> 0 | G23: 17 | H23: Horské oblasti | I23: 0% z [H+P+M] | J23: =((F16*X23*0)+(F17*Y23*0)+(F18*Z23*0))/100 -> 0 | U23: 1 | V23: 1 | W23: 0 | X23: 1 | Y23: 1 | Z23: 1
B24: 13 | C24: Prevádzkové vplyvy | E24: 0% z [H+P+M] | F24: =((F16*U24*0)+(F17*V24*0)+(F18*W24*0))/100 -> 0 | G24: 18 | H24: Mimostavenisková doprava | I24: 0% z [H+P] | J24: =((F16*X24*0)+(F17*Y24*0)+(F18*Z24*0))/100 -> 0 | U24: 1 | V24: 1 | W24: 1 | X24: 1 | Y24: 1 | Z24: 0
B25: 14 | G25: 19
B26: 15 | G26: 20 | H26: Spolu | J26: =SUM(J22:J25)+SUM(F22:F25) -> 0
C27: Projektant,rozpočtár | G27: E | H27: Celkové náklady
G28: 21 | H28: Súčet riadkov 5,10,15,20 | J28: =F20+J20+F26+J26 -> 0
G29: 22 | H29: DPH 20% z | I29: =J28-SUM('SO 14048'!K9:'SO 14048'!K53) -> 0 | J29: =ROUND(((ROUND(I29,2)*20)*1/100),2) -> 0
G30: 23 | H30: DPH 0% z | I30: =SUM('SO 14048'!K9:'SO 14048'!K53) -> 0 | J30: =ROUND(((ROUND(I30,2)*0)/100),2) -> 0
G31: 24 | H31: Spolu v EUR | J31: =SUM(J28:J30) -> 0
G32: F
D33: Odberateľ | G33: 26 | H33: Dodávateľ

Sheet Rekap 14048
A1: Odberateľ: Rímskokatolícka farnosť Najsvätejšieho Tela Pána Stropkov | E1: Spracoval: Ing. Ján Halgaš | W1: 30.126
A2: Projektant: | E2: Ks:
A3: Dodávateľ: | E3: Dátum: 15.05.2019
A4: Stavba ODVODNENIE BUDOVY A REKONŠTRUKCIA SOCIÁLNEHO ZARIADENIA V DIECÉZNEJ SVATYNI STROPKOV
A5: Objekt Základy
A8: Prehľad rozpočtových nákladov
A9: Oddiel | B9: Montáž | C9: Materiál | D9: Spolu | E9: Hmotnosť (T) | F9: Suť (T)
A10: Práce HSV
A11: ZEMNÉ PRÁCE | B11: ='SO 14048'!L14 -> 0 | C11: ='SO 14048'!M14 -> 0 | D11: ='SO 14048'!I14 -> 0 | E11: ='SO 14048'!P14 -> 0 | F11: ='SO 14048'!S14 -> 0
A12: ZÁKLADY | B12: ='SO 14048'!L18 -> 0 | C12: ='SO 14048'!M18 -> 0 | D12: ='SO 14048'!I18 -> 0 | E12: ='SO 14048'!P18 -> 0.01 | F12: ='SO 14048'!S18 -> 2.09
A13: SPEVNENÉ PLOCHY | B13: ='SO 14048'!L23 -> 0 | C13: ='SO 14048'!M23 -> 0 | D13: ='SO 14048'!I23 -> 0 | E13: ='SO 14048'!P23 -> 0.8 | F13: ='SO 14048'!S23 -> 73.82
A14: POVRCHOVÉ ÚPRAVY | B14: ='SO 14048'!L29 -> 0 | C14: ='SO 14048'!M29 -> 0 | D14: ='SO 14048'!I29 -> 0 | E14: ='SO 14048'!P29 -> 1.04 | F14: ='SO 14048'!S29 -> 12.3
A15: OSTATNÉ PRÁCE | B15: ='SO 14048'!L38 -> 0 | C15: ='SO 14048'!M38 -> 0 | D15: ='SO 14048'!I38 -> 0 | E15: ='SO 14048'!P38 -> 2.36 | F15: ='SO 14048'!S38 -> 30.17
A16: PRESUNY HMÔT | B16: ='SO 14048'!L42 -> 0 | C16: ='SO 14048'!M42 -> 0 | D16: ='SO 14048'!I42 -> 0 | E16: ='SO 14048'!P42 -> 0 | F16: ='SO 14048'!S42 -> 0
A17: Práce HSV | B17: ='SO 14048'!L44 -> 0 | C17: ='SO 14048'!M44 -> 0 | D17: ='SO 14048'!I44 -> 0 | E17: ='SO 14048'!P44 -> 4.22 | F17: ='SO 14048'!S44 -> 118.38
A19: Práce PSV
A20: IZOLÁCIE PROTI VODE A VLHKOSTI | B20: ='SO 14048'!L51 -> 0 | C20: ='SO 14048'!M51 -> 0 | D20: ='SO 14048'!I51 -> 0 | E20: ='SO 14048'!P51 -> 0 | F20: ='SO 14048'!S51 -> 0.48
A21: Práce PSV | B21: ='SO 14048'!L53 -> 0 | C21: ='SO 14048'!M53 -> 0 | D21: ='SO 14048'!I53 -> 0 | E21: ='SO 14048'!S53 -> 0.48 | F21: ='SO 14048'!V53 -> 0
A23: Celkom v EUR | B23: ='SO 14048'!L54 -> 0 | C23: ='SO 14048'!M54 -> 0 | D23: ='SO 14048'!I54 -> 0 | E23: ='SO 14048'!S54 -> 118.86 | F23: ='SO 14048'!V54 -> 0

Sheet SO 14048
B1: Odberateľ: Rímskokatolícka farnosť Najsvätejšieho Tela Pána Stropkov | I1: Spracoval: Ing. Ján Halgaš | W1: 30.126
B2: Projektant: | I2: Ks:
B3: Dodávateľ: | I3: Dátum: 15.05.2019
B4: Zákazka ODVODNENIE BUDOVY A REKONŠTRUKCIA SOCIÁLNEHO ZARIADENIA V DIECÉZNEJ SVATYNI STROPKOV
B5: Objekt Základy
B7: Prehľad rozpočtových nákladov
A8: Por.č. | B8: Cenník | C8: Kód položky | D8: Názov | E8: Mj | F8: Množstvo | G8: Cena/Mj | H8: Materiál | I8: Cena celkom | P8: Hmotnosť/Mj | S8: Hmotnosť | V8: Suť
D9: Práce HSV
D10: ZEMNÉ PRÁCE
B11: 1/A 1 | C11: 132111101 | D11: Hĺbenie rýh šírky do 600 mm v horninách tr. 1 a 2 súdržných - ručným náradím | E11: m3 | F11: 91.8 | I11: =ROUND(F11*(G11+H11),2) -> 0 | J11: =ROUND(F11*(N11),2) -> 2597.02 | K11: =ROUND(F11*(O11),2) -> 0 | L11: =ROUND(F11*(G11),2) -> 0 | N11: 28.29 | Z11: 0
B12: 1/A 1 | C12: 162301102 | D12: Vodorovné premiestnenie výkopku po spevnenej ceste z horniny tr.1-4, do 100 m3 na vzdialenosť do 1000 m | E12: m3 | F12: 91.8 | I12: =ROUND(F12*(G12+H12),2) -> 0 | J12: =ROUND(F12*(N12),2) -> 339.66 | K12: =ROUND(F12*(O12),2) -> 0 | L12: =ROUND(F12*(G12),2) -> 0 | N12: 3.7 | Z12: 0
B13: 1/A 1 | C13: 171201201 | D13: Uloženie sypaniny na skládky do 100 m3 | E13: m3 | F13: 91.8 | I13: =ROUND(F13*(G13+H13),2) -> 0 | J13: =ROUND(F13*(N13),2) -> 78.95 | K13: =ROUND(F13*(O13),2) -> 0 | L13: =ROUND(F13*(G13),2) -> 0 | N13: 0.86 | Z13: 0
D14: ZEMNÉ PRÁCE | H14: =ROUND((SUM(M10:M13))/1,2) -> 0 | I14: =ROUND((SUM(I10:I13))/1,2) -> 0 | L14: =ROUND((SUM(L10:L13))/1,2) -> 0 | M14: =ROUND((SUM(M10:M13))/1,2) -> 0 | P14: =ROUND((SUM(P10:P13))/1,2) -> 0 | S14: =ROUND((SUM(S10:S13))/1,2) -> 0
D16: ZÁKLADY
B17: 2/A 1 | C17: 212755115 | D17: Trativod z drenážnych rúrok bez lôžka, vnútorného priem. rúrok 130 mm | E17: m | F17: 153 | I17: =ROUND(F17*(G17+H17),2) -> 0 | J17: =ROUND(F17*(N17),2) -> 589.05 | K17: =ROUND(F17*(O17),2) -> 0 | L17: =ROUND(F17*(G17),2) -> 0 | N17: 3.85 | P17: 0.01364 | R17: 0.01364 | S17: =ROUND(F17*(R17),3) -> 2.087 | Z17: 0
D18: ZÁKLADY | H18: =ROUND((SUM(M16:M17))/1,2) -> 0 | I18: =ROUND((SUM(I16:I17))/1,2) -> 0 | L18: =ROUND((SUM(L16:L17))/1,2) -> 0 | M18: =ROUND((SUM(M16:M17))/1,2) -> 0 | P18: =ROUND((SUM(P16:P17))/1,2) -> 0.01 | S18: =ROUND((SUM(S16:S17))/1,2) -> 2.09
D20: SPEVNENÉ PLOCHY
B21: 221/A 1 | C21: 564281111 | D21: Podklad alebo podsyp zo štrkopiesku s rozprestretím, vlhčením a zhutnením | E21: m2 | F21: 91.8 | I21: =ROUND(F21*(G21+H21),2) -> 0 | J21: =ROUND(F21*(N21),2) -> 599.45 | K21: =ROUND(F21*(O21),2) -> 0 | L21: =ROUND(F21*(G21),2) -> 0 | N21: 6.53 | P21: 0.60721 | R21: 0.60721 | S21: =ROUND(F21*(R21),3) -> 55.742 | Z21: 0
B22: 221/A 1 | C22: 564731111 | D22: Podklad alebo kryt z kameniva hrubého drveného veľ. 32-63 mm s rozprestretím a zhutn.hr. 100 mm | E22: m2 | F22: 91.8 | I22: =ROUND(F22*(G22+H22),2) -> 0 | J22: =ROUND(F22*(N22),2) -> 300.19 | K22: =ROUND(F22*(O22),2) -> 0 | L22: =ROUND(F22*(G22),2) -> 0 | N22: 3.27 | P22: 0.19695 | R22: 0.19695 | S22: =ROUND(F22*(R22),3) -> 18.08 | Z22: 0
D23: SPEVNENÉ PLOCHY | H23: =ROUND((SUM(M20:M22))/1,2) -> 0 | I23: =ROUND((SUM(I20:I22))/1,2) -> 0 | L23: =ROUND((SUM(L20:L22))/1,2) -> 0 | M23: =ROUND((SUM(M20:M22))/1,2) -> 0 | P23: =ROUND((SUM(P20:P22))/1,2) -> 0.8 | S23: =ROUND((SUM(S20:S22))/1,2) -> 73.82
D25: POVRCHOVÉ ÚPRAVY
B26: 11/A 1 | C26: 622421143 | D26: Vonkajšia omietka vápenná stien štuková v stupni zložitosti 1-2 | E26: m2 | F26: 70 | I26: =ROUND(F26*(G26+H26),2) -> 0 | J26: =ROUND(F26*(N26),2) -> 1034.6 | K26: =ROUND(F26*(O26),2) -> 0 | L26: =ROUND(F26*(G26),2) -> 0 | N26: 14.78 | P26: 0.04456 | R26: 0.04456 | S26: =ROUND(F26*(R26),3) -> 3.119 | Z26: 0
B27: 11 | C27: 622465703 | D27: Príprava vonkajšieho podkladu stien PROFI, penetračný náter Putzgund alebo ekvivalent | E27: m2 | F27: 70 | I27: =ROUND(F27*(G27+H27),2) -> 0 | J27: =ROUND(F27*(N27),2) -> 128.8 | K27: =ROUND(F27*(O27),2) -> 0 | L27: =ROUND(F27*(G27),2) -> 0 | N27: 1.84 | Z27: 0
B28: S/S60 | C28: 5834732100 | D28: Dunajský štrk | E28: t | F28: 9.18 | I28: =ROUND(F28*(G28+H28),2) -> 0 | J28: =ROUND(F28*(N28),2) -> 278.98 | K28: =ROUND(F28*(O28),2) -> 0 | M28: =ROUND(F28*(G28),2) -> 0 | N28: 30.39 | P28: 1 | R28: 1 | S28: =ROUND(F28*(R28),3) -> 9.18 | Z28: 0
D29: POVRCHOVÉ ÚPRAVY | H29: =ROUND((SUM(M25:M28))/1,2) -> 0 | I29: =ROUND((SUM(I25:I28))/1,2) -> 0 | L29: =ROUND((SUM(L25:L28))/1,2) -> 0 | M29: =ROUND((SUM(M25:M28))/1,2) -> 0 | P29: =ROUND((SUM(P25:P28))/1,2) -> 1.04 | S29: =ROUND((SUM(S25:S28))/1,2) -> 12.3
D31: OSTATNÉ PRÁCE
B32: 3/A 1 | C32: 941941031 | D32: Montáž lešenia ľahkého pracovného radového s podlahami šírky od 0,80 do 1,00 m, výšky do 10 m | E32: m2 | F32: 75 | I32: =ROUND(F32*(G32+H32),2) -> 0 | J32: =ROUND(F32*(N32),2) -> 153 | K32: =ROUND(F32*(O32),2) -> 0 | L32: =ROUND(F32*(G32),2) -> 0 | N32: 2.04 | P32: 0.02572 | R32: 0.02572 | S32: =ROUND(F32*(R32),3) -> 1.929 | Z32: 0
B33: 3/B 1 | C33: 941941831 | D33: Demontáž lešenia ľahkého pracovného radového s podlahami šírky nad 0,80 do 1,00 m, výšky do 10 m | E33: m2 | F33: 75 | I33: =ROUND(F33*(G33+H33),2) -> 0 | J33: =ROUND(F33*(N33),2) -> 96 | K33: =ROUND(F33*(O33),2) -> 0 | L33: =ROUND(F33*(G33),2) -> 0 | N33: 1.28 | P33: 0.02572 | R33: 0.02572 | S33: =ROUND(F33*(R33),3) -> 1.929 | Z33: 0
B34: 13 | C34: 978015291 | D34: Otlčenie omietok vonkajších priečelí jednoduchých, s vyškriabaním škár, očistením muriva, v rozsahu do 100 %, -0,05900t | E34: m2 | F34: 70 | I34: =ROUND(F34*(G34+H34),2) -> 0 | J34: =ROUND(F34*(N34),2) -> 127.4 | K34: =ROUND(F34*(O34),2) -> 0 | L34: =ROUND(F34*(G34),2) -> 0 | N34: 1.82 | Z34: 0
B35: 221/A 1 | C35: 916531111 | D35: Osadenie záhonového alebo parkového obrubníka betón., do lôžka z bet. pros. tr. C 12/15 bez bočnej opory | E35: m | F35: 153 | I35: =ROUND(F35*(G35+H35),2) -> 0 | J35: =ROUND(F35*(N35),2) -> 634.95 | K35: =ROUND(F35*(O35),2) -> 0 | L35: =ROUND(F35*(G35),2) -> 0 | N35: 4.15 | P35: 0.0827 | R35: 0.0827 | S35: =ROUND(F35*(R35),3) -> 12.653 | Z35: 0
B36: 221/A 1 | C36: 918101111 | D36: Lôžko pod obrubníky, krajníky alebo obruby z dlažob. kociek z betónu prostého tr. C 12/15 | E36: m3 | F36: 4.59 | I36: =ROUND(F36*(G36+H36),2) -> 0 | J36: =ROUND(F36*(N36),2) -> 423.38 | K36: =ROUND(F36*(O36),2) -> 0 | L36: =ROUND(F36*(G36),2) -> 0 | N36: 92.24 | P36: 2.20109 | R36: 2.20109 | S36: =ROUND(F36*(R36),3) -> 10.103 | Z36: 0
B37: S/S70 | C37: 5921954630 | D37: Premac alebo ekvivalent obrubník parkový 100x20x5 cm, červený | E37: ks | F37: 154.53 | I37: =ROUND(F37*(G37+H37),2) -> 0 | J37: =ROUND(F37*(N37),2) -> 438.87 | K37: =ROUND(F37*(O37),2) -> 0 | M37: =ROUND(F37*(G37),2) -> 0 | N37: 2.84 | P37: 0.023 | R37: 0.023 | S37: =ROUND(F37*(R37),3) -> 3.554 | Z37: 0
D38: OSTATNÉ PRÁCE | H38: =ROUND((SUM(M31:M37))/1,2) -> 0 | I38: =ROUND((SUM(I31:I37))/1,2) -> 0 | L38: =ROUND((SUM(L31:L37))/1,2) -> 0 | M38: =ROUND((SUM(M31:M37))/1,2) -> 0 | P38: =ROUND((SUM(P31:P37))/1,2) -> 2.36 | S38: =ROUND((SUM(S31:S37))/1,2) -> 30.17
D40: PRESUNY HMÔT
B41: 221/A 1 | C41: 998224111 | D41: Presun hmôt pre pozemné komunikácie s krytom monolitickým betónovým akejkoľvek dĺžky objektu | E41: t | F41: 118.369 | I41: =ROUND(F41*(G41+H41),2) -> 0 | J41: =ROUND(F41*(N41),2) -> 190.57 | K41: =ROUND(F41*(O41),2) -> 0 | L41: =ROUND(F41*(G41),2) -> 0 | N41: 1.61 | Z41: 0
D42: PRESUNY HMÔT | H42: =ROUND((SUM(M40:M41))/1,2) -> 0 | I42: =ROUND((SUM(I40:I41))/1,2) -> 0 | L42: =ROUND((SUM(L40:L41))/1,2) -> 0 | M42: =ROUND((SUM(M40:M41))/1,2) -> 0 | P42: =ROUND((SUM(P40:P41))/1,2) -> 0 | S42: =ROUND((SUM(S40:S41))/1,2) -> 0
D44: Práce HSV | H44: =ROUND((SUM(M9:M43))/2,2) -> 0 | I44: =ROUND((SUM(I9:I43))/2,2) -> 0 | L44: =ROUND((SUM(L9:L43))/2,2) -> 0 | M44: =ROUND((SUM(M9:M43))/2,2) -> 0 | P44: =ROUND((SUM(P9:P43))/2,2) -> 4.22 | S44: =ROUND((SUM(S9:S43))/2,2) -> 118.38
D46: Práce PSV
D47: IZOLÁCIE PROTI VODE A VLHKOSTI
B48: 711/A 1 | C48: 711142101 | D48: Izolácia proti zemnej vlhkosti s protiradonovou odolnosťou FONDALINE S alebo ekvivalent šírka 2 m zvislá | E48: m2 | F48: 153 | I48: =ROUND(F48*(G48+H48),2) -> 0 | J48: =ROUND(F48*(N48),2) -> 674.73 | K48: =ROUND(F48*(O48),2) -> 0 | L48: =ROUND(F48*(G48),2) -> 0 | N48: 4.41 | P48: 0.00165 | R48: 0.00165 | S48: =ROUND(F48*(R48),3) -> 0.252 | Z48: 0
B49: 711/A 1 | C49: 998711203 | D49: Presun hmôt pre izoláciu proti vode v objektoch výšky nad 12 do 60 m | E49: % | F49: 2.8 | I49: =ROUND(F49*(G49+H49),2) -> 0 | J49: =ROUND(F49*(N49),2) -> 29.43 | K49: =ROUND(F49*(O49),2) -> 0 | L49: =ROUND(F49*(G49),2) -> 0 | N49: 10.51 | Z49: 0
B50: S/S90 | C50: 6288000640 | D50: Nopová fólia FONDALINE PLUS 500 proti zemnej vlhkosti s radónovou ochranou, výška nopu 8 mm ONDULINE alebo ekvivalent | E50: m2 | F50: 153 | I50: =ROUND(F50*(G50+H50),2) -> 0 | J50: =ROUND(F50*(N50),2) -> 376.38 | K50: =ROUND(F50*(O50),2) -> 0 | M50: =ROUND(F50*(G50),2) -> 0 | N50: 2.46 | P50: 0.0015 | R50: 0.0015 | S50: =ROUND(F50*(R50),3) -> 0.23 | Z50: 0
D51: IZOLÁCIE PROTI VODE A VLHKOSTI | I51: =ROUND((SUM(I47:I50))/1,2) -> 0 | L51: =ROUND((SUM(L47:L50))/1,2) -> 0 | M51: =ROUND((SUM(M47:M50))/1,2) -> 0 | S51: =ROUND((SUM(S47:S50))/1,2) -> 0.48 | V51: =ROUND((SUM(V47:V50))/1,2) -> 0
D53: Práce PSV | H53: =ROUND((SUM(M46:M52))/2,2) -> 0 | I53: =ROUND((SUM(I46:I52))/2,2) -> 0 | L53: =ROUND((SUM(L46:L52))/2,2) -> 0 | M53: =ROUND((SUM(M46:M52))/2,2) -> 0 | S53: =ROUND((SUM(S46:S52))/2,2) -> 0.48 | V53: =ROUND((SUM(V46:V52))/2,2) -> 0
D54: Celkom v EUR | H54: =ROUND((SUM(M9:M53))/3,2) -> 0 | I54: =ROUND((SUM(I9:I53))/3,2) -> 0 | K54: =ROUND((SUM(K9:K53))/3,2) -> 0 | L54: =ROUND((SUM(L9:L53))/3,2) -> 0 | M54: =ROUND((SUM(M9:M53))/3,2) -> 0 | S54: =ROUND((SUM(S9:S53))/3,2) -> 118.86 | V54: =ROUND((SUM(V9:V53))/3,2) -> 0 | Z54: =(SUM(Z9:Z53)) -> 0

Sheet Kryci_list 14049
F1: Krycí list rozpočtu | W1: 30.126
B2: Stavba ODVODNENIE BUDOVY A REKONŠTRUKCIA SOCIÁLNEHO ZARIADENIA V DIECÉZNEJ SVATYNI STROPKOV
B3: Objekt Dažďová kanalizácia | I3: Miesto:
I4: Ks:
B5: Zákazka: | F5: Spracoval: Ing. Ján Halgaš | I5: Dňa | J5: 15.05.2019
B6: Odberateľ: Rímskokatolícka farnosť Najsvätejšieho Tela Pána Stropkov
B7: IČO: | G7: DIČ:
B8: Projektant:
B9: IČO: | G9: DIČ:
B10: Dodávateľ:
B11: IČO: | G11: DIČ:
B15: A | C15: ZRN | D15: Montáž | E15: Materiál | F15: ZRN spolu | G15: B | H15: Ďalšie náklady
B16: 1 | C16: HSV | D16: ='Rekap 14049'!B17 -> 0 | E16: ='Rekap 14049'!C17 -> 0 | F16: ='Rekap 14049'!D17 -> 0 | G16: 6 | J16: 0
B17: 2 | C17: PSV | G17: 7 | H17: Kompletačná činnosť | J17: ='SO 14049'!Z56 -> 0
B18: 3 | C18: MONT | D18: ='Rekap 14049'!B21 -> 0 | E18: ='Rekap 14049'!C21 -> 0 | F18: ='Rekap 14049'!D21 -> 0 | G18: 8 | H18: HZS | J18: 0
B19: 4 | G19: 9
B20: 5 | C20: Spolu | F20: =SUM(F16:F19) -> 0 | G20: 10 | H20: Spolu | J20: =SUM(J16:J19) -> 0
B21: C | C21: VRN | G21: D | H21: VRN
B22: 11 | C22: Zariadenie staveniska | E22: 0% z [H+P+M] | F22: =((F16*U22*0)+(F17*V22*0)+(F18*W22*0))/100 -> 0 | G22: 16 | H22: Mimoriadne sťaž.podmienky | I22: 0% z [H+P+M] | J22: =((F16*X22*0)+(F17*Y22*0)+(F18*Z22*0))/100 -> 0 | U22: 1 | V22: 1 | W22: 1 | X22: 1 | Y22: 1 | Z22: 1
B23: 12 | C23: Územie so sťaž. podmienk. | E23: 0% z [H+P] | F23: =((F16*U23*0)+(F17*V23*0)+(F18*W23*0))/100 -> 0 | G23: 17 | H23: Horské oblasti | I23: 0% z [H+P+M] | J23: =((F16*X23*0)+(F17*Y23*0)+(F18*Z23*0))/100 -> 0 | U23: 1 | V23: 1 | W23: 0 | X23: 1 | Y23: 1 | Z23: 1
B24: 13 | C24: Prevádzkové vplyvy | E24: 0% z [H+P+M] | F24: =((F16*U24*0)+(F17*V24*0)+(F18*W24*0))/100 -> 0 | G24: 18 | H24: Mimostavenisková doprava | I24: 0% z [H+P] | J24: =((F16*X24*0)+(F17*Y24*0)+(F18*Z24*0))/100 -> 0 | U24: 1 | V24: 1 | W24: 1 | X24: 1 | Y24: 1 | Z24: 0
B25: 14 | G25: 19
B26: 15 | G26: 20 | H26: Spolu | J26: =SUM(J22:J25)+SUM(F22:F25) -> 0
C27: Projektant,rozpočtár | G27: E | H27: Celkové náklady
G28: 21 | H28: Súčet riadkov 5,10,15,20 | J28: =F20+J20+F26+J26 -> 0
G29: 22 | H29: DPH 20% z | I29: =J28-SUM('SO 14049'!K9:'SO 14049'!K55) -> 0 | J29: =ROUND(((ROUND(I29,2)*20)*1/100),2) -> 0
G30: 23 | H30: DPH 0% z | I30: =SUM('SO 14049'!K9:'SO 14049'!K55) -> 0 | J30: =ROUND(((ROUND(I30,2)*0)/100),2) -> 0
G31: 24 | H31: Spolu v EUR | J31: =SUM(J28:J30) -> 0
G32: F
D33: Odberateľ | G33: 26 | H33: Dodávateľ

Sheet Rekap 14049
A1: Odberateľ: Rímskokatolícka farnosť Najsvätejšieho Tela Pána Stropkov | E1: Spracoval: Ing. Ján Halgaš | W1: 30.126
A2: Projektant: | E2: Ks:
A3: Dodávateľ: | E3: Dátum: 15.05.2019
A4: Stavba ODVODNENIE BUDOVY A REKONŠTRUKCIA SOCIÁLNEHO ZARIADENIA V DIECÉZNEJ SVATYNI STROPKOV
A5: Objekt Dažďová kanalizácia
A8: Prehľad rozpočtových nákladov
A9: Oddiel | B9: Montáž | C9: Materiál | D9: Spolu | E9: Hmotnosť (T) | F9: Suť (T)
A10: Práce HSV
A11: ZEMNÉ PRÁCE | B11: ='SO 14049'!L19 -> 0 | C11: ='SO 14049'!M19 -> 0 | D11: ='SO 14049'!I19 -> 0 | E11: ='SO 14049'!P19 -> 0 | F11: ='SO 14049'!S19 -> 0
A12: ZÁKLADY | B12: ='SO 14049'!L24 -> 0 | C12: ='SO 14049'!M24 -> 0 | D12: ='SO 14049'!I24 -> 0 | E12: ='SO 14049'!P24 -> 0.51 | F12: ='SO 14049'!S24 -> 38.66
A13: SPEVNENÉ PLOCHY | B13: ='SO 14049'!L28 -> 0 | C13: ='SO 14049'!M28 -> 0 | D13: ='SO 14049'!I28 -> 0 | E13: ='SO 14049'!P28 -> 0.37 | F13: ='SO 14049'!S28 -> 33.59
A14: POVRCHOVÉ ÚPRAVY | B14: ='SO 14049'!L33 -> 0 | C14: ='SO 14049'!M33 -> 0 | D14: ='SO 14049'!I33 -> 0 | E14: ='SO 14049'!P33 -> 3.67 | F14: ='SO 14049'!S33 -> 149.68
A15: POTRUBNÉ ROZVODY | B15: ='SO 14049'!L42 -> 0 | C15: ='SO 14049'!M42 -> 0 | D15: ='SO 14049'!I42 -> 0 | E15: ='SO 14049'!P42 -> 1.75 | F15: ='SO 14049'!S42 -> 1.91
A16: PRESUNY HMÔT | B16: ='SO 14049'!L46 -> 0 | C16: ='SO 14049'!M46 -> 0 | D16: ='SO 14049'!I46 -> 0 | E16: ='SO 14049'!P46 -> 0 | F16: ='SO 14049'!S46 -> 0
A17: Práce HSV | B17: ='SO 14049'!L48 -> 0 | C17: ='SO 14049'!M48 -> 0 | D17: ='SO 14049'!I48 -> 0 | E17: ='SO 14049'!P48 -> 6.3 | F17: ='SO 14049'!S48 -> 223.84
A19: Montážne práce
A20: M-46 MONTÁŽE ZEMNÝCH PRÁC | B20: ='SO 14049'!L53 -> 0 | C20: ='SO 14049'!M53 -> 0 | D20: ='SO 14049'!I53 -> 0 | E20: ='SO 14049'!P53 -> 0 | F20: ='SO 14049'!S53 -> 0
A21: Montážne práce | B21: ='SO 14049'!L55 -> 0 | C21: ='SO 14049'!M55 -> 0 | D21: ='SO 14049'!I55 -> 0 | E21: ='SO 14049'!S55 -> 0 | F21: ='SO 14049'!V55 -> 0
A23: Celkom v EUR | B23: ='SO 14049'!L56 -> 0 | C23: ='SO 14049'!M56 -> 0 | D23: ='SO 14049'!I56 -> 0 | E23: ='SO 14049'!S56 -> 223.84 | F23: ='SO 14049'!V56 -> 0

Sheet SO 14049
B1: Odberateľ: Rímskokatolícka farnosť Najsvätejšieho Tela Pána Stropkov | I1: Spracoval: Ing. Ján Halgaš | W1: 30.126
B2: Projektant: | I2: Ks:
B3: Dodávateľ: | I3: Dátum: 15.05.2019
B4: Zákazka ODVODNENIE BUDOVY A REKONŠTRUKCIA SOCIÁLNEHO ZARIADENIA V DIECÉZNEJ SVATYNI STROPKOV
B5: Objekt Dažďová kanalizácia
B7: Prehľad rozpočtových nákladov
A8: Por.č. | B8: Cenník | C8: Kód položky | D8: Názov | E8: Mj | F8: Množstvo | G8: Cena/Mj | H8: Materiál | I8: Cena celkom | P8: Hmotnosť/Mj | S8: Hmotnosť | V8: Suť
D9: Práce HSV
D10: ZEMNÉ PRÁCE
B11: 1/A 1 | C11: 132101101 | D11: Výkop ryhy do šírky 600 mm v horn.1a2 do 100 m3 | E11: m3 | F11: 72.48 | I11: =ROUND(F11*(G11+H11),2) -> 0 | J11: =ROUND(F11*(N11),2) -> 979.2 | K11: =ROUND(F11*(O11),2) -> 0 | L11: =ROUND(F11*(G11),2) -> 0 | N11: 13.51 | Z11: 0
B12: 1/A 1 | C12: 133201101 | D12: Výkop šachty zapaženej, hornina 3 do 100 m3 | E12: m3 | F12: 9 | I12: =ROUND(F12*(G12+H12),2) -> 0 | J12: =ROUND(F12*(N12),2) -> 349.56 | K12: =ROUND(F12*(O12),2) -> 0 | L12: =ROUND(F12*(G12),2) -> 0 | N12: 38.84 | Z12: 0
B13: 1/A 1 | C13: 133201109 | D13: Príplatok k cenám za lepivosť pri hĺbení šachiet zapažených i nezapažených v hornine 3 | E13: m3 | F13: 9 | I13: =ROUND(F13*(G13+H13),2) -> 0 | J13: =ROUND(F13*(N13),2) -> 47.79 | K13: =ROUND(F13*(O13),2) -> 0 | L13: =ROUND(F13*(G13),2) -> 0 | N13: 5.31 | Z13: 0
B14: 1/A 1 | C14: 162301101 | D14: Vodorovné premiestnenie výkopku po spevnenej ceste z horniny tr.1-4, do 100 m3 na vzdialenosť do 500 m | E14: m3 | F14: 72.48 | I14: =ROUND(F14*(G14+H14),2) -> 0 | J14: =ROUND(F14*(N14),2) -> 136.99 | K14: =ROUND(F14*(O14),2) -> 0 | L14: =ROUND(F14*(G14),2) -> 0 | N14: 1.89 | Z14: 0
B15: 1/A 1 | C15: 171201201 | D15: Uloženie sypaniny na skládky do 100 m3 | E15: m3 | F15: 72.48 | I15: =ROUND(F15*(G15+H15),2) -> 0 | J15: =ROUND(F15*(N15),2) -> 62.33 | K15: =ROUND(F15*(O15),2) -> 0 | L15: =ROUND(F15*(G15),2) -> 0 | N15: 0.86 | Z15: 0
B16: 1/A 1 | C16: 174101001 | D16: Zásyp sypaninou so zhutnením jám, šachiet, rýh, zárezov alebo okolo objektov do 100 m3 | E16: m3 | F16: 72.8 | I16: =ROUND(F16*(G16+H16),2) -> 0 | J16: =ROUND(F16*(N16),2) -> 260.62 | K16: =ROUND(F16*(O16),2) -> 0 | L16: =ROUND(F16*(G16),2) -> 0 | N16: 3.58 | Z16: 0
B17: 231/A 2 | C17: 180402111 | D17: Založenie trávnika parkového výsevom v rovine do 1:5 | E17: m2 | F17: 90.6 | I17: =ROUND(F17*(G17+H17),2) -> 0 | J17: =ROUND(F17*(N17),2) -> 66.14 | K17: =ROUND(F17*(O17),2) -> 0 | L17: =ROUND(F17*(G17),2) -> 0 | N17: 0.73 | Z17: 0
B18: S/S10 | C18: 0057211200 | D18: Trávové semeno - parková zmes | E18: kg | F18: 2.8 | I18: =ROUND(F18*(G18+H18),2) -> 0 | J18: =ROUND(F18*(N18),2) -> 21.39 | K18: =ROUND(F18*(O18),2) -> 0 | M18: =ROUND(F18*(G18),2) -> 0 | N18: 7.64 | P18: 0.001 | R18: 0.001 | S18: =ROUND(F18*(R18),3) -> 0.003 | Z18: 0
D19: ZEMNÉ PRÁCE | H19: =ROUND((SUM(M10:M18))/1,2) -> 0 | I19: =ROUND((SUM(I10:I18))/1,2) -> 0 | L19: =ROUND((SUM(L10:L18))/1,2) -> 0 | M19: =ROUND((SUM(M10:M18))/1,2) -> 0 | P19: =ROUND((SUM(P10:P18))/1,2) -> 0 | S19: =ROUND((SUM(S10:S18))/1,2) -> 0
D21: ZÁKLADY
B22: 271/A 1 | C22: 212752127 | D22: Trativody z flexodrenážnych rúr DN 160 | E22: m | F22: 37 | I22: =ROUND(F22*(G22+H22),2) -> 0 | J22: =ROUND(F22*(N22),2) -> 381.47 | K22: =ROUND(F22*(O22),2) -> 0 | L22: =ROUND(F22*(G22),2) -> 0 | N22: 10.31 | P22: 0.25195 | R22: 0.25195 | S22: =ROUND(F22*(R22),3) -> 9.322 | Z22: 0
B23: 271/A 1 | C23: 212752128 | D23: Trativody z flexodrenážnych rúr DN 200 | E23: m | F23: 114 | I23: =ROUND(F23*(G23+H23),2) -> 0 | J23: =ROUND(F23*(N23),2) -> 1341.78 | K23: =ROUND(F23*(O23),2) -> 0 | L23: =ROUND(F23*(G23),2) -> 0 | N23: 11.77 | P23: 0.25739 | R23: 0.25739 | S23: =ROUND(F23*(R23),3) -> 29.342 | Z23: 0
D24: ZÁKLADY | H24: =ROUND((SUM(M21:M23))/1,2) -> 0 | I24: =ROUND((SUM(I21:I23))/1,2) -> 0 | L24: =ROUND((SUM(L21:L23))/1,2) -> 0 | M24: =ROUND((SUM(M21:M23))/1,2) -> 0 | P24: =ROUND((SUM(P21:P23))/1,2) -> 0.51 | S24: =ROUND((SUM(S21:S23))/1,2) -> 38.66
D26: SPEVNENÉ PLOCHY
B27: 221/A 1 | C27: 564861111 | D27: Podklad zo štrkodrviny s rozprestretím a zhutnením, po zhutnení hr. 200 mm | E27: m2 | F27: 90.6 | I27: =ROUND(F27*(G27+H27),2) -> 0 | J27: =ROUND(F27*(N27),2) -> 529.1 | K27: =ROUND(F27*(O27),2) -> 0 | L27: =ROUND(F27*(G27),2) -> 0 | N27: 5.84 | P27: 0.3708 | R27: 0.3708 | S27: =ROUND(F27*(R27),3) -> 33.594 | Z27: 0
D28: SPEVNENÉ PLOCHY | H28: =ROUND((SUM(M26:M27))/1,2) -> 0 | I28: =ROUND((SUM(I26:I27))/1,2) -> 0 | L28: =ROUND((SUM(L26:L27))/1,2) -> 0 | M28: =ROUND((SUM(M26:M27))/1,2) -> 0 | P28: =ROUND((SUM(P26:P27))/1,2) -> 0.37 | S28: =ROUND((SUM(S26:S27))/1,2) -> 33.59
D30: POVRCHOVÉ ÚPRAVY
B31: 11/A 1 | C31: 631571003 | D31: Násyp zo štrkopiesku 0-32 (pre spevnenie podkladu) | E31: m3 | F31: 72.48 | I31: =ROUND(F31*(G31+H31),2) -> 0 | J31: =ROUND(F31*(N31),2) -> 3012.27 | K31: =ROUND(F31*(O31),2) -> 0 | L31: =ROUND(F31*(G31),2) -> 0 | N31: 41.56 | P31: 1.837 | R31: 1.837 | S31: =ROUND(F31*(R31),3) -> 133.146 | Z31: 0
B32: 11/A 1 | C32: 631571003 | D32: Násyp zo štrkopiesku 0-32 | E32: m3 | F32: 9 | I32: =ROUND(F32*(G32+H32),2) -> 0 | J32: =ROUND(F32*(N32),2) -> 374.04 | K32: =ROUND(F32*(O32),2) -> 0 | L32: =ROUND(F32*(G32),2) -> 0 | N32: 41.56 | P32: 1.837 | R32: 1.837 | S32: =ROUND(F32*(R32),3) -> 16.533 | Z32: 0
D33: POVRCHOVÉ ÚPRAVY | H33: =ROUND((SUM(M30:M32))/1,2) -> 0 | I33: =ROUND((SUM(I30:I32))/1,2) -> 0 | L33: =ROUND((SUM(L30:L32))/1,2) -> 0 | M33: =ROUND((SUM(M30:M32))/1,2) -> 0 | P33: =ROUND((SUM(P30:P32))/1,2) -> 3.67 | S33: =ROUND((SUM(S30:S32))/1,2) -> 149.68
D35: POTRUBNÉ ROZVODY
B36: 271/A 1 | C36: 899103111 | D36: Osadenie poklopu liatinového a oceľového vrátane rámu hmotn. nad 100 do 150 kg | E36: ks | F36: 1 | I36: =ROUND(F36*(G36+H36),2) -> 0 | J36: =ROUND(F36*(N36),2) -> 23.83 | K36: =ROUND(F36*(O36),2) -> 0 | L36: =ROUND(F36*(G36),2) -> 0 | N36: 23.83 | P36: 0.00634 | R36: 0.00634 | S36: =ROUND(F36*(R36),3) -> 0.006 | Z36: 0
B37: 271/A 3 | C37: 894211211 | D37: Šachta kanalizačná s obložením dna kameninou alebo kanalizačnými tehlami na potrubie DN do 200 | E37: ks | F37: 1 | I37: =ROUND(F37*(G37+H37),2) -> 0 | J37: =ROUND(F37*(N37),2) -> 373.05 | K37: =ROUND(F37*(O37),2) -> 0 | L37: =ROUND(F37*(G37),2) -> 0 | N37: 373.05 | P37: 1.64392 | R37: 1.64392 | S37: =ROUND(F37*(R37),3) -> 1.644 | Z37: 0
B38: 271/A 3 | C38: 895991113 | D38: Osadenie PVC uličnej vpuste DN 315, vývod DN 200 | E38: ks | F38: 1 | I38: =ROUND(F38*(G38+H38),2) -> 0 | J38: =ROUND(F38*(N38),2) -> 6.95 | K38: =ROUND(F38*(O38),2) -> 0 | L38: =ROUND(F38*(G38),2) -> 0 | N38: 6.95 | P38: 2e-05 | R38: 2e-05 | S38: =ROUND(F38*(R38),3) -> 0 | Z38: 0
B39: 271/A 3 | C39: 895991121 | D39: Montáž lapača nečistôt pre PVC uličné vpuste | E39: ks | F39: 10 | I39: =ROUND(F39*(G39+H39),2) -> 0 | J39: =ROUND(F39*(N39),2) -> 43.9 | K39: =ROUND(F39*(O39),2) -> 0 | L39: =ROUND(F39*(G39),2) -> 0 | N39: 4.39 | P39: 2e-05 | R39: 2e-05 | S39: =ROUND(F39*(R39),3) -> 0 | Z39: 0
B40: S/S20 | C40: 2860007470 | D40: PVC uličná vpusť DN 315, vývod DN 200, objem 50L PIPELIFE alebo ekvivalent | E40: ks | F40: 1 | I40: =ROUND(F40*(G40+H40),2) -> 0 | J40: =ROUND(F40*(N40),2) -> 267.2 | K40: =ROUND(F40*(O40),2) -> 0 | M40: =ROUND(F40*(G40),2) -> 0 | N40: 267.2 | P40: 0.086 | R40: 0.086 | S40: =ROUND(F40*(R40),3) -> 0.086 | Z40: 0
B41: S/S20 | C41: 2860007480 | D41: Lapač nečistôt pre PVC vpuste PIPELIFE alebo ekvivalent | E41: ks | F41: 10 | I41: =ROUND(F41*(G41+H41),2) -> 0 | J41: =ROUND(F41*(N41),2) -> 537.2 | K41: =ROUND(F41*(O41),2) -> 0 | M41: =ROUND(F41*(G41),2) -> 0 | N41: 53.72 | P41: 0.01729 | R41: 0.01729 | S41: =ROUND(F41*(R41),3) -> 0.173 | Z41: 0
D42: POTRUBNÉ ROZVODY | H42: =ROUND((SUM(M35:M41))/1,2) -> 0 | I42: =ROUND((SUM(I35:I41))/1,2) -> 0 | L42: =ROUND((SUM(L35:L41))/1,2) -> 0 | M42: =ROUND((SUM(M35:M41))/1,2) -> 0 | P42: =ROUND((SUM(P35:P41))/1,2) -> 1.75 | S42: =ROUND((SUM(S35:S41))/1,2) -> 1.91
D44: PRESUNY HMÔT
B45: 271/A 1 | C45: 998276101 | D45: Presun hmôt pre rúrové vedenie hĺbené z rúr z plast., hmôt alebo sklolamin. v otvorenom výkope | E45: t | F45: 223.612 | I45: =ROUND(F45*(G45+H45),2) -> 0 | J45: =ROUND(F45*(N45),2) -> 6520.53 | K45: =ROUND(F45*(O45),2) -> 0 | L45: =ROUND(F45*(G45),2) -> 0 | N45: 29.16 | Z45: 0
D46: PRESUNY HMÔT | H46: =ROUND((SUM(M44:M45))/1,2) -> 0 | I46: =ROUND((SUM(I44:I45))/1,2) -> 0 | L46: =ROUND((SUM(L44:L45))/1,2) -> 0 | M46: =ROUND((SUM(M44:M45))/1,2) -> 0 | P46: =ROUND((SUM(P44:P45))/1,2) -> 0 | S46: =ROUND((SUM(S44:S45))/1,2) -> 0
D48: Práce HSV | H48: =ROUND((SUM(M9:M47))/2,2) -> 0 | I48: =ROUND((SUM(I9:I47))/2,2) -> 0 | L48: =ROUND((SUM(L9:L47))/2,2) -> 0 | M48: =ROUND((SUM(M9:M47))/2,2) -> 0 | P48: =ROUND((SUM(P9:P47))/2,2) -> 6.3 | S48: =ROUND((SUM(S9:S47))/2,2) -> 223.84
D50: Montážne práce
D51: M-46 MONTÁŽE ZEMNÝCH PRÁC
B52: 946/M46 | C52: 460620011 | D52: Proviz. úprava terénu v zemine tr. 1 a 2, aby nerovn. terénu neboli väčšie ako 2 cm od vodor.hlad. | E52: m2 | F52: 90.6 | I52: =ROUND(F52*(G52+H52),2) -> 0 | J52: =ROUND(F52*(N52),2) -> 114.16 | K52: =ROUND(F52*(O52),2) -> 0 | L52: =ROUND(F52*(G52),2) -> 0 | N52: 1.26 | Z52: 0
D53: M-46 MONTÁŽE ZEMNÝCH PRÁC | I53: =ROUND((SUM(I51:I52))/1,2) -> 0 | L53: =ROUND((SUM(L51:L52))/1,2) -> 0 | M53: =ROUND((SUM(M51:M52))/1,2) -> 0 | S53: =ROUND((SUM(S51:S52))/1,2) -> 0 | V53: =ROUND((SUM(V51:V52))/1,2) -> 0
D55: Montážne práce | H55: =ROUND((SUM(M50:M54))/2,2) -> 0 | I55: =ROUND((SUM(I50:I54))/2,2) -> 0 | L55: =ROUND((SUM(L50:L54))/2,2) -> 0 | M55: =ROUND((SUM(M50:M54))/2,2) -> 0 | S55: =ROUND((SUM(S50:S54))/2,2) -> 0 | V55: =ROUND((SUM(V50:V54))/2,2) -> 0
D56: Celkom v EUR | H56: =ROUND((SUM(M9:M55))/3,2) -> 0 | I56: =ROUND((SUM(I9:I55))/3,2) -> 0 | K56: =ROUND((SUM(K9:K55))/3,2) -> 0 | L56: =ROUND((SUM(L9:L55))/3,2) -> 0 | M56: =ROUND((SUM(M9:M55))/3,2) -> 0 | S56: =ROUND((SUM(S9:S55))/3,2) -> 223.84 | V56: =ROUND((SUM(V9:V55))/3,2) -> 0 | Z56: =(SUM(Z9:Z55)) -> 0

Sheet Kryci_list 14050
F1: Krycí list rozpočtu | W1: 30.126
B2: Stavba ODVODNENIE BUDOVY A REKONŠTRUKCIA SOCIÁLNEHO ZARIADENIA V DIECÉZNEJ SVATYNI STROPKOV
B3: Objekt Splašková kanalizácia | I3: Miesto:
I4: Ks:
B5: Zákazka: | F5: Spracoval: Ing. Ján Halgaš | I5: Dňa | J5: 15.05.2019
B6: Odberateľ: Rímskokatolícka farnosť Najsvätejšieho Tela Pána Stropkov
B7: IČO: | G7: DIČ:
B8: Projektant:
B9: IČO: | G9: DIČ:
B10: Dodávateľ:
B11: IČO: | G11: DIČ:
B15: A | C15: ZRN | D15: Montáž | E15: Materiál | F15: ZRN spolu | G15: B | H15: Ďalšie náklady
B16: 1 | C16: HSV | D16: ='Rekap 14050'!B14 -> 0 | E16: ='Rekap 14050'!C14 -> 0 | F16: ='Rekap 14050'!D14 -> 0 | G16: 6 | J16: 0
B17: 2 | C17: PSV | G17: 7 | H17: Kompletačná činnosť | J17: ='SO 14050'!Z29 -> 0
B18: 3 | C18: MONT | G18: 8 | H18: HZS | J18: 0
B19: 4 | G19: 9
B20: 5 | C20: Spolu | F20: =SUM(F16:F19) -> 0 | G20: 10 | H20: Spolu | J20: =SUM(J16:J19) -> 0
B21: C | C21: VRN | G21: D | H21: VRN
B22: 11 | C22: Zariadenie staveniska | E22: 0% z [H+P+M] | F22: =((F16*U22*0)+(F17*V22*0)+(F18*W22*0))/100 -> 0 | G22: 16 | H22: Mimoriadne sťaž.podmienky | I22: 0% z [H+P+M] | J22: =((F16*X22*0)+(F17*Y22*0)+(F18*Z22*0))/100 -> 0 | U22: 1 | V22: 1 | W22: 1 | X22: 1 | Y22: 1 | Z22: 1
B23: 12 | C23: Územie so sťaž. podmienk. | E23: 0% z [H+P] | F23: =((F16*U23*0)+(F17*V23*0)+(F18*W23*0))/100 -> 0 | G23: 17 | H23: Horské oblasti | I23: 0% z [H+P+M] | J23: =((F16*X23*0)+(F17*Y23*0)+(F18*Z23*0))/100 -> 0 | U23: 1 | V23: 1 | W23: 0 | X23: 1 | Y23: 1 | Z23: 1
B24: 13 | C24: Prevádzkové vplyvy | E24: 0% z [H+P+M] | F24: =((F16*U24*0)+(F17*V24*0)+(F18*W24*0))/100 -> 0 | G24: 18 | H24: Mimostavenisková doprava | I24: 0% z [H+P] | J24: =((F16*X24*0)+(F17*Y24*0)+(F18*Z24*0))/100 -> 0 | U24: 1 | V24: 1 | W24: 1 | X24: 1 | Y24: 1 | Z24: 0
B25: 14 | G25: 19
B26: 15 | G26: 20 | H26: Spolu | J26: =SUM(J22:J25)+SUM(F22:F25) -> 0
C27: Projektant,rozpočtár | G27: E | H27: Celkové náklady
G28: 21 | H28: Súčet riadkov 5,10,15,20 | J28: =F20+J20+F26+J26 -> 0
G29: 22 | H29: DPH 20% z | I29: =J28-SUM('SO 14050'!K9:'SO 14050'!K28) -> 0 | J29: =ROUND(((ROUND(I29,2)*20)*1/100),2) -> 0
G30: 23 | H30: DPH 0% z | I30: =SUM('SO 14050'!K9:'SO 14050'!K28) -> 0 | J30: =ROUND(((ROUND(I30,2)*0)/100),2) -> 0
G31: 24 | H31: Spolu v EUR | J31: =SUM(J28:J30) -> 0
G32: F
D33: Odberateľ | G33: 26 | H33: Dodávateľ

Sheet Rekap 14050
A1: Odberateľ: Rímskokatolícka farnosť Najsvätejšieho Tela Pána Stropkov | E1: Spracoval: Ing. Ján Halgaš | W1: 30.126
A2: Projektant: | E2: Ks:
A3: Dodávateľ: | E3: Dátum: 15.05.2019
A4: Stavba ODVODNENIE BUDOVY A REKONŠTRUKCIA SOCIÁLNEHO ZARIADENIA V DIECÉZNEJ SVATYNI STROPKOV
A5: Objekt Splašková kanalizácia
A8: Prehľad rozpočtových nákladov
A9: Oddiel | B9: Montáž | C9: Materiál | D9: Spolu | E9: Hmotnosť (T) | F9: Suť (T)
A10: Práce HSV
A11: ZEMNÉ PRÁCE | B11: ='SO 14050'!L15 -> 0 | C11: ='SO 14050'!M15 -> 0 | D11: ='SO 14050'!I15 -> 0 | E11: ='SO 14050'!P15 -> 0 | F11: ='SO 14050'!S15 -> 0
A12: POTRUBNÉ ROZVODY | B12: ='SO 14050'!L22 -> 0 | C12: ='SO 14050'!M22 -> 0 | D12: ='SO 14050'!I22 -> 0 | E12: ='SO 14050'!P22 -> 0.04 | F12: ='SO 14050'!S22 -> 0.25
A13: PRESUNY HMÔT | B13: ='SO 14050'!L26 -> 0 | C13: ='SO 14050'!M26 -> 0 | D13: ='SO 14050'!I26 -> 0 | E13: ='SO 14050'!P26 -> 0 | F13: ='SO 14050'!S26 -> 0
A14: Práce HSV | B14: ='SO 14050'!L28 -> 0 | C14: ='SO 14050'!M28 -> 0 | D14: ='SO 14050'!I28 -> 0 | E14: ='SO 14050'!S28 -> 0.25 | F14: ='SO 14050'!V28 -> 0
A16: Celkom v EUR | B16: ='SO 14050'!L29 -> 0 | C16: ='SO 14050'!M29 -> 0 | D16: ='SO 14050'!I29 -> 0 | E16: ='SO 14050'!S29 -> 0.25 | F16: ='SO 14050'!V29 -> 0

Sheet SO 14050
B1: Odberateľ: Rímskokatolícka farnosť Najsvätejšieho Tela Pána Stropkov | I1: Spracoval: Ing. Ján Halgaš | W1: 30.126
B2: Projektant: | I2: Ks:
B3: Dodávateľ: | I3: Dátum: 15.05.2019
B4: Zákazka ODVODNENIE BUDOVY A REKONŠTRUKCIA SOCIÁLNEHO ZARIADENIA V DIECÉZNEJ SVATYNI STROPKOV
B5: Objekt Splašková kanalizácia
B7: Prehľad rozpočtových nákladov
A8: Por.č. | B8: Cenník | C8: Kód položky | D8: Názov | E8: Mj | F8: Množstvo | G8: Cena/Mj | H8: Materiál | I8: Cena celkom | P8: Hmotnosť/Mj | S8: Hmotnosť | V8: Suť
D9: Práce HSV
D10: ZEMNÉ PRÁCE
B11: 1/A 1 | C11: 132101101 | D11: Výkop ryhy do šírky 600 mm v horn.1a2 do 100 m3 | E11: m3 | F11: 72.48 | I11: =ROUND(F11*(G11+H11),2) -> 0 | J11: =ROUND(F11*(N11),2) -> 979.2 | K11: =ROUND(F11*(O11),2) -> 0 | L11: =ROUND(F11*(G11),2) -> 0 | N11: 13.51 | Z11: 0
B12: 1/A 1 | C12: 162301101 | D12: Vodorovné premiestnenie výkopku po spevnenej ceste z horniny tr.1-4, do 100 m3 na vzdialenosť do 500 m | E12: m3 | F12: 72.48 | I12: =ROUND(F12*(G12+H12),2) -> 0 | J12: =ROUND(F12*(N12),2) -> 136.99 | K12: =ROUND(F12*(O12),2) -> 0 | L12: =ROUND(F12*(G12),2) -> 0 | N12: 1.89 | Z12: 0
B13: 1/A 1 | C13: 171201201 | D13: Uloženie sypaniny na skládky do 100 m3 | E13: m3 | F13: 72.48 | I13: =ROUND(F13*(G13+H13),2) -> 0 | J13: =ROUND(F13*(N13),2) -> 62.33 | K13: =ROUND(F13*(O13),2) -> 0 | L13: =ROUND(F13*(G13),2) -> 0 | N13: 0.86 | Z13: 0
B14: 1/A 1 | C14: 174101001 | D14: Zásyp sypaninou so zhutnením jám, šachiet, rýh, zárezov alebo okolo objektov do 100 m3 | E14: m3 | F14: 72.8 | I14: =ROUND(F14*(G14+H14),2) -> 0 | J14: =ROUND(F14*(N14),2) -> 260.62 | K14: =ROUND(F14*(O14),2) -> 0 | L14: =ROUND(F14*(G14),2) -> 0 | N14: 3.58 | Z14: 0
D15: ZEMNÉ PRÁCE | H15: =ROUND((SUM(M10:M14))/1,2) -> 0 | I15: =ROUND((SUM(I10:I14))/1,2) -> 0 | L15: =ROUND((SUM(L10:L14))/1,2) -> 0 | M15: =ROUND((SUM(M10:M14))/1,2) -> 0 | P15: =ROUND((SUM(P10:P14))/1,2) -> 0 | S15: =ROUND((SUM(S10:S14))/1,2) -> 0
D17: POTRUBNÉ ROZVODY
B18: 271 | C18: 871313123 | D18: Montáž potrubia z kanalizačných rúr z tvrdého PVC tesn. gumovým krúžkom v skl. do 20% DN 160 | E18: m | F18: 44.5 | I18: =ROUND(F18*(G18+H18),2) -> 0 | J18: =ROUND(F18*(N18),2) -> 0 | K18: =ROUND(F18*(O18),2) -> 0 | N18: 0 | Z18: 0
B19: 271/A 3 | C19: 894431111 | D19: Montáž revíznej šachty z PVC, DN 315/160 (DN šachty/DN potr. vedenia), hl. 850 do 1200 mm | E19: ks | F19: 2 | I19: =ROUND(F19*(G19+H19),2) -> 0 | J19: =ROUND(F19*(N19),2) -> 51.62 | K19: =ROUND(F19*(O19),2) -> 0 | L19: =ROUND(F19*(G19),2) -> 0 | N19: 25.81 | P19: 2e-05 | R19: 2e-05 | S19: =ROUND(F19*(R19),3) -> 0 | Z19: 0
B20: S/S20 | C20: 2860007520 | D20: PP revízne šachty DN 200 poklop plný, nosnosť 40t PIPELIFE alebo ekvivalent | E20: ks | F20: 2 | I20: =ROUND(F20*(G20+H20),2) -> 0 | J20: =ROUND(F20*(N20),2) -> 247.94 | K20: =ROUND(F20*(O20),2) -> 0 | M20: =ROUND(F20*(G20),2) -> 0 | N20: 123.97 | P20: 0.0399 | R20: 0.0399 | S20: =ROUND(F20*(R20),3) -> 0.08 | Z20: 0
B21: S/S20 | C21: 2861101600 | D21: Kanalizačné rúry PVC-U hladké s hrdlom 160x 3.6x 500mm | E21: ks | F21: 97.277 | I21: =ROUND(F21*(G21+H21),2) -> 0 | J21: =ROUND(F21*(N21),2) -> 536 | K21: =ROUND(F21*(O21),2) -> 0 | M21: =ROUND(F21*(G21),2) -> 0 | N21: 5.51 | P21: 0.0017 | R21: 0.0017 | S21: =ROUND(F21*(R21),3) -> 0.165 | Z21: 0
D22: POTRUBNÉ ROZVODY | H22: =ROUND((SUM(M17:M21))/1,2) -> 0 | I22: =ROUND((SUM(I17:I21))/1,2) -> 0 | L22: =ROUND((SUM(L17:L21))/1,2) -> 0 | M22: =ROUND((SUM(M17:M21))/1,2) -> 0 | P22: =ROUND((SUM(P17:P21))/1,2) -> 0.04 | S22: =ROUND((SUM(S17:S21))/1,2) -> 0.25
D24: PRESUNY HMÔT
B25: 271/A 1 | C25: 998276101 | D25: Presun hmôt pre rúrové vedenie hĺbené z rúr z plast., hmôt alebo sklolamin. v otvorenom výkope | E25: t | F25: 0.24 | I25: =ROUND(F25*(G25+H25),2) -> 0 | J25: =ROUND(F25*(N25),2) -> 7 | K25: =ROUND(F25*(O25),2) -> 0 | L25: =ROUND(F25*(G25),2) -> 0 | N25: 29.16 | Z25: 0
D26: PRESUNY HMÔT | I26: =ROUND((SUM(I24:I25))/1,2) -> 0 | L26: =ROUND((SUM(L24:L25))/1,2) -> 0 | M26: =ROUND((SUM(M24:M25))/1,2) -> 0 | S26: =ROUND((SUM(S24:S25))/1,2) -> 0 | V26: =ROUND((SUM(V24:V25))/1,2) -> 0
D28: Práce HSV | H28: =ROUND((SUM(M9:M27))/2,2) -> 0 | I28: =ROUND((SUM(I9:I27))/2,2) -> 0 | L28: =ROUND((SUM(L9:L27))/2,2) -> 0 | M28: =ROUND((SUM(M9:M27))/2,2) -> 0 | S28: =ROUND((SUM(S9:S27))/2,2) -> 0.25 | V28: =ROUND((SUM(V9:V27))/2,2) -> 0
D29: Celkom v EUR | H29: =ROUND((SUM(M9:M28))/3,2) -> 0 | I29: =ROUND((SUM(I9:I28))/3,2) -> 0 | K29: =ROUND((SUM(K9:K28))/3,2) -> 0 | L29: =ROUND((SUM(L9:L28))/3,2) -> 0 | M29: =ROUND((SUM(M9:M28))/3,2) -> 0 | S29: =ROUND((SUM(S9:S28))/3,2) -> 0.25 | V29: =ROUND((SUM(V9:V28))/3,2) -> 0 | Z29: =(SUM(Z9:Z28)) -> 0

Sheet Kryci_list 14051
F1: Krycí list rozpočtu | W1: 30.126
B2: Stavba ODVODNENIE BUDOVY A REKONŠTRUKCIA SOCIÁLNEHO ZARIADENIA V DIECÉZNEJ SVATYNI STROPKOV
B3: Objekt Sociálne zariadenie | I3: Miesto:
I4: Ks:
B5: Zákazka: | F5: Spracoval: Ing. Ján Halgaš | I5: Dňa | J5: 15.05.2019
B6: Odberateľ: Rímskokatolícka farnosť Najsvätejšieho Tela Pána Stropkov
B7: IČO: | G7: DIČ:
B8: Projektant:
B9: IČO: | G9: DIČ:
B10: Dodávateľ:
B11: IČO: | G11: DIČ:
B15: A | C15: ZRN | D15: Montáž | E15: Materiál | F15: ZRN spolu | G15: B | H15: Ďalšie náklady
B16: 1 | C16: HSV | D16: ='Rekap 14051'!B15 -> 0 | E16: ='Rekap 14051'!C15 -> 0 | F16: ='Rekap 14051'!D15 -> 0 | G16: 6 | J16: 0
B17: 2 | C17: PSV | D17: ='Rekap 14051'!B26 -> 0 | E17: ='Rekap 14051'!C26 -> 0 | F17: ='Rekap 14051'!D26 -> 0 | G17: 7 | H17: Kompletačná činnosť | J17: ='SO 14051'!Z87 -> 0
B18: 3 | C18: MONT | G18: 8 | H18: HZS | J18: 0
B19: 4 | G19: 9
B20: 5 | C20: Spolu | F20: =SUM(F16:F19) -> 0 | G20: 10 | H20: Spolu | J20: =SUM(J16:J19) -> 0
B21: C | C21: VRN | G21: D | H21: VRN
B22: 11 | C22: Zariadenie staveniska | E22: 0% z [H+P+M] | F22: =((F16*U22*0)+(F17*V22*0)+(F18*W22*0))/100 -> 0 | G22: 16 | H22: Mimoriadne sťaž.podmienky | I22: 0% z [H+P+M] | J22: =((F16*X22*0)+(F17*Y22*0)+(F18*Z22*0))/100 -> 0 | U22: 1 | V22: 1 | W22: 1 | X22: 1 | Y22: 1 | Z22: 1
B23: 12 | C23: Územie so sťaž. podmienk. | E23: 0% z [H+P] | F23: =((F16*U23*0)+(F17*V23*0)+(F18*W23*0))/100 -> 0 | G23: 17 | H23: Horské oblasti | I23: 0% z [H+P+M] | J23: =((F16*X23*0)+(F17*Y23*0)+(F18*Z23*0))/100 -> 0 | U23: 1 | V23: 1 | W23: 0 | X23: 1 | Y23: 1 | Z23: 1
B24: 13 | C24: Prevádzkové vplyvy | E24: 0% z [H+P+M] | F24: =((F16*U24*0)+(F17*V24*0)+(F18*W24*0))/100 -> 0 | G24: 18 | H24: Mimostavenisková doprava | I24: 0% z [H+P] | J24: =((F16*X24*0)+(F17*Y24*0)+(F18*Z24*0))/100 -> 0 | U24: 1 | V24: 1 | W24: 1 | X24: 1 | Y24: 1 | Z24: 0
B25: 14 | G25: 19
B26: 15 | G26: 20 | H26: Spolu | J26: =SUM(J22:J25)+SUM(F22:F25) -> 0
C27: Projektant,rozpočtár | G27: E | H27: Celkové náklady
G28: 21 | H28: Súčet riadkov 5,10,15,20 | J28: =F20+J20+F26+J26 -> 0
G29: 22 | H29: DPH 20% z | I29: =J28-SUM('SO 14051'!K9:'SO 14051'!K86) -> 0 | J29: =ROUND(((ROUND(I29,2)*20)*1/100),2) -> 0
G30: 23 | H30: DPH 0% z | I30: =SUM('SO 14051'!K9:'SO 14051'!K86) -> 0 | J30: =ROUND(((ROUND(I30,2)*0)/100),2) -> 0
G31: 24 | H31: Spolu v EUR | J31: =SUM(J28:J30) -> 0
G32: F
D33: Odberateľ | G33: 26 | H33: Dodávateľ

Sheet Rekap 14051
A1: Odberateľ: Rímskokatolícka farnosť Najsvätejšieho Tela Pána Stropkov | E1: Spracoval: Ing. Ján Halgaš | W1: 30.126
A2: Projektant: | E2: Ks:
A3: Dodávateľ: | E3: Dátum: 15.05.2019
A4: Stavba ODVODNENIE BUDOVY A REKONŠTRUKCIA SOCIÁLNEHO ZARIADENIA V DIECÉZNEJ SVATYNI STROPKOV
A5: Objekt Sociálne zariadenie
A8: Prehľad rozpočtových nákladov
A9: Oddiel | B9: Montáž | C9: Materiál | D9: Spolu | E9: Hmotnosť (T) | F9: Suť (T)
A10: Práce HSV
A11: ZÁKLADY | B11: ='SO 14051'!L12 -> 0 | C11: ='SO 14051'!M12 -> 0 | D11: ='SO 14051'!I12 -> 0 | E11: ='SO 14051'!P12 -> 0 | F11: ='SO 14051'!S12 -> 0
A12: POVRCHOVÉ ÚPRAVY | B12: ='SO 14051'!L18 -> 0 | C12: ='SO 14051'!M18 -> 0 | D12: ='SO 14051'!I18 -> 0 | E12: ='SO 14051'!P18 -> 0.22 | F12: ='SO 14051'!S18 -> 1.01
A13: OSTATNÉ PRÁCE | B13: ='SO 14051'!L22 -> 0 | C13: ='SO 14051'!M22 -> 0 | D13: ='SO 14051'!I22 -> 0 | E13: ='SO 14051'!P22 -> 0 | F13: ='SO 14051'!S22 -> 0
A14: PRESUNY HMÔT | B14: ='SO 14051'!L26 -> 0 | C14: ='SO 14051'!M26 -> 0 | D14: ='SO 14051'!I26 -> 0 | E14: ='SO 14051'!P26 -> 0 | F14: ='SO 14051'!S26 -> 0
A15: Práce HSV | B15: ='SO 14051'!L28 -> 0 | C15: ='SO 14051'!M28 -> 0 | D15: ='SO 14051'!I28 -> 0 | E15: ='SO 14051'!P28 -> 0.22 | F15: ='SO 14051'!S28 -> 1.01
A17: Práce PSV
A18: IZOLÁCIE PROTI VODE A VLHKOSTI | B18: ='SO 14051'!L37 -> 0 | C18: ='SO 14051'!M37 -> 0 | D18: ='SO 14051'!I37 -> 0 | E18: ='SO 14051'!P37 -> 2 | F18: ='SO 14051'!S37 -> 0.28
A19: ZTI-VNÚTORNÝ VODOVOD | B19: ='SO 14051'!L45 -> 0 | C19: ='SO 14051'!M45 -> 0 | D19: ='SO 14051'!I45 -> 0 | E19: ='SO 14051'!P45 -> 0 | F19: ='SO 14051'!S45 -> 0.01
A20: ZTI-ZARIAĎOVACIE PREDMETY | B20: ='SO 14051'!L55 -> 0 | C20: ='SO 14051'!M55 -> 0 | D20: ='SO 14051'!I55 -> 0 | E20: ='SO 14051'!P55 -> 0.03 | F20: ='SO 14051'!S55 -> 0.03
A21: ÚSTREDNÉ VYKUROVANIE-ARMATÚRY | B21: ='SO 14051'!L59 -> 0 | C21: ='SO 14051'!M59 -> 0 | D21: ='SO 14051'!I59 -> 0 | E21: ='SO 14051'!P59 -> 0 | F21: ='SO 14051'!S59 -> 0
A22: ÚSTREDNÉ VYKUROVANIE-VYKUROVACIE TELESÁ | B22: ='SO 14051'!L63 -> 0 | C22: ='SO 14051'!M63 -> 0 | D22: ='SO 14051'!I63 -> 0 | E22: ='SO 14051'!P63 -> 0.02 | F22: ='SO 14051'!S63 -> 0.02
A23: DREVOSTAVBY | B23: ='SO 14051'!L69 -> 0 | C23: ='SO 14051'!M69 -> 0 | D23: ='SO 14051'!I69 -> 0 | E23: ='SO 14051'!P69 -> 0.02 | F23: ='SO 14051'!S69 -> 0.46
A24: PODLAHY A OBKLADY KERAMICKÉ-DLAŽBY | B24: ='SO 14051'!L77 -> 0 | C24: ='SO 14051'!M77 -> 0 | D24: ='SO 14051'!I77 -> 0 | E24: ='SO 14051'!P77 -> 0.07 | F24: ='SO 14051'!S77 -> 0.16
A25: PODLAHY A OBKLADY KERAMICKÉ-OBKLADY | B25: ='SO 14051'!L84 -> 0 | C25: ='SO 14051'!M84 -> 0 | D25: ='SO 14051'!I84 -> 0 | E25: ='SO 14051'!P84 -> 0 | F25: ='SO 14051'!S84 -> 0.94
A26: Práce PSV | B26: ='SO 14051'!L86 -> 0 | C26: ='SO 14051'!M86 -> 0 | D26: ='SO 14051'!I86 -> 0 | E26: ='SO 14051'!S86 -> 1.9 | F26: ='SO 14051'!V86 -> 0
A28: Celkom v EUR | B28: ='SO 14051'!L87 -> 0 | C28: ='SO 14051'!M87 -> 0 | D28: ='SO 14051'!I87 -> 0 | E28: ='SO 14051'!S87 -> 2.91 | F28: ='SO 14051'!V87 -> 0

Sheet SO 14051
B1: Odberateľ: Rímskokatolícka farnosť Najsvätejšieho Tela Pána Stropkov | I1: Spracoval: Ing. Ján Halgaš | W1: 30.126
B2: Projektant: | I2: Ks:
B3: Dodávateľ: | I3: Dátum: 15.05.2019
B4: Zákazka ODVODNENIE BUDOVY A REKONŠTRUKCIA SOCIÁLNEHO ZARIADENIA V DIECÉZNEJ SVATYNI STROPKOV
B5: Objekt Sociálne zariadenie
B7: Prehľad rozpočtových nákladov
A8: Por.č. | B8: Cenník | C8: Kód položky | D8: Názov | E8: Mj | F8: Množstvo | G8: Cena/Mj | H8: Materiál | I8: Cena celkom | P8: Hmotnosť/Mj | S8: Hmotnosť | V8: Suť
D9: Práce HSV
D10: ZÁKLADY
B11: 2/A 2 | C11: 289902111 | D11: Otlčenie alebo osekanie vrstiev omietok L stien, -0,06300t | E11: m2 | F11: 23.1 | I11: =ROUND(F11*(G11+H11),2) -> 0 | J11: =ROUND(F11*(N11),2) -> 344.42 | K11: =ROUND(F11*(O11),2) -> 0 | L11: =ROUND(F11*(G11),2) -> 0 | N11: 14.91 | Z11: 0
D12: ZÁKLADY | H12: =ROUND((SUM(M10:M11))/1,2) -> 0 | I12: =ROUND((SUM(I10:I11))/1,2) -> 0 | L12: =ROUND((SUM(L10:L11))/1,2) -> 0 | M12: =ROUND((SUM(M10:M11))/1,2) -> 0 | P12: =ROUND((SUM(P10:P11))/1,2) -> 0 | S12: =ROUND((SUM(S10:S11))/1,2) -> 0
D14: POVRCHOVÉ ÚPRAVY
B15: 11/A 1 | C15: 632450473 | D15: Spádový poter CEMIX alebo ekvivalent, spádová vrstva na balkónoch, lodžiách, terasách, ozn. 080, hr. 100 mm | E15: m2 | F15: 3.64 | I15: =ROUND(F15*(G15+H15),2) -> 0 | J15: =ROUND(F15*(N15),2) -> 202.38 | K15: =ROUND(F15*(O15),2) -> 0 | L15: =ROUND(F15*(G15),2) -> 0 | N15: 55.6 | P15: 0.20475 | R15: 0.20475 | S15: =ROUND(F15*(R15),3) -> 0.745 | Z15: 0
B16: 11/A 1 | C16: 632477005 | D16: Nivelačná stierka podlahová KNAUF alebo ekvivalent hrúbky 3 mm | E16: m2 | F16: 3.64 | I16: =ROUND(F16*(G16+H16),2) -> 0 | J16: =ROUND(F16*(N16),2) -> 38.47 | K16: =ROUND(F16*(O16),2) -> 0 | L16: =ROUND(F16*(G16),2) -> 0 | N16: 10.57 | P16: 0.0046 | R16: 0.0046 | S16: =ROUND(F16*(R16),3) -> 0.017 | Z16: 0
B17: 14/C 1 | C17: 612462301 | D17: Vnútorná sanačná omietka stien weber.san evoluzione alebo ekvivalent, hr. 10 mm | E17: m2 | F17: 23.1 | I17: =ROUND(F17*(G17+H17),2) -> 0 | J17: =ROUND(F17*(N17),2) -> 272.35 | K17: =ROUND(F17*(O17),2) -> 0 | L17: =ROUND(F17*(G17),2) -> 0 | N17: 11.79 | P17: 0.0105 | R17: 0.0105 | S17: =ROUND(F17*(R17),3) -> 0.243 | Z17: 0
D18: POVRCHOVÉ ÚPRAVY | H18: =ROUND((SUM(M14:M17))/1,2) -> 0 | I18: =ROUND((SUM(I14:I17))/1,2) -> 0 | L18: =ROUND((SUM(L14:L17))/1,2) -> 0 | M18: =ROUND((SUM(M14:M17))/1,2) -> 0 | P18: =ROUND((SUM(P14:P17))/1,2) -> 0.22 | S18: =ROUND((SUM(S14:S17))/1,2) -> 1.01
D20: OSTATNÉ PRÁCE
B21: 13/B 1 | C21: 965042231 | D21: Búranie podkladov pod dlažby, liatych dlažieb a mazanín,betón,liaty asfalt hr.nad 100 mm, plochy do 4 m2 -2,20000t | E21: m3 | F21: 0.546 | I21: =ROUND(F21*(G21+H21),2) -> 0 | J21: =ROUND(F21*(N21),2) -> 45.79 | K21: =ROUND(F21*(O21),2) -> 0 | L21: =ROUND(F21*(G21),2) -> 0 | N21: 83.86 | Z21: 0
D22: OSTATNÉ PRÁCE | H22: =ROUND((SUM(M20:M21))/1,2) -> 0 | I22: =ROUND((SUM(I20:I21))/1,2) -> 0 | L22: =ROUND((SUM(L20:L21))/1,2) -> 0 | M22: =ROUND((SUM(M20:M21))/1,2) -> 0 | P22: =ROUND((SUM(P20:P21))/1,2) -> 0 | S22: =ROUND((SUM(S20:S21))/1,2) -> 0
D24: PRESUNY HMÔT
B25: 11/A 1 | C25: 998011002 | D25: Presun hmôt pre budovy (801, 803, 812), zvislá konštr. z tehál, tvárnic, z kovu výšky do 12 m | E25: t | F25: 1.005 | I25: =ROUND(F25*(G25+H25),2) -> 0 | J25: =ROUND(F25*(N25),2) -> 7.88 | K25: =ROUND(F25*(O25),2) -> 0 | L25: =ROUND(F25*(G25),2) -> 0 | N25: 7.84 | Z25: 0
D26: PRESUNY HMÔT | H26: =ROUND((SUM(M24:M25))/1,2) -> 0 | I26: =ROUND((SUM(I24:I25))/1,2) -> 0 | L26: =ROUND((SUM(L24:L25))/1,2) -> 0 | M26: =ROUND((SUM(M24:M25))/1,2) -> 0 | P26: =ROUND((SUM(P24:P25))/1,2) -> 0 | S26: =ROUND((SUM(S24:S25))/1,2) -> 0
D28: Práce HSV | H28: =ROUND((SUM(M9:M27))/2,2) -> 0 | I28: =ROUND((SUM(I9:I27))/2,2) -> 0 | L28: =ROUND((SUM(L9:L27))/2,2) -> 0 | M28: =ROUND((SUM(M9:M27))/2,2) -> 0 | P28: =ROUND((SUM(P9:P27))/2,2) -> 0.22 | S28: =ROUND((SUM(S9:S27))/2,2) -> 1.01
D30: Práce PSV
D31: IZOLÁCIE PROTI VODE A VLHKOSTI
B32: 711/A 1 | C32: 711111001 | D32: Zhotovenie izolácie proti zemnej vlhkosti vodorovná náterom penetračným za studena | E32: m2 | F32: 3.64 | I32: =ROUND(F32*(G32+H32),2) -> 0 | J32: =ROUND(F32*(N32),2) -> 0.73 | K32: =ROUND(F32*(O32),2) -> 0 | L32: =ROUND(F32*(G32),2) -> 0 | N32: 0.2 | Z32: 0
B33: 711/A 1 | C33: 711112001 | D33: Zhotovenie izolácie proti zemnej vlhkosti zvislá penetračným náterom za studena | E33: m2 | F33: 24 | I33: =ROUND(F33*(G33+H33),2) -> 0 | J33: =ROUND(F33*(N33),2) -> 5.76 | K33: =ROUND(F33*(O33),2) -> 0 | L33: =ROUND(F33*(G33),2) -> 0 | N33: 0.24 | Z33: 0
B34: 711/A 1 | C34: 998711201 | D34: Presun hmôt pre izoláciu proti vode v objektoch výšky do 6 m | E34: % | F34: 2.55 | I34: =ROUND(F34*(G34+H34),2) -> 0 | J34: =ROUND(F34*(N34),2) -> 10.89 | K34: =ROUND(F34*(O34),2) -> 0 | L34: =ROUND(F34*(G34),2) -> 0 | N34: 4.27 | Z34: 0
B35: S/S10 | C35: 1116315000 | D35: Lak asfaltový ALP-PENETRAL alebo ekvivalent v sudoch | E35: t | F35: 0.036 | I35: =ROUND(F35*(G35+H35),2) -> 0 | J35: =ROUND(F35*(N35),2) -> 54.89 | K35: =ROUND(F35*(O35),2) -> 0 | M35: =ROUND(F35*(G35),2) -> 0 | N35: 1524.74 | P35: 1 | R35: 1 | S35: =ROUND(F35*(R35),3) -> 0.036 | Z35: 0
B36: S/S10 | C36: 1116315000 | D36: Lak asfaltový ALP-PENETRAL alebo ekvivalent v sudoch | E36: t | F36: 0.24 | I36: =ROUND(F36*(G36+H36),2) -> 0 | J36: =ROUND(F36*(N36),2) -> 365.94 | K36: =ROUND(F36*(O36),2) -> 0 | M36: =ROUND(F36*(G36),2) -> 0 | N36: 1524.74 | P36: 1 | R36: 1 | S36: =ROUND(F36*(R36),3) -> 0.24 | Z36: 0
D37: IZOLÁCIE PROTI VODE A VLHKOSTI | H37: =ROUND((SUM(M31:M36))/1,2) -> 0 | I37: =ROUND((SUM(I31:I36))/1,2) -> 0 | L37: =ROUND((SUM(L31:L36))/1,2) -> 0 | M37: =ROUND((SUM(M31:M36))/1,2) -> 0 | P37: =ROUND((SUM(P31:P36))/1,2) -> 2 | S37: =ROUND((SUM(S31:S36))/1,2) -> 0.28
D39: ZTI-VNÚTORNÝ VODOVOD
B40: 721/A 2 | C40: 722130213 | D40: Potrubie z oceľ.rúr pozink.bezšvík.bežných-11 353.0, 10 004.0 zvarov. bežných-11 343.00 DN 25 | E40: m | F40: 3.5 | I40: =ROUND(F40*(G40+H40),2) -> 0 | J40: =ROUND(F40*(N40),2) -> 53.9 | K40: =ROUND(F40*(O40),2) -> 0 | L40: =ROUND(F40*(G40),2) -> 0 | N40: 15.4 | P40: 0.00314 | R40: 0.00314 | S40: =ROUND(F40*(R40),3) -> 0.011 | Z40: 0
B41: 721/A 2 | C41: 722190401 | D41: Vyvedenie a upevnenie výpustky DN 15 | E41: ks | F41: 1 | I41: =ROUND(F41*(G41+H41),2) -> 0 | J41: =ROUND(F41*(N41),2) -> 6.88 | K41: =ROUND(F41*(O41),2) -> 0 | L41: =ROUND(F41*(G41),2) -> 0 | N41: 6.88 | Z41: 0
B42: 721/A 2 | C42: 722190403 | D42: Vyvedenie a upevnenie výpustky DN 25 | E42: ks | F42: 1 | I42: =ROUND(F42*(G42+H42),2) -> 0 | J42: =ROUND(F42*(N42),2) -> 6.88 | K42: =ROUND(F42*(O42),2) -> 0 | L42: =ROUND(F42*(G42),2) -> 0 | N42: 6.88 | Z42: 0
B43: 721/A 2 | C43: 722290226 | D43: Tlaková skúška vodovodného potrubia závitového do DN 50 | E43: m | F43: 3.5 | I43: =ROUND(F43*(G43+H43),2) -> 0 | J43: =ROUND(F43*(N43),2) -> 4.97 | K43: =ROUND(F43*(O43),2) -> 0 | L43: =ROUND(F43*(G43),2) -> 0 | N43: 1.42 | P43: 0.00018 | R43: 0.00018 | S43: =ROUND(F43*(R43),3) -> 0.001 | Z43: 0
B44: 721/A 2 | C44: 722290234 | D44: Prepláchnutie a dezinfekcia vodovodného potrubia do DN 80 | E44: m | F44: 3.5 | I44: =ROUND(F44*(G44+H44),2) -> 0 | J44: =ROUND(F44*(N44),2) -> 3.43 | K44: =ROUND(F44*(O44),2) -> 0 | L44: =ROUND(F44*(G44),2) -> 0 | N44: 0.98 | P44: 1e-05 | R44: 1e-05 | S44: =ROUND(F44*(R44),3) -> 0 | Z44: 0
D45: ZTI-VNÚTORNÝ VODOVOD | H45: =ROUND((SUM(M39:M44))/1,2) -> 0 | I45: =ROUND((SUM(I39:I44))/1,2) -> 0 | L45: =ROUND((SUM(L39:L44))/1,2) -> 0 | M45: =ROUND((SUM(M39:M44))/1,2) -> 0 | P45: =ROUND((SUM(P39:P44))/1,2) -> 0 | S45: =ROUND((SUM(S39:S44))/1,2) -> 0.01
D47: ZTI-ZARIAĎOVACIE PREDMETY
B48: 642 | C48: 6420136190 | D48: Umývadielko keramické CUBITO-45 alebo ekvivalent, 450x340x145 mm, biela | E48: ks | F48: 1 | I48: =ROUND(F48*(G48+H48),2) -> 0 | J48: =ROUND(F48*(N48),2) -> 62 | K48: =ROUND(F48*(O48),2) -> 0 | L48: =ROUND(F48*(G48),2) -> 0 | N48: 62 | Z48: 0
B49: 721/A 5 | C49: 725119215 | D49: Montáž záchodovej misy volne stojacej s rovným odpadom | E49: ks | F49: 1 | I49: =ROUND(F49*(G49+H49),2) -> 0 | J49: =ROUND(F49*(N49),2) -> 27.45 | K49: =ROUND(F49*(O49),2) -> 0 | L49: =ROUND(F49*(G49),2) -> 0 | N49: 27.45 | P49: 0.00198125 | R49: 0.00198125 | S49: =ROUND(F49*(R49),3) -> 0.002 | Z49: 0
B50: 721/A 5 | C50: 725219201 | D50: Montáž umývadla na konzoly, bez výtokovej armatúry | E50: súb. | F50: 1 | I50: =ROUND(F50*(G50+H50),2) -> 0 | J50: =ROUND(F50*(N50),2) -> 30.22 | K50: =ROUND(F50*(O50),2) -> 0 | L50: =ROUND(F50*(G50),2) -> 0 | N50: 30.22 | P50: 0.00223 | R50: 0.00223 | S50: =ROUND(F50*(R50),3) -> 0.002 | Z50: 0
B51: 721/A 5 | C51: 725829201 | D51: Montáž batérie umývadlovej a drezovej nástennej pákovej, alebo klasickej | E51: ks | F51: 1 | I51: =ROUND(F51*(G51+H51),2) -> 0 | J51: =ROUND(F51*(N51),2) -> 7.7 | K51: =ROUND(F51*(O51),2) -> 0 | L51: =ROUND(F51*(G51),2) -> 0 | N51: 7.7 | P51: 0.00012 | R51: 0.00012 | S51: =ROUND(F51*(R51),3) -> 0 | Z51: 0
B52: 721/A 5 | C52: 998725102 | D52: Presun hmôt pre zariaďovacie predmety v objektoch výšky nad 6 do 12 m | E52: t | F52: 0.039 | I52: =ROUND(F52*(G52+H52),2) -> 0 | J52: =ROUND(F52*(N52),2) -> 0.9 | K52: =ROUND(F52*(O52),2) -> 0 | L52: =ROUND(F52*(G52),2) -> 0 | N52: 23.06 | Z52: 0
B53: S/S50 | C53: 5514671040 | D53: Drezová nástenná batéria LOGO NEO DN 15 379240575 alebo ekvivalent | E53: ks | F53: 1 | I53: =ROUND(F53*(G53+H53),2) -> 0 | J53: =ROUND(F53*(N53),2) -> 81 | K53: =ROUND(F53*(O53),2) -> 0 | M53: =ROUND(F53*(G53),2) -> 0 | N53: 81 | P53: 0.002 | R53: 0.002 | S53: =ROUND(F53*(R53),3) -> 0.002 | Z53: 0
B54: S/S90 | C54: 6423340000 | D54: Misa záchodová biela komplet V | E54: ks | F54: 1 | I54: =ROUND(F54*(G54+H54),2) -> 0 | J54: =ROUND(F54*(N54),2) -> 101.35 | K54: =ROUND(F54*(O54),2) -> 0 | M54: =ROUND(F54*(G54),2) -> 0 | N54: 101.35 | P54: 0.026 | R54: 0.026 | S54: =ROUND(F54*(R54),3) -> 0.026 | Z54: 0
D55: ZTI-ZARIAĎOVACIE PREDMETY | H55: =ROUND((SUM(M47:M54))/1,2) -> 0 | I55: =ROUND((SUM(I47:I54))/1,2) -> 0 | L55: =ROUND((SUM(L47:L54))/1,2) -> 0 | M55: =ROUND((SUM(M47:M54))/1,2) -> 0 | P55: =ROUND((SUM(P47:P54))/1,2) -> 0.03 | S55: =ROUND((SUM(S47:S54))/1,2) -> 0.03
D57: ÚSTREDNÉ VYKUROVANIE-ARMATÚRY
B58: 731/A 4 | C58: 734211111 | D58: Ventil odvzdušňovací závitový vykurovacích telies do G 3/8 | E58: ks | F58: 1 | I58: =ROUND(F58*(G58+H58),2) -> 0 | J58: =ROUND(F58*(N58),2) -> 2.17 | K58: =ROUND(F58*(O58),2) -> 0 | L58: =ROUND(F58*(G58),2) -> 0 | N58: 2.17 | P58: 0.00016 | R58: 0.00016 | S58: =ROUND(F58*(R58),3) -> 0 | Z58: 0
D59: ÚSTREDNÉ VYKUROVANIE-ARMATÚRY | H59: =ROUND((SUM(M57:M58))/1,2) -> 0 | I59: =ROUND((SUM(I57:I58))/1,2) -> 0 | L59: =ROUND((SUM(L57:L58))/1,2) -> 0 | M59: =ROUND((SUM(M57:M58))/1,2) -> 0 | P59: =ROUND((SUM(P57:P58))/1,2) -> 0 | S59: =ROUND((SUM(S57:S58))/1,2) -> 0
D61: ÚSTREDNÉ VYKUROVANIE-VYKUROVACIE TELESÁ
B62: 731/A 5 | C62: 735153211 | D62: Vykurovacie teleso panelové dvojradové typ P 90 typ 20 600mm 1, 620m2 D+M | E62: ks | F62: 1 | I62: =ROUND(F62*(G62+H62),2) -> 0 | J62: =ROUND(F62*(N62),2) -> 72.55 | K62: =ROUND(F62*(O62),2) -> 0 | L62: =ROUND(F62*(G62),2) -> 0 | N62: 72.55 | P62: 0.01704 | R62: 0.01704 | S62: =ROUND(F62*(R62),3) -> 0.017 | Z62: 0
D63: ÚSTREDNÉ VYKUROVANIE-VYKUROVACIE TELESÁ | H63: =ROUND((SUM(M61:M62))/1,2) -> 0 | I63: =ROUND((SUM(I61:I62))/1,2) -> 0 | L63: =ROUND((SUM(L61:L62))/1,2) -> 0 | M63: =ROUND((SUM(M61:M62))/1,2) -> 0 | P63: =ROUND((SUM(P61:P62))/1,2) -> 0.02 | S63: =ROUND((SUM(S61:S62))/1,2) -> 0.02
D65: DREVOSTAVBY
B66: 763 | C66: 763138262 | D66: Podhľad SDK Rigips, chodbový systém, lamela Gyptone Line 8 alebo ekvivalent | E66: m2 | F66: 3.64 | I66: =ROUND(F66*(G66+H66),2) -> 0 | J66: =ROUND(F66*(N66),2) -> 215.12 | K66: =ROUND(F66*(O66),2) -> 0 | L66: =ROUND(F66*(G66),2) -> 0 | N66: 59.1 | Z66: 0
B67: 763/A 2 | C67: 763147111 | D67: Obklad steny sadrokartónom RIGIPS alebo ekvivalent, hr.konštrukcie 25 mm,doska RB 12,5 mm | E67: m2 | F67: 24 | I67: =ROUND(F67*(G67+H67),2) -> 0 | J67: =ROUND(F67*(N67),2) -> 351.12 | K67: =ROUND(F67*(O67),2) -> 0 | L67: =ROUND(F67*(G67),2) -> 0 | N67: 14.63 | P67: 0.019033332 | R67: 0.019033332 | S67: =ROUND(F67*(R67),3) -> 0.457 | Z67: 0
B68: 763/A 2 | C68: 998763301 | D68: Presun hmôt pre sádrokartónové konštrukcie v objektoch výšky do 7 m | E68: t | F68: 0.455 | I68: =ROUND(F68*(G68+H68),2) -> 0 | J68: =ROUND(F68*(N68),2) -> 20.24 | K68: =ROUND(F68*(O68),2) -> 0 | L68: =ROUND(F68*(G68),2) -> 0 | N68: 44.49 | Z68: 0
D69: DREVOSTAVBY | H69: =ROUND((SUM(M65:M68))/1,2) -> 0 | I69: =ROUND((SUM(I65:I68))/1,2) -> 0 | L69: =ROUND((SUM(L65:L68))/1,2) -> 0 | M69: =ROUND((SUM(M65:M68))/1,2) -> 0 | P69: =ROUND((SUM(P65:P68))/1,2) -> 0.02 | S69: =ROUND((SUM(S65:S68))/1,2) -> 0.46
D71: PODLAHY A OBKLADY KERAMICKÉ-DLAŽBY
B72: 597 | C72: 5978651310 | D72: POOL alebo ekvivalent dlaždice, rozmer 197x197x7 mm, farba RAL 2408015 | E72: m2 | F72: 3.713 | I72: =ROUND(F72*(G72+H72),2) -> 0 | J72: =ROUND(F72*(N72),2) -> 56.07 | K72: =ROUND(F72*(O72),2) -> 0 | L72: =ROUND(F72*(G72),2) -> 0 | N72: 15.1 | Z72: 0
B73: 771 | C73: 771411001 | D73: Montáž soklíkov z obkladačiek do malty veľ. 65 x 250 mm | E73: m | F73: 8 | I73: =ROUND(F73*(G73+H73),2) -> 0 | J73: =ROUND(F73*(N73),2) -> 46.4 | K73: =ROUND(F73*(O73),2) -> 0 | L73: =ROUND(F73*(G73),2) -> 0 | N73: 5.8 | Z73: 0
B74: 771/A 1 | C74: 771571107 | D74: Montáž podláh z dlaždíc keramických do malty veľ. 200 x 200 mm | E74: m2 | F74: 3.64 | I74: =ROUND(F74*(G74+H74),2) -> 0 | J74: =ROUND(F74*(N74),2) -> 58.46 | K74: =ROUND(F74*(O74),2) -> 0 | L74: =ROUND(F74*(G74),2) -> 0 | N74: 16.06 | P74: 0.04327 | R74: 0.04327 | S74: =ROUND(F74*(R74),3) -> 0.158 | Z74: 0
B75: 771/A 1 | C75: 998771102 | D75: Presun hmôt pre podlahy z dlaždíc v objektoch výšky nad 6 do 12 m | E75: t | F75: 0.291 | I75: =ROUND(F75*(G75+H75),2) -> 0 | J75: =ROUND(F75*(N75),2) -> 5.56 | K75: =ROUND(F75*(O75),2) -> 0 | L75: =ROUND(F75*(G75),2) -> 0 | N75: 19.12 | Z75: 0
B76: S/S70 | C76: 5976409000 | D76: Dlaždice keramické s hladkým povrchom A 250x65x10 3 Ia | E76: m2 | F76: 0.133 | I76: =ROUND(F76*(G76+H76),2) -> 0 | J76: =ROUND(F76*(N76),2) -> 2.46 | K76: =ROUND(F76*(O76),2) -> 0 | M76: =ROUND(F76*(G76),2) -> 0 | N76: 18.5 | P76: 0.023 | R76: 0.023 | S76: =ROUND(F76*(R76),3) -> 0.003 | Z76: 0
D77: PODLAHY A OBKLADY KERAMICKÉ-DLAŽBY | H77: =ROUND((SUM(M71:M76))/1,2) -> 0 | I77: =ROUND((SUM(I71:I76))/1,2) -> 0 | L77: =ROUND((SUM(L71:L76))/1,2) -> 0 | M77: =ROUND((SUM(M71:M76))/1,2) -> 0 | P77: =ROUND((SUM(P71:P76))/1,2) -> 0.07 | S77: =ROUND((SUM(S71:S76))/1,2) -> 0.16
D79: PODLAHY A OBKLADY KERAMICKÉ-OBKLADY
B80: 597 | C80: 5978651230 | D80: COLOR ONE alebo ekvivalent obkladačka, rozmer 148x148x6 mm, farba RAL 0709010 | E80: m2 | F80: 24.48 | I80: =ROUND(F80*(G80+H80),2) -> 0 | J80: =ROUND(F80*(N80),2) -> 275.4 | K80: =ROUND(F80*(O80),2) -> 0 | L80: =ROUND(F80*(G80),2) -> 0 | N80: 11.25 | Z80: 0
B81: 771/A 2 | C81: 781441012 | D81: Montáž obkladov vnútor. stien z obkladačiek kladených do malty veľ. 150x150 mm | E81: m2 | F81: 24 | I81: =ROUND(F81*(G81+H81),2) -> 0 | J81: =ROUND(F81*(N81),2) -> 625.44 | K81: =ROUND(F81*(O81),2) -> 0 | L81: =ROUND(F81*(G81),2) -> 0 | N81: 26.06 | P81: 0.03897 | R81: 0.03897 | S81: =ROUND(F81*(R81),3) -> 0.935 | Z81: 0
B82: 771/A 2 | C82: 998781101 | D82: Presun hmôt pre obklady keramické v objektoch výšky do 6 m | E82: t | F82: 1.198 | I82: =ROUND(F82*(G82+H82),2) -> 0 | J82: =ROUND(F82*(N82),2) -> 23.04 | K82: =ROUND(F82*(O82),2) -> 0 | L82: =ROUND(F82*(G82),2) -> 0 | N82: 19.23 | Z82: 0
B83: S/S60 | C83: 5858400060 | D83: Škárovacia hmota na obklady a dlažby šedá, 5 kg vrece | E83: ks | F83: 1.02 | I83: =ROUND(F83*(G83+H83),2) -> 0 | J83: =ROUND(F83*(N83),2) -> 4.43 | K83: =ROUND(F83*(O83),2) -> 0 | M83: =ROUND(F83*(G83),2) -> 0 | N83: 4.34 | P83: 0.005 | R83: 0.005 | S83: =ROUND(F83*(R83),3) -> 0.005 | Z83: 0
D84: PODLAHY A OBKLADY KERAMICKÉ-OBKLADY | I84: =ROUND((SUM(I79:I83))/1,2) -> 0 | L84: =ROUND((SUM(L79:L83))/1,2) -> 0 | M84: =ROUND((SUM(M79:M83))/1,2) -> 0 | S84: =ROUND((SUM(S79:S83))/1,2) -> 0.94 | V84: =ROUND((SUM(V79:V83))/1,2) -> 0
D86: Práce PSV | H86: =ROUND((SUM(M30:M85))/2,2) -> 0 | I86: =ROUND((SUM(I30:I85))/2,2) -> 0 | L86: =ROUND((SUM(L30:L85))/2,2) -> 0 | M86: =ROUND((SUM(M30:M85))/2,2) -> 0 | S86: =ROUND((SUM(S30:S85))/2,2) -> 1.9 | V86: =ROUND((SUM(V30:V85))/2,2) -> 0
D87: Celkom v EUR | H87: =ROUND((SUM(M9:M86))/3,2) -> 0 | I87: =ROUND((SUM(I9:I86))/3,2) -> 0 | K87: =ROUND((SUM(K9:K86))/3,2) -> 0 | L87: =ROUND((SUM(L9:L86))/3,2) -> 0 | M87: =ROUND((SUM(M9:M86))/3,2) -> 0 | S87: =ROUND((SUM(S9:S86))/3,2) -> 2.91 | V87: =ROUND((SUM(V9:V86))/3,2) -> 0 | Z87: =(SUM(Z9:Z86)) -> 0
